{"text_format":"1","workbook":"xlsx","n_sheets":11,"sheets":["Cockpit","Input","Diagram","Example 01","Example 02","Example 03","Example 04","Example 05","Example 06","Example 07","16040701_MTM_0071"],"not_rendered":{"charts":3,"images":0,"macros":1,"external_links":0,"defined_names":55,"comments":1,"pivot_tables":0},"unopened":[{"sheet":"Diagram","index":2,"reason":"not_a_worksheet"}],"bounds":{"document_bytes":16777216,"sheet_cells":100000,"rows_first":2000,"rows_last":500,"rows_between":2000,"halvings":0,"cell_chars":16384,"cell_head_chars":4096},"cells_cut":0,"cells_raw":0,"read":"whole","date_system":"1900"}

{"sheet":"Cockpit","index":0,"n_rows":20,"n_cols":12,"rows_kept":20,"cut":false,"hidden":false,"merged":[]}
[null,null,null,null,null,"Fit"]
["P0",{"$f":"Input!B2","v":0.1027},null,null,"PIce",0.10421153768433711,{"$f":"Pice/K2","v":7.8174725369619946E-2},null,null,null,{"$f":"1013.125/760","v":1.3330592105263157}]
["Jshelf",-0.01,{"$f":"T3.1+K3","v":273.14},null,"K1",0.35001474112080544,null,null,null,null,273.14999999999998]
["N",61,null,null,"K2",2.4699927755951692E-5]
["DVial",22,{"$f":"B5/10","v":2.2000000000000002}]
["Vial thickness",1,{"$f":"B6/10","v":0.1},null,"RMS",{"$f":"Input!H1*100","v":21.189114223687643}]
["Ap",{"$f":"(C5/2-C6)^2*PI()","v":3.1415926535897931}]
["Vchamber",56,{"$f":"V/1000","v":5.6000000000000001E-2},null,"TIce",{"$f":"6145/(24.305-LN(Pice))-K3","v":-41.842196549240526}]
["Filling height",8,{"$f":"B9/10","v":0.8},null,"Tshelf",{"$f":"T3.1","v":-0.01}]
[]
[null,null,null,null,"Rp",{"$f":"_Kon1*3600*18*V/N/Ap/46.74","v":141.8015416503921},null,null,null,"Leak rate",5.0000000000000001E-3]
[null,null,null,null,"EX",{"$f":"_Kon2","v":2.4699927755951692E-5},null,null,null,null,{"$f":"K11/V","v":8.9285714285714286E-5},{"$f":"K12/K2","v":6.6978055873799248E-5}]
[null,null,null,null,null,null,null,null,null,null,{"$f":"K12*B19","v":695828.57142857148}]
["Filling",3]
["Concentration",0.05]
["Solid Content",{"$f":"N*B14*B15","v":9.15},{"$f":"B16/1000","v":9.1500000000000001E-3}]
[]
["Pressure Rise",{"$f":"MAX(Input!B:B)-Input!B2","v":3.9200000000000068E-3},{"$f":"B18*1000","v":3.920000000000007}]
["Dt",{"$f":"(MAX(Input!A:A)-Input!A2)*24*3600","v":7793280000}]
["ER",{"$f":"C18*C8*0.7803/B19/C3/C16","v":8.7944568378945287E-12}]

{"sheet":"Input","index":1,"n_rows":904,"n_cols":8,"rows_kept":904,"cut":false,"hidden":false,"merged":[]}
["Time","PChamber","Tice","t","p(t),model","p(TIce)",null,{"$f":"SUM(H2:H1000)","v":0.21189114223687644}]
[0,0.1027,{"$f":"Cockpit!F$8","v":-41.842196549240526},{"$f":"A2/1000","v":0},{"$f":"Pice-(Pice-p0)*EXP(-D2*_Kon1*Cockpit!$C$3)+_Kon2*D2","v":0.1027},{"$f":"EXP(24.30592-6144.96/(C2+273.15))","v":0.10432549583666832},null,{"$f":"SQRT((E2-B2)^2)","v":0}]
[100,0.1027,{"$f":"Cockpit!F$8","v":-41.842196549240526},{"$f":"A3/1000","v":0.1},{"$f":"Pice-(Pice-p0)*EXP(-D3*_Kon1*Cockpit!$C$3)+_Kon2*D3","v":0.10421390115683311},{"$f":"EXP(24.30592-6144.96/(C3+273.15))","v":0.10432549583666832},null,{"$f":"SQRT((E3-B3)^2)","v":1.513901156833114E-3}]
[200,0.1027,{"$f":"Cockpit!F$8","v":-41.842196549240526},0.2,{"$f":"Pice-(Pice-p0)*EXP(-D4*_Kon1*Cockpit!$C$3)+_Kon2*D4","v":0.10421647766238167},0.10432549583666832,null,1.5164776623816656E-3]
[300,0.1027,{"$f":"Cockpit!F$8","v":-41.842196549240526},0.3,{"$f":"Pice-(Pice-p0)*EXP(-D5*_Kon1*Cockpit!$C$3)+_Kon2*D5","v":0.10421894766266336},0.10432549583666832,null,1.5189476626633613E-3]
[400,0.1027,{"$f":"Cockpit!F$8","v":-41.842196549240526},0.4,{"$f":"Pice-(Pice-p0)*EXP(-D6*_Kon1*Cockpit!$C$3)+_Kon2*D6","v":0.10422141765543949},0.10432549583666832,null,1.5214176554394915E-3]
[500,0.10294,{"$f":"Cockpit!F$8","v":-41.842196549240526},0.5,{"$f":"Pice-(Pice-p0)*EXP(-D7*_Kon1*Cockpit!$C$3)+_Kon2*D7","v":0.10422388764821508},0.10432549583666832,null,1.2838876482150763E-3]
[600,0.10294,{"$f":"Cockpit!F$8","v":-41.842196549240526},0.6,{"$f":"Pice-(Pice-p0)*EXP(-D8*_Kon1*Cockpit!$C$3)+_Kon2*D8","v":0.10422635764099068},0.10432549583666832,null,1.2863576409906791E-3]
[700,0.10319,{"$f":"Cockpit!F$8","v":-41.842196549240526},0.7,{"$f":"Pice-(Pice-p0)*EXP(-D9*_Kon1*Cockpit!$C$3)+_Kon2*D9","v":0.10422882763376627},0.10432549583666832,null,1.0388276337662677E-3]
[800,0.10342999999999999,{"$f":"Cockpit!F$8","v":-41.842196549240526},0.8,{"$f":"Pice-(Pice-p0)*EXP(-D10*_Kon1*Cockpit!$C$3)+_Kon2*D10","v":0.10423129762654187},0.10432549583666832,null,8.012976265418803E-4]
[900,0.10342999999999999,{"$f":"Cockpit!F$8","v":-41.842196549240526},0.9,{"$f":"Pice-(Pice-p0)*EXP(-D11*_Kon1*Cockpit!$C$3)+_Kon2*D11","v":0.10423376761931746},0.10432549583666832,null,8.0376761931746921E-4]
[1000,0.10342999999999999,{"$f":"Cockpit!F$8","v":-41.842196549240526},1,{"$f":"Pice-(Pice-p0)*EXP(-D12*_Kon1*Cockpit!$C$3)+_Kon2*D12","v":0.10423623761209307},0.10432549583666832,null,8.0623761209307199E-4]
[1100,0.10342999999999999,{"$f":"Cockpit!F$8","v":-41.842196549240526},1.1000000000000001,{"$f":"Pice-(Pice-p0)*EXP(-D13*_Kon1*Cockpit!$C$3)+_Kon2*D13","v":0.10423870760486866},0.10432549583666832,null,8.0870760486866089E-4]
[1200,0.10342999999999999,{"$f":"Cockpit!F$8","v":-41.842196549240526},1.2,{"$f":"Pice-(Pice-p0)*EXP(-D14*_Kon1*Cockpit!$C$3)+_Kon2*D14","v":0.10424117759764424},0.10432549583666832,null,8.1117759764424979E-4]
[1300,0.10319,{"$f":"Cockpit!F$8","v":-41.842196549240526},1.3,{"$f":"Pice-(Pice-p0)*EXP(-D15*_Kon1*Cockpit!$C$3)+_Kon2*D15","v":0.10424364759041985},0.10432549583666832,null,1.0536475904198428E-3]
[1400,0.10319,{"$f":"Cockpit!F$8","v":-41.842196549240526},1.4,{"$f":"Pice-(Pice-p0)*EXP(-D16*_Kon1*Cockpit!$C$3)+_Kon2*D16","v":0.10424611758319544},0.10432549583666832,null,1.0561175831954317E-3]
[1500,0.10319,{"$f":"Cockpit!F$8","v":-41.842196549240526},1.5,{"$f":"Pice-(Pice-p0)*EXP(-D17*_Kon1*Cockpit!$C$3)+_Kon2*D17","v":0.10424858757597104},0.10432549583666832,null,1.0585875759710345E-3]
[1600,0.10319,{"$f":"Cockpit!F$8","v":-41.842196549240526},1.6,{"$f":"Pice-(Pice-p0)*EXP(-D18*_Kon1*Cockpit!$C$3)+_Kon2*D18","v":0.10425105756874663},0.10432549583666832,null,1.0610575687466234E-3]
[1700,0.10319,{"$f":"Cockpit!F$8","v":-41.842196549240526},1.7,{"$f":"Pice-(Pice-p0)*EXP(-D19*_Kon1*Cockpit!$C$3)+_Kon2*D19","v":0.10425352756152223},0.10432549583666832,null,1.0635275615222262E-3]
[1800,0.10319,{"$f":"Cockpit!F$8","v":-41.842196549240526},1.8,{"$f":"Pice-(Pice-p0)*EXP(-D20*_Kon1*Cockpit!$C$3)+_Kon2*D20","v":0.10425599755429782},0.10432549583666832,null,1.0659975542978151E-3]
[1900,0.10342999999999999,{"$f":"Cockpit!F$8","v":-41.842196549240526},1.9,{"$f":"Pice-(Pice-p0)*EXP(-D21*_Kon1*Cockpit!$C$3)+_Kon2*D21","v":0.10425846754707342},0.10432549583666832,null,8.2846754707342762E-4]
[2000,0.10342999999999999,{"$f":"Cockpit!F$8","v":-41.842196549240526},2,{"$f":"Pice-(Pice-p0)*EXP(-D22*_Kon1*Cockpit!$C$3)+_Kon2*D22","v":0.10426093753984901},0.10432549583666832,null,8.3093753984901653E-4]
[2100,0.10342999999999999,{"$f":"Cockpit!F$8","v":-41.842196549240526},2.1,{"$f":"Pice-(Pice-p0)*EXP(-D23*_Kon1*Cockpit!$C$3)+_Kon2*D23","v":0.1042634075326246},0.10432549583666832,null,8.3340753262460543E-4]
[2200,0.10342999999999999,{"$f":"Cockpit!F$8","v":-41.842196549240526},2.2000000000000002,{"$f":"Pice-(Pice-p0)*EXP(-D24*_Kon1*Cockpit!$C$3)+_Kon2*D24","v":0.1042658775254002},0.10432549583666832,null,8.3587752540020821E-4]
[2300,0.10367999999999999,{"$f":"Cockpit!F$8","v":-41.842196549240526},2.2999999999999998,{"$f":"Pice-(Pice-p0)*EXP(-D25*_Kon1*Cockpit!$C$3)+_Kon2*D25","v":0.10426834751817579},0.10432549583666832,null,5.8834751817579689E-4]
[2400,0.10367999999999999,{"$f":"Cockpit!F$8","v":-41.842196549240526},2.4,{"$f":"Pice-(Pice-p0)*EXP(-D26*_Kon1*Cockpit!$C$3)+_Kon2*D26","v":0.10427081751095139},0.10432549583666832,null,5.9081751095139967E-4]
[2500,0.10367999999999999,{"$f":"Cockpit!F$8","v":-41.842196549240526},2.5,{"$f":"Pice-(Pice-p0)*EXP(-D27*_Kon1*Cockpit!$C$3)+_Kon2*D27","v":0.10427328750372698},0.10432549583666832,null,5.9328750372698857E-4]
[2600,0.10367999999999999,{"$f":"Cockpit!F$8","v":-41.842196549240526},2.6,{"$f":"Pice-(Pice-p0)*EXP(-D28*_Kon1*Cockpit!$C$3)+_Kon2*D28","v":0.10427575749650259},0.10432549583666832,null,5.9575749650259135E-4]
[2700,0.10367999999999999,{"$f":"Cockpit!F$8","v":-41.842196549240526},2.7,{"$f":"Pice-(Pice-p0)*EXP(-D29*_Kon1*Cockpit!$C$3)+_Kon2*D29","v":0.10427822748927817},0.10432549583666832,null,5.9822748927818026E-4]
[2800,0.10342999999999999,{"$f":"Cockpit!F$8","v":-41.842196549240526},2.8,{"$f":"Pice-(Pice-p0)*EXP(-D30*_Kon1*Cockpit!$C$3)+_Kon2*D30","v":0.10428069748205378},0.10432549583666832,null,8.5069748205378326E-4]
[2900,0.10342999999999999,{"$f":"Cockpit!F$8","v":-41.842196549240526},2.9,{"$f":"Pice-(Pice-p0)*EXP(-D31*_Kon1*Cockpit!$C$3)+_Kon2*D31","v":0.10428316747482937},0.10432549583666832,null,8.5316747482937216E-4]
[3000,0.10367999999999999,{"$f":"Cockpit!F$8","v":-41.842196549240526},3,{"$f":"Pice-(Pice-p0)*EXP(-D32*_Kon1*Cockpit!$C$3)+_Kon2*D32","v":0.10428563746760497},0.10432549583666832,null,6.0563746760497472E-4]
[3100,0.10367999999999999,{"$f":"Cockpit!F$8","v":-41.842196549240526},3.1,{"$f":"Pice-(Pice-p0)*EXP(-D33*_Kon1*Cockpit!$C$3)+_Kon2*D33","v":0.10428810746038056},0.10432549583666832,null,6.0810746038056362E-4]
[3200,0.10367999999999999,{"$f":"Cockpit!F$8","v":-41.842196549240526},3.2,{"$f":"Pice-(Pice-p0)*EXP(-D34*_Kon1*Cockpit!$C$3)+_Kon2*D34","v":0.10429057745315615},0.10432549583666832,null,6.1057745315615253E-4]
[3300,0.10342999999999999,{"$f":"Cockpit!F$8","v":-41.842196549240526},3.3,{"$f":"Pice-(Pice-p0)*EXP(-D35*_Kon1*Cockpit!$C$3)+_Kon2*D35","v":0.10429304744593175},0.10432549583666832,null,8.6304744593175553E-4]
[3400,0.10342999999999999,{"$f":"Cockpit!F$8","v":-41.842196549240526},3.4,{"$f":"Pice-(Pice-p0)*EXP(-D36*_Kon1*Cockpit!$C$3)+_Kon2*D36","v":0.10429551743870734},0.10432549583666832,null,8.6551743870734443E-4]
[3500,0.10342999999999999,{"$f":"Cockpit!F$8","v":-41.842196549240526},3.5,{"$f":"Pice-(Pice-p0)*EXP(-D37*_Kon1*Cockpit!$C$3)+_Kon2*D37","v":0.10429798743148294},0.10432549583666832,null,8.6798743148294721E-4]
[3600,0.10342999999999999,{"$f":"Cockpit!F$8","v":-41.842196549240526},3.6,{"$f":"Pice-(Pice-p0)*EXP(-D38*_Kon1*Cockpit!$C$3)+_Kon2*D38","v":0.10430045742425853},0.10432549583666832,null,8.7045742425853612E-4]
[3700,0.10342999999999999,{"$f":"Cockpit!F$8","v":-41.842196549240526},3.7,{"$f":"Pice-(Pice-p0)*EXP(-D39*_Kon1*Cockpit!$C$3)+_Kon2*D39","v":0.10430292741703413},0.10432549583666832,null,8.729274170341389E-4]
[3800,0.10342999999999999,{"$f":"Cockpit!F$8","v":-41.842196549240526},3.8,{"$f":"Pice-(Pice-p0)*EXP(-D40*_Kon1*Cockpit!$C$3)+_Kon2*D40","v":0.10430539740980972},0.10432549583666832,null,8.753974098097278E-4]
[3900,0.10342999999999999,{"$f":"Cockpit!F$8","v":-41.842196549240526},3.9,{"$f":"Pice-(Pice-p0)*EXP(-D41*_Kon1*Cockpit!$C$3)+_Kon2*D41","v":0.10430786740258532},0.10432549583666832,null,8.7786740258533058E-4]
[4000,0.10342999999999999,{"$f":"Cockpit!F$8","v":-41.842196549240526},4,{"$f":"Pice-(Pice-p0)*EXP(-D42*_Kon1*Cockpit!$C$3)+_Kon2*D42","v":0.10431033739536091},0.10432549583666832,null,8.8033739536091948E-4]
[4100,0.10342999999999999,{"$f":"Cockpit!F$8","v":-41.842196549240526},4.0999999999999996,{"$f":"Pice-(Pice-p0)*EXP(-D43*_Kon1*Cockpit!$C$3)+_Kon2*D43","v":0.10431280738813652},0.10432549583666832,null,8.8280738813652226E-4]
[4200,0.10342999999999999,{"$f":"Cockpit!F$8","v":-41.842196549240526},4.2,{"$f":"Pice-(Pice-p0)*EXP(-D44*_Kon1*Cockpit!$C$3)+_Kon2*D44","v":0.10431527738091211},0.10432549583666832,null,8.8527738091211117E-4]
[4300,0.10342999999999999,{"$f":"Cockpit!F$8","v":-41.842196549240526},4.3,{"$f":"Pice-(Pice-p0)*EXP(-D45*_Kon1*Cockpit!$C$3)+_Kon2*D45","v":0.10431774737368769},0.10432549583666832,null,8.8774737368770007E-4]
[4400,0.10342999999999999,{"$f":"Cockpit!F$8","v":-41.842196549240526},4.4000000000000004,{"$f":"Pice-(Pice-p0)*EXP(-D46*_Kon1*Cockpit!$C$3)+_Kon2*D46","v":0.1043202173664633},0.10432549583666832,null,8.9021736646330285E-4]
[4500,0.10342999999999999,{"$f":"Cockpit!F$8","v":-41.842196549240526},4.5,{"$f":"Pice-(Pice-p0)*EXP(-D47*_Kon1*Cockpit!$C$3)+_Kon2*D47","v":0.10432268735923889},0.10432549583666832,null,8.9268735923889175E-4]
[4600,0.10342999999999999,{"$f":"Cockpit!F$8","v":-41.842196549240526},4.5999999999999996,{"$f":"Pice-(Pice-p0)*EXP(-D48*_Kon1*Cockpit!$C$3)+_Kon2*D48","v":0.10432515735201449},0.10432549583666832,null,8.9515735201449453E-4]
[4700,0.10342999999999999,{"$f":"Cockpit!F$8","v":-41.842196549240526},4.7,{"$f":"Pice-(Pice-p0)*EXP(-D49*_Kon1*Cockpit!$C$3)+_Kon2*D49","v":0.10432762734479008},0.10432549583666832,null,8.9762734479008344E-4]
[4800,0.10342999999999999,{"$f":"Cockpit!F$8","v":-41.842196549240526},4.8,{"$f":"Pice-(Pice-p0)*EXP(-D50*_Kon1*Cockpit!$C$3)+_Kon2*D50","v":0.10433009733756568},0.10432549583666832,null,9.0009733756568622E-4]
[4900,0.10342999999999999,{"$f":"Cockpit!F$8","v":-41.842196549240526},4.9000000000000004,{"$f":"Pice-(Pice-p0)*EXP(-D51*_Kon1*Cockpit!$C$3)+_Kon2*D51","v":0.10433256733034127},0.10432549583666832,null,9.0256733034127512E-4]
[5000,0.10342999999999999,{"$f":"Cockpit!F$8","v":-41.842196549240526},5,{"$f":"Pice-(Pice-p0)*EXP(-D52*_Kon1*Cockpit!$C$3)+_Kon2*D52","v":0.10433503732311687},0.10432549583666832,null,9.050373231168779E-4]
[5100,0.10342999999999999,{"$f":"Cockpit!F$8","v":-41.842196549240526},5.0999999999999996,{"$f":"Pice-(Pice-p0)*EXP(-D53*_Kon1*Cockpit!$C$3)+_Kon2*D53","v":0.10433750731589246},0.10432549583666832,null,9.075073158924668E-4]
[5200,0.10342999999999999,{"$f":"Cockpit!F$8","v":-41.842196549240526},5.2,{"$f":"Pice-(Pice-p0)*EXP(-D54*_Kon1*Cockpit!$C$3)+_Kon2*D54","v":0.10433997730866805},0.10432549583666832,null,9.0997730866805571E-4]
[5300,0.10342999999999999,{"$f":"Cockpit!F$8","v":-41.842196549240526},5.3,{"$f":"Pice-(Pice-p0)*EXP(-D55*_Kon1*Cockpit!$C$3)+_Kon2*D55","v":0.10434244730144365},0.10432549583666832,null,9.1244730144365849E-4]
[5400,0.10342999999999999,{"$f":"Cockpit!F$8","v":-41.842196549240526},5.4,{"$f":"Pice-(Pice-p0)*EXP(-D56*_Kon1*Cockpit!$C$3)+_Kon2*D56","v":0.10434491729421924},0.10432549583666832,null,9.1491729421924739E-4]
[5500,0.10367999999999999,{"$f":"Cockpit!F$8","v":-41.842196549240526},5.5,{"$f":"Pice-(Pice-p0)*EXP(-D57*_Kon1*Cockpit!$C$3)+_Kon2*D57","v":0.10434738728699484},0.10432549583666832,null,6.6738728699484995E-4]
[5600,0.10367999999999999,{"$f":"Cockpit!F$8","v":-41.842196549240526},5.6,{"$f":"Pice-(Pice-p0)*EXP(-D58*_Kon1*Cockpit!$C$3)+_Kon2*D58","v":0.10434985727977043},0.10432549583666832,null,6.6985727977043885E-4]
[5700,0.10367999999999999,{"$f":"Cockpit!F$8","v":-41.842196549240526},5.7,{"$f":"Pice-(Pice-p0)*EXP(-D59*_Kon1*Cockpit!$C$3)+_Kon2*D59","v":0.10435232727254604},0.10432549583666832,null,6.7232727254604163E-4]
[5800,0.10367999999999999,{"$f":"Cockpit!F$8","v":-41.842196549240526},5.8,{"$f":"Pice-(Pice-p0)*EXP(-D60*_Kon1*Cockpit!$C$3)+_Kon2*D60","v":0.10435479726532162},0.10432549583666832,null,6.7479726532163053E-4]
[5900,0.10367999999999999,{"$f":"Cockpit!F$8","v":-41.842196549240526},5.9,{"$f":"Pice-(Pice-p0)*EXP(-D61*_Kon1*Cockpit!$C$3)+_Kon2*D61","v":0.10435726725809723},0.10432549583666832,null,6.7726725809723332E-4]
[6000,0.10367999999999999,{"$f":"Cockpit!F$8","v":-41.842196549240526},6,{"$f":"Pice-(Pice-p0)*EXP(-D62*_Kon1*Cockpit!$C$3)+_Kon2*D62","v":0.10435973725087282},0.10432549583666832,null,6.7973725087282222E-4]
[6100,0.10367999999999999,{"$f":"Cockpit!F$8","v":-41.842196549240526},6.1,{"$f":"Pice-(Pice-p0)*EXP(-D63*_Kon1*Cockpit!$C$3)+_Kon2*D63","v":0.10436220724364842},0.10432549583666832,null,6.82207243648425E-4]
[6200,0.10367999999999999,{"$f":"Cockpit!F$8","v":-41.842196549240526},6.2,{"$f":"Pice-(Pice-p0)*EXP(-D64*_Kon1*Cockpit!$C$3)+_Kon2*D64","v":0.10436467723642401},0.10432549583666832,null,6.846772364240139E-4]
[6300,0.10367999999999999,{"$f":"Cockpit!F$8","v":-41.842196549240526},6.3,{"$f":"Pice-(Pice-p0)*EXP(-D65*_Kon1*Cockpit!$C$3)+_Kon2*D65","v":0.1043671472291996},0.10432549583666832,null,6.871472291996028E-4]
[6400,0.10392,{"$f":"Cockpit!F$8","v":-41.842196549240526},6.4,{"$f":"Pice-(Pice-p0)*EXP(-D66*_Kon1*Cockpit!$C$3)+_Kon2*D66","v":0.1043696172219752},0.10432549583666832,null,4.4961722197520149E-4]
[6500,0.10392,{"$f":"Cockpit!F$8","v":-41.842196549240526},{"$f":"A67/1000","v":6.5},{"$f":"Pice-(Pice-p0)*EXP(-D67*_Kon1*Cockpit!$C$3)+_Kon2*D67","v":0.10437208721475079},{"$f":"EXP(24.30592-6144.96/(C67+273.15))","v":0.10432549583666832},null,{"$f":"SQRT((E67-B67)^2)","v":4.5208721475079039E-4}]
[6600,0.10392,{"$f":"Cockpit!F$8","v":-41.842196549240526},6.6,{"$f":"Pice-(Pice-p0)*EXP(-D68*_Kon1*Cockpit!$C$3)+_Kon2*D68","v":0.10437455720752639},0.10432549583666832,null,4.5455720752639317E-4]
[6700,0.10392,{"$f":"Cockpit!F$8","v":-41.842196549240526},6.7,{"$f":"Pice-(Pice-p0)*EXP(-D69*_Kon1*Cockpit!$C$3)+_Kon2*D69","v":0.10437702720030198},0.10432549583666832,null,4.5702720030198207E-4]
[6800,0.10392,{"$f":"Cockpit!F$8","v":-41.842196549240526},6.8,{"$f":"Pice-(Pice-p0)*EXP(-D70*_Kon1*Cockpit!$C$3)+_Kon2*D70","v":0.10437949719307758},0.10432549583666832,null,4.5949719307758485E-4]
[6900,0.10417,{"$f":"Cockpit!F$8","v":-41.842196549240526},6.9,{"$f":"Pice-(Pice-p0)*EXP(-D71*_Kon1*Cockpit!$C$3)+_Kon2*D71","v":0.10438196718585317},0.10432549583666832,null,2.1196718585317353E-4]
[7000,0.10417,{"$f":"Cockpit!F$8","v":-41.842196549240526},7,{"$f":"Pice-(Pice-p0)*EXP(-D72*_Kon1*Cockpit!$C$3)+_Kon2*D72","v":0.10438443717862878},0.10432549583666832,null,2.1443717862877631E-4]
[7100,0.10392,{"$f":"Cockpit!F$8","v":-41.842196549240526},7.1,{"$f":"Pice-(Pice-p0)*EXP(-D73*_Kon1*Cockpit!$C$3)+_Kon2*D73","v":0.10438690717140436},0.10432549583666832,null,4.6690717140436544E-4]
[7200,0.10392,{"$f":"Cockpit!F$8","v":-41.842196549240526},7.2,{"$f":"Pice-(Pice-p0)*EXP(-D74*_Kon1*Cockpit!$C$3)+_Kon2*D74","v":0.10438937716417997},0.10432549583666832,null,4.6937716417996822E-4]
[7300,0.10367999999999999,{"$f":"Cockpit!F$8","v":-41.842196549240526},7.3,{"$f":"Pice-(Pice-p0)*EXP(-D75*_Kon1*Cockpit!$C$3)+_Kon2*D75","v":0.10439184715695556},0.10432549583666832,null,7.1184715695556122E-4]
[7400,0.10367999999999999,{"$f":"Cockpit!F$8","v":-41.842196549240526},7.4,{"$f":"Pice-(Pice-p0)*EXP(-D76*_Kon1*Cockpit!$C$3)+_Kon2*D76","v":0.10439431714973114},0.10432549583666832,null,7.1431714973115013E-4]
[7500,0.10367999999999999,{"$f":"Cockpit!F$8","v":-41.842196549240526},7.5,{"$f":"Pice-(Pice-p0)*EXP(-D77*_Kon1*Cockpit!$C$3)+_Kon2*D77","v":0.10439678714250675},0.10432549583666832,null,7.1678714250675291E-4]
[7600,0.10367999999999999,{"$f":"Cockpit!F$8","v":-41.842196549240526},7.6,{"$f":"Pice-(Pice-p0)*EXP(-D78*_Kon1*Cockpit!$C$3)+_Kon2*D78","v":0.10439925713528234},0.10432549583666832,null,7.1925713528234181E-4]
[7700,0.10367999999999999,{"$f":"Cockpit!F$8","v":-41.842196549240526},7.7,{"$f":"Pice-(Pice-p0)*EXP(-D79*_Kon1*Cockpit!$C$3)+_Kon2*D79","v":0.10440172712805794},0.10432549583666832,null,7.2172712805794459E-4]
[7800,0.10392,{"$f":"Cockpit!F$8","v":-41.842196549240526},7.8,{"$f":"Pice-(Pice-p0)*EXP(-D80*_Kon1*Cockpit!$C$3)+_Kon2*D80","v":0.10440419712083353},0.10432549583666832,null,4.8419712083352939E-4]
[7900,0.10392,{"$f":"Cockpit!F$8","v":-41.842196549240526},7.9,{"$f":"Pice-(Pice-p0)*EXP(-D81*_Kon1*Cockpit!$C$3)+_Kon2*D81","v":0.10440666711360913},0.10432549583666832,null,4.8666711360913217E-4]
[8000,0.10392,{"$f":"Cockpit!F$8","v":-41.842196549240526},8,{"$f":"Pice-(Pice-p0)*EXP(-D82*_Kon1*Cockpit!$C$3)+_Kon2*D82","v":0.10440913710638472},0.10432549583666832,null,4.8913710638472108E-4]
[8100,0.10417,{"$f":"Cockpit!F$8","v":-41.842196549240526},8.1,{"$f":"Pice-(Pice-p0)*EXP(-D83*_Kon1*Cockpit!$C$3)+_Kon2*D83","v":0.10441160709916032},0.10432549583666832,null,2.4160709916032364E-4]
[8200,0.10417,{"$f":"Cockpit!F$8","v":-41.842196549240526},8.1999999999999993,{"$f":"Pice-(Pice-p0)*EXP(-D84*_Kon1*Cockpit!$C$3)+_Kon2*D84","v":0.10441407709193591},0.10432549583666832,null,2.4407709193591254E-4]
[8300,0.10417,{"$f":"Cockpit!F$8","v":-41.842196549240526},8.3000000000000007,{"$f":"Pice-(Pice-p0)*EXP(-D85*_Kon1*Cockpit!$C$3)+_Kon2*D85","v":0.1044165470847115},0.10432549583666832,null,2.4654708471150144E-4]
[8400,0.10417,{"$f":"Cockpit!F$8","v":-41.842196549240526},8.4,{"$f":"Pice-(Pice-p0)*EXP(-D86*_Kon1*Cockpit!$C$3)+_Kon2*D86","v":0.1044190170774871},0.10432549583666832,null,2.4901707748710422E-4]
[8500,0.10417,{"$f":"Cockpit!F$8","v":-41.842196549240526},8.5,{"$f":"Pice-(Pice-p0)*EXP(-D87*_Kon1*Cockpit!$C$3)+_Kon2*D87","v":0.10442148707026269},0.10432549583666832,null,2.5148707026269312E-4]
[8600,0.10417,{"$f":"Cockpit!F$8","v":-41.842196549240526},8.6,{"$f":"Pice-(Pice-p0)*EXP(-D88*_Kon1*Cockpit!$C$3)+_Kon2*D88","v":0.10442395706303829},0.10432549583666832,null,2.539570630382959E-4]
[8700,0.10417,{"$f":"Cockpit!F$8","v":-41.842196549240526},8.6999999999999993,{"$f":"Pice-(Pice-p0)*EXP(-D89*_Kon1*Cockpit!$C$3)+_Kon2*D89","v":0.10442642705581388},0.10432549583666832,null,2.5642705581388481E-4]
[8800,0.10417,{"$f":"Cockpit!F$8","v":-41.842196549240526},8.8000000000000007,{"$f":"Pice-(Pice-p0)*EXP(-D90*_Kon1*Cockpit!$C$3)+_Kon2*D90","v":0.10442889704858949},0.10432549583666832,null,2.5889704858948759E-4]
[8900,0.10417,{"$f":"Cockpit!F$8","v":-41.842196549240526},8.9,{"$f":"Pice-(Pice-p0)*EXP(-D91*_Kon1*Cockpit!$C$3)+_Kon2*D91","v":0.10443136704136508},0.10432549583666832,null,2.6136704136507649E-4]
[9000,0.10417,{"$f":"Cockpit!F$8","v":-41.842196549240526},9,{"$f":"Pice-(Pice-p0)*EXP(-D92*_Kon1*Cockpit!$C$3)+_Kon2*D92","v":0.10443383703414068},0.10432549583666832,null,2.6383703414067927E-4]
[9100,0.10417,{"$f":"Cockpit!F$8","v":-41.842196549240526},9.1,{"$f":"Pice-(Pice-p0)*EXP(-D93*_Kon1*Cockpit!$C$3)+_Kon2*D93","v":0.10443630702691627},0.10432549583666832,null,2.6630702691626817E-4]
[9200,0.10417,{"$f":"Cockpit!F$8","v":-41.842196549240526},9.1999999999999993,{"$f":"Pice-(Pice-p0)*EXP(-D94*_Kon1*Cockpit!$C$3)+_Kon2*D94","v":0.10443877701969187},0.10432549583666832,null,2.6877701969187096E-4]
[9300,0.10417,{"$f":"Cockpit!F$8","v":-41.842196549240526},9.3000000000000007,{"$f":"Pice-(Pice-p0)*EXP(-D95*_Kon1*Cockpit!$C$3)+_Kon2*D95","v":0.10444124701246746},0.10432549583666832,null,2.7124701246745986E-4]
[9400,0.10441,{"$f":"Cockpit!F$8","v":-41.842196549240526},9.4,{"$f":"Pice-(Pice-p0)*EXP(-D96*_Kon1*Cockpit!$C$3)+_Kon2*D96","v":0.10444371700524305},0.10432549583666832,null,3.3717005243044662E-5]
[9500,0.10441,{"$f":"Cockpit!F$8","v":-41.842196549240526},9.5,{"$f":"Pice-(Pice-p0)*EXP(-D97*_Kon1*Cockpit!$C$3)+_Kon2*D97","v":0.10444618699801865},0.10432549583666832,null,3.6186998018647443E-5]
[9600,0.10441,{"$f":"Cockpit!F$8","v":-41.842196549240526},9.6,{"$f":"Pice-(Pice-p0)*EXP(-D98*_Kon1*Cockpit!$C$3)+_Kon2*D98","v":0.10444865699079424},0.10432549583666832,null,3.8656990794236346E-5]
[9700,0.10466,{"$f":"Cockpit!F$8","v":-41.842196549240526},9.6999999999999993,{"$f":"Pice-(Pice-p0)*EXP(-D99*_Kon1*Cockpit!$C$3)+_Kon2*D99","v":0.10445112698356984},0.10432549583666832,null,2.088730164301611E-4]
[9800,0.10466,{"$f":"Cockpit!F$8","v":-41.842196549240526},9.8000000000000007,{"$f":"Pice-(Pice-p0)*EXP(-D100*_Kon1*Cockpit!$C$3)+_Kon2*D100","v":0.10445359697634543},0.10432549583666832,null,2.0640302365457219E-4]
[9900,0.10466,{"$f":"Cockpit!F$8","v":-41.842196549240526},9.9,{"$f":"Pice-(Pice-p0)*EXP(-D101*_Kon1*Cockpit!$C$3)+_Kon2*D101","v":0.10445606696912103},0.10432549583666832,null,2.0393303087896941E-4]
[10000,0.10441,{"$f":"Cockpit!F$8","v":-41.842196549240526},10,{"$f":"Pice-(Pice-p0)*EXP(-D102*_Kon1*Cockpit!$C$3)+_Kon2*D102","v":0.10445853696189662},0.10432549583666832,null,4.8536961896619712E-5]
[10100,0.10417,{"$f":"Cockpit!F$8","v":-41.842196549240526},10.1,{"$f":"Pice-(Pice-p0)*EXP(-D103*_Kon1*Cockpit!$C$3)+_Kon2*D103","v":0.10446100695467223},0.10432549583666832,null,2.9100695467222659E-4]
[10200,0.10417,{"$f":"Cockpit!F$8","v":-41.842196549240526},10.199999999999999,{"$f":"Pice-(Pice-p0)*EXP(-D104*_Kon1*Cockpit!$C$3)+_Kon2*D104","v":0.10446347694744781},0.10432549583666832,null,2.9347694744781549E-4]
[10300,0.10417,{"$f":"Cockpit!F$8","v":-41.842196549240526},10.3,{"$f":"Pice-(Pice-p0)*EXP(-D105*_Kon1*Cockpit!$C$3)+_Kon2*D105","v":0.10446594694022342},0.10432549583666832,null,2.9594694022341828E-4]
[10400,0.10417,{"$f":"Cockpit!F$8","v":-41.842196549240526},10.4,{"$f":"Pice-(Pice-p0)*EXP(-D106*_Kon1*Cockpit!$C$3)+_Kon2*D106","v":0.10446841693299901},0.10432549583666832,null,2.9841693299900718E-4]
[10500,0.10417,{"$f":"Cockpit!F$8","v":-41.842196549240526},10.5,{"$f":"Pice-(Pice-p0)*EXP(-D107*_Kon1*Cockpit!$C$3)+_Kon2*D107","v":0.10447088692577459},0.10432549583666832,null,3.0088692577459608E-4]
[10600,0.10417,{"$f":"Cockpit!F$8","v":-41.842196549240526},10.6,{"$f":"Pice-(Pice-p0)*EXP(-D108*_Kon1*Cockpit!$C$3)+_Kon2*D108","v":0.1044733569185502},0.10432549583666832,null,3.0335691855019886E-4]
[10700,0.10417,{"$f":"Cockpit!F$8","v":-41.842196549240526},10.7,{"$f":"Pice-(Pice-p0)*EXP(-D109*_Kon1*Cockpit!$C$3)+_Kon2*D109","v":0.10447582691132579},0.10432549583666832,null,3.0582691132578776E-4]
[10800,0.10417,{"$f":"Cockpit!F$8","v":-41.842196549240526},10.8,{"$f":"Pice-(Pice-p0)*EXP(-D110*_Kon1*Cockpit!$C$3)+_Kon2*D110","v":0.10447829690410139},0.10432549583666832,null,3.0829690410139055E-4]
[10900,0.10417,{"$f":"Cockpit!F$8","v":-41.842196549240526},10.9,{"$f":"Pice-(Pice-p0)*EXP(-D111*_Kon1*Cockpit!$C$3)+_Kon2*D111","v":0.10448076689687698},0.10432549583666832,null,3.1076689687697945E-4]
[11000,0.10441,{"$f":"Cockpit!F$8","v":-41.842196549240526},11,{"$f":"Pice-(Pice-p0)*EXP(-D112*_Kon1*Cockpit!$C$3)+_Kon2*D112","v":0.10448323688965258},0.10432549583666832,null,7.323688965257813E-5]
[11100,0.10441,{"$f":"Cockpit!F$8","v":-41.842196549240526},11.1,{"$f":"Pice-(Pice-p0)*EXP(-D113*_Kon1*Cockpit!$C$3)+_Kon2*D113","v":0.10448570688242817},0.10432549583666832,null,7.5706882428167033E-5]
[11200,0.10441,{"$f":"Cockpit!F$8","v":-41.842196549240526},11.2,{"$f":"Pice-(Pice-p0)*EXP(-D114*_Kon1*Cockpit!$C$3)+_Kon2*D114","v":0.10448817687520377},0.10432549583666832,null,7.8176875203769813E-5]
[11300,0.10441,{"$f":"Cockpit!F$8","v":-41.842196549240526},11.3,{"$f":"Pice-(Pice-p0)*EXP(-D115*_Kon1*Cockpit!$C$3)+_Kon2*D115","v":0.10449064686797936},0.10432549583666832,null,8.0646867979358716E-5]
[11400,0.10441,{"$f":"Cockpit!F$8","v":-41.842196549240526},11.4,{"$f":"Pice-(Pice-p0)*EXP(-D116*_Kon1*Cockpit!$C$3)+_Kon2*D116","v":0.10449311686075495},0.10432549583666832,null,8.3116860754947619E-5]
[11500,0.10466,{"$f":"Cockpit!F$8","v":-41.842196549240526},11.5,{"$f":"Pice-(Pice-p0)*EXP(-D117*_Kon1*Cockpit!$C$3)+_Kon2*D117","v":0.10449558685353055},0.10432549583666832,null,1.6441314646944982E-4]
[11600,0.10466,{"$f":"Cockpit!F$8","v":-41.842196549240526},11.6,{"$f":"Pice-(Pice-p0)*EXP(-D118*_Kon1*Cockpit!$C$3)+_Kon2*D118","v":0.10449805684630614},0.10432549583666832,null,1.6194315369386092E-4]
[11700,0.10466,{"$f":"Cockpit!F$8","v":-41.842196549240526},11.7,{"$f":"Pice-(Pice-p0)*EXP(-D119*_Kon1*Cockpit!$C$3)+_Kon2*D119","v":0.10450052683908174},0.10432549583666832,null,1.5947316091825814E-4]
[11800,0.10466,{"$f":"Cockpit!F$8","v":-41.842196549240526},11.8,{"$f":"Pice-(Pice-p0)*EXP(-D120*_Kon1*Cockpit!$C$3)+_Kon2*D120","v":0.10450299683185733},0.10432549583666832,null,1.5700316814266924E-4]
[11900,0.10466,{"$f":"Cockpit!F$8","v":-41.842196549240526},11.9,{"$f":"Pice-(Pice-p0)*EXP(-D121*_Kon1*Cockpit!$C$3)+_Kon2*D121","v":0.10450546682463294},0.10432549583666832,null,1.5453317536706646E-4]
[12000,0.10466,{"$f":"Cockpit!F$8","v":-41.842196549240526},12,{"$f":"Pice-(Pice-p0)*EXP(-D122*_Kon1*Cockpit!$C$3)+_Kon2*D122","v":0.10450793681740853},0.10432549583666832,null,1.5206318259147755E-4]
[12100,0.10441,{"$f":"Cockpit!F$8","v":-41.842196549240526},12.1,{"$f":"Pice-(Pice-p0)*EXP(-D123*_Kon1*Cockpit!$C$3)+_Kon2*D123","v":0.10451040681018413},0.10432549583666832,null,1.0040681018412545E-4]
[12200,0.10441,{"$f":"Cockpit!F$8","v":-41.842196549240526},12.2,{"$f":"Pice-(Pice-p0)*EXP(-D124*_Kon1*Cockpit!$C$3)+_Kon2*D124","v":0.10451287680295972},0.10432549583666832,null,1.0287680295971435E-4]
[12300,0.10466,{"$f":"Cockpit!F$8","v":-41.842196549240526},12.3,{"$f":"Pice-(Pice-p0)*EXP(-D125*_Kon1*Cockpit!$C$3)+_Kon2*D125","v":0.10451534679573532},0.10432549583666832,null,1.4465320426468309E-4]
[12400,0.10466,{"$f":"Cockpit!F$8","v":-41.842196549240526},12.4,{"$f":"Pice-(Pice-p0)*EXP(-D126*_Kon1*Cockpit!$C$3)+_Kon2*D126","v":0.10451781678851091},0.10432549583666832,null,1.4218321148909419E-4]
[12500,0.10441,{"$f":"Cockpit!F$8","v":-41.842196549240526},12.5,{"$f":"Pice-(Pice-p0)*EXP(-D127*_Kon1*Cockpit!$C$3)+_Kon2*D127","v":0.1045202867812865},0.10432549583666832,null,1.1028678128649494E-4]
[12600,0.10441,{"$f":"Cockpit!F$8","v":-41.842196549240526},12.6,{"$f":"Pice-(Pice-p0)*EXP(-D128*_Kon1*Cockpit!$C$3)+_Kon2*D128","v":0.1045227567740621},0.10432549583666832,null,1.1275677406209772E-4]
[12700,0.10441,{"$f":"Cockpit!F$8","v":-41.842196549240526},12.7,{"$f":"Pice-(Pice-p0)*EXP(-D129*_Kon1*Cockpit!$C$3)+_Kon2*D129","v":0.10452522676683769},0.10432549583666832,null,1.1522676683768662E-4]
[12800,0.10441,{"$f":"Cockpit!F$8","v":-41.842196549240526},12.8,{"$f":"Pice-(Pice-p0)*EXP(-D130*_Kon1*Cockpit!$C$3)+_Kon2*D130","v":0.10452769675961329},0.10432549583666832,null,1.176967596132894E-4]
[12900,0.10466,{"$f":"Cockpit!F$8","v":-41.842196549240526},{"$f":"A131/1000","v":12.9},{"$f":"Pice-(Pice-p0)*EXP(-D131*_Kon1*Cockpit!$C$3)+_Kon2*D131","v":0.10453016675238888},{"$f":"EXP(24.30592-6144.96/(C131+273.15))","v":0.10432549583666832},null,{"$f":"SQRT((E131-B131)^2)","v":1.2983324761112192E-4}]
[13000,0.10466,{"$f":"Cockpit!F$8","v":-41.842196549240526},13,{"$f":"Pice-(Pice-p0)*EXP(-D132*_Kon1*Cockpit!$C$3)+_Kon2*D132","v":0.10453263674516448},0.10432549583666832,null,1.2736325483551914E-4]
[13100,0.10466,{"$f":"Cockpit!F$8","v":-41.842196549240526},13.1,{"$f":"Pice-(Pice-p0)*EXP(-D133*_Kon1*Cockpit!$C$3)+_Kon2*D133","v":0.10453510673794007},0.10432549583666832,null,1.2489326205993023E-4]
[13200,0.10441,{"$f":"Cockpit!F$8","v":-41.842196549240526},13.2,{"$f":"Pice-(Pice-p0)*EXP(-D134*_Kon1*Cockpit!$C$3)+_Kon2*D134","v":0.10453757673071568},0.10432549583666832,null,1.2757673071567277E-4]
[13300,0.10441,{"$f":"Cockpit!F$8","v":-41.842196549240526},13.3,{"$f":"Pice-(Pice-p0)*EXP(-D135*_Kon1*Cockpit!$C$3)+_Kon2*D135","v":0.10454004672349126},0.10432549583666832,null,1.3004672349126167E-4]
[13400,0.10441,{"$f":"Cockpit!F$8","v":-41.842196549240526},13.4,{"$f":"Pice-(Pice-p0)*EXP(-D136*_Kon1*Cockpit!$C$3)+_Kon2*D136","v":0.10454251671626687},0.10432549583666832,null,1.3251671626686445E-4]
[13500,0.10417,{"$f":"Cockpit!F$8","v":-41.842196549240526},13.5,{"$f":"Pice-(Pice-p0)*EXP(-D137*_Kon1*Cockpit!$C$3)+_Kon2*D137","v":0.10454498670904246},0.10432549583666832,null,3.7498670904245746E-4]
[13600,0.10441,{"$f":"Cockpit!F$8","v":-41.842196549240526},13.6,{"$f":"Pice-(Pice-p0)*EXP(-D138*_Kon1*Cockpit!$C$3)+_Kon2*D138","v":0.10454745670181805},0.10432549583666832,null,1.3745670181804226E-4]
[13700,0.10441,{"$f":"Cockpit!F$8","v":-41.842196549240526},13.7,{"$f":"Pice-(Pice-p0)*EXP(-D139*_Kon1*Cockpit!$C$3)+_Kon2*D139","v":0.10454992669459365},0.10432549583666832,null,1.3992669459364504E-4]
[13800,0.10441,{"$f":"Cockpit!F$8","v":-41.842196549240526},13.8,{"$f":"Pice-(Pice-p0)*EXP(-D140*_Kon1*Cockpit!$C$3)+_Kon2*D140","v":0.10455239668736924},0.10432549583666832,null,1.4239668736923394E-4]
[13900,0.10441,{"$f":"Cockpit!F$8","v":-41.842196549240526},13.9,{"$f":"Pice-(Pice-p0)*EXP(-D141*_Kon1*Cockpit!$C$3)+_Kon2*D141","v":0.10455486668014484},0.10432549583666832,null,1.4486668014483672E-4]
[14000,0.10441,{"$f":"Cockpit!F$8","v":-41.842196549240526},14,{"$f":"Pice-(Pice-p0)*EXP(-D142*_Kon1*Cockpit!$C$3)+_Kon2*D142","v":0.10455733667292043},0.10432549583666832,null,1.4733667292042563E-4]
[14100,0.10441,{"$f":"Cockpit!F$8","v":-41.842196549240526},14.1,{"$f":"Pice-(Pice-p0)*EXP(-D143*_Kon1*Cockpit!$C$3)+_Kon2*D143","v":0.10455980666569603},0.10432549583666832,null,1.4980666569602841E-4]
[14200,0.10441,{"$f":"Cockpit!F$8","v":-41.842196549240526},14.2,{"$f":"Pice-(Pice-p0)*EXP(-D144*_Kon1*Cockpit!$C$3)+_Kon2*D144","v":0.10456227665847162},0.10432549583666832,null,1.5227665847161731E-4]
[14300,0.10441,{"$f":"Cockpit!F$8","v":-41.842196549240526},14.3,{"$f":"Pice-(Pice-p0)*EXP(-D145*_Kon1*Cockpit!$C$3)+_Kon2*D145","v":0.10456474665124722},0.10432549583666832,null,1.5474665124722009E-4]
[14400,0.10441,{"$f":"Cockpit!F$8","v":-41.842196549240526},14.4,{"$f":"Pice-(Pice-p0)*EXP(-D146*_Kon1*Cockpit!$C$3)+_Kon2*D146","v":0.10456721664402281},0.10432549583666832,null,1.5721664402280899E-4]
[14500,0.10441,{"$f":"Cockpit!F$8","v":-41.842196549240526},14.5,{"$f":"Pice-(Pice-p0)*EXP(-D147*_Kon1*Cockpit!$C$3)+_Kon2*D147","v":0.1045696866367984},0.10432549583666832,null,1.596866367983979E-4]
[14600,0.10441,{"$f":"Cockpit!F$8","v":-41.842196549240526},14.6,{"$f":"Pice-(Pice-p0)*EXP(-D148*_Kon1*Cockpit!$C$3)+_Kon2*D148","v":0.104572156629574},0.10432549583666832,null,1.6215662957400068E-4]
[14700,0.10441,{"$f":"Cockpit!F$8","v":-41.842196549240526},14.7,{"$f":"Pice-(Pice-p0)*EXP(-D149*_Kon1*Cockpit!$C$3)+_Kon2*D149","v":0.10457462662234959},0.10432549583666832,null,1.6462662234958958E-4]
[14800,0.10441,{"$f":"Cockpit!F$8","v":-41.842196549240526},14.8,{"$f":"Pice-(Pice-p0)*EXP(-D150*_Kon1*Cockpit!$C$3)+_Kon2*D150","v":0.1045770966151252},0.10432549583666832,null,1.6709661512519236E-4]
[14900,0.10441,{"$f":"Cockpit!F$8","v":-41.842196549240526},14.9,{"$f":"Pice-(Pice-p0)*EXP(-D151*_Kon1*Cockpit!$C$3)+_Kon2*D151","v":0.10457956660790078},0.10432549583666832,null,1.6956660790078126E-4]
[15000,0.10441,{"$f":"Cockpit!F$8","v":-41.842196549240526},15,{"$f":"Pice-(Pice-p0)*EXP(-D152*_Kon1*Cockpit!$C$3)+_Kon2*D152","v":0.10458203660067639},0.10432549583666832,null,1.7203660067638404E-4]
[15100,0.10441,{"$f":"Cockpit!F$8","v":-41.842196549240526},15.1,{"$f":"Pice-(Pice-p0)*EXP(-D153*_Kon1*Cockpit!$C$3)+_Kon2*D153","v":0.10458450659345198},0.10432549583666832,null,1.7450659345197295E-4]
[15200,0.10441,{"$f":"Cockpit!F$8","v":-41.842196549240526},15.2,{"$f":"Pice-(Pice-p0)*EXP(-D154*_Kon1*Cockpit!$C$3)+_Kon2*D154","v":0.10458697658622758},0.10432549583666832,null,1.7697658622757573E-4]
[15300,0.10441,{"$f":"Cockpit!F$8","v":-41.842196549240526},15.3,{"$f":"Pice-(Pice-p0)*EXP(-D155*_Kon1*Cockpit!$C$3)+_Kon2*D155","v":0.10458944657900317},0.10432549583666832,null,1.7944657900316463E-4]
[15400,0.10441,{"$f":"Cockpit!F$8","v":-41.842196549240526},15.4,{"$f":"Pice-(Pice-p0)*EXP(-D156*_Kon1*Cockpit!$C$3)+_Kon2*D156","v":0.10459191657177877},0.10432549583666832,null,1.8191657177876741E-4]
[15500,0.10441,{"$f":"Cockpit!F$8","v":-41.842196549240526},15.5,{"$f":"Pice-(Pice-p0)*EXP(-D157*_Kon1*Cockpit!$C$3)+_Kon2*D157","v":0.10459438656455436},0.10432549583666832,null,1.8438656455435631E-4]
[15600,0.10441,{"$f":"Cockpit!F$8","v":-41.842196549240526},15.6,{"$f":"Pice-(Pice-p0)*EXP(-D158*_Kon1*Cockpit!$C$3)+_Kon2*D158","v":0.10459685655732995},0.10432549583666832,null,1.8685655732994522E-4]
[15700,0.10441,{"$f":"Cockpit!F$8","v":-41.842196549240526},15.7,{"$f":"Pice-(Pice-p0)*EXP(-D159*_Kon1*Cockpit!$C$3)+_Kon2*D159","v":0.10459932655010555},0.10432549583666832,null,1.89326550105548E-4]
[15800,0.10441,{"$f":"Cockpit!F$8","v":-41.842196549240526},15.8,{"$f":"Pice-(Pice-p0)*EXP(-D160*_Kon1*Cockpit!$C$3)+_Kon2*D160","v":0.10460179654288114},0.10432549583666832,null,1.917965428811369E-4]
[15900,0.10441,{"$f":"Cockpit!F$8","v":-41.842196549240526},15.9,{"$f":"Pice-(Pice-p0)*EXP(-D161*_Kon1*Cockpit!$C$3)+_Kon2*D161","v":0.10460426653565674},0.10432549583666832,null,1.9426653565673968E-4]
[16000,0.10441,{"$f":"Cockpit!F$8","v":-41.842196549240526},16,{"$f":"Pice-(Pice-p0)*EXP(-D162*_Kon1*Cockpit!$C$3)+_Kon2*D162","v":0.10460673652843233},0.10432549583666832,null,1.9673652843232858E-4]
[16100,0.10441,{"$f":"Cockpit!F$8","v":-41.842196549240526},16.100000000000001,{"$f":"Pice-(Pice-p0)*EXP(-D163*_Kon1*Cockpit!$C$3)+_Kon2*D163","v":0.10460920652120793},0.10432549583666832,null,1.9920652120793136E-4]
[16200,0.10441,{"$f":"Cockpit!F$8","v":-41.842196549240526},16.2,{"$f":"Pice-(Pice-p0)*EXP(-D164*_Kon1*Cockpit!$C$3)+_Kon2*D164","v":0.10461167651398352},0.10432549583666832,null,2.0167651398352027E-4]
[16300,0.10441,{"$f":"Cockpit!F$8","v":-41.842196549240526},16.3,{"$f":"Pice-(Pice-p0)*EXP(-D165*_Kon1*Cockpit!$C$3)+_Kon2*D165","v":0.10461414650675913},0.10432549583666832,null,2.0414650675912305E-4]
[16400,0.10441,{"$f":"Cockpit!F$8","v":-41.842196549240526},16.399999999999999,{"$f":"Pice-(Pice-p0)*EXP(-D166*_Kon1*Cockpit!$C$3)+_Kon2*D166","v":0.10461661649953471},0.10432549583666832,null,2.0661649953471195E-4]
[16500,0.10441,{"$f":"Cockpit!F$8","v":-41.842196549240526},16.5,{"$f":"Pice-(Pice-p0)*EXP(-D167*_Kon1*Cockpit!$C$3)+_Kon2*D167","v":0.10461908649231032},0.10432549583666832,null,2.0908649231031473E-4]
[16600,0.10441,{"$f":"Cockpit!F$8","v":-41.842196549240526},16.600000000000001,{"$f":"Pice-(Pice-p0)*EXP(-D168*_Kon1*Cockpit!$C$3)+_Kon2*D168","v":0.10462155648508591},0.10432549583666832,null,2.1155648508590363E-4]
[16700,0.10466,{"$f":"Cockpit!F$8","v":-41.842196549240526},16.7,{"$f":"Pice-(Pice-p0)*EXP(-D169*_Kon1*Cockpit!$C$3)+_Kon2*D169","v":0.1046240264778615},0.10432549583666832,null,3.5973522138507685E-5]
[16800,0.10466,{"$f":"Cockpit!F$8","v":-41.842196549240526},16.8,{"$f":"Pice-(Pice-p0)*EXP(-D170*_Kon1*Cockpit!$C$3)+_Kon2*D170","v":0.1046264964706371},0.10432549583666832,null,3.3503529362904905E-5]
[16900,0.10466,{"$f":"Cockpit!F$8","v":-41.842196549240526},16.899999999999999,{"$f":"Pice-(Pice-p0)*EXP(-D171*_Kon1*Cockpit!$C$3)+_Kon2*D171","v":0.10462896646341269},0.10432549583666832,null,3.1033536587316002E-5]
[17000,0.10466,{"$f":"Cockpit!F$8","v":-41.842196549240526},17,{"$f":"Pice-(Pice-p0)*EXP(-D172*_Kon1*Cockpit!$C$3)+_Kon2*D172","v":0.10463143645618829},0.10432549583666832,null,2.8563543811713221E-5]
[17100,0.10466,{"$f":"Cockpit!F$8","v":-41.842196549240526},17.100000000000001,{"$f":"Pice-(Pice-p0)*EXP(-D173*_Kon1*Cockpit!$C$3)+_Kon2*D173","v":0.10463390644896388},0.10432549583666832,null,2.6093551036124318E-5]
[17200,0.10466,{"$f":"Cockpit!F$8","v":-41.842196549240526},17.2,{"$f":"Pice-(Pice-p0)*EXP(-D174*_Kon1*Cockpit!$C$3)+_Kon2*D174","v":0.10463637644173948},0.10432549583666832,null,2.3623558260521538E-5]
[17300,0.10466,{"$f":"Cockpit!F$8","v":-41.842196549240526},17.3,{"$f":"Pice-(Pice-p0)*EXP(-D175*_Kon1*Cockpit!$C$3)+_Kon2*D175","v":0.10463884643451507},0.10432549583666832,null,2.1153565484932635E-5]
[17400,0.10466,{"$f":"Cockpit!F$8","v":-41.842196549240526},17.399999999999999,{"$f":"Pice-(Pice-p0)*EXP(-D176*_Kon1*Cockpit!$C$3)+_Kon2*D176","v":0.10464131642729067},0.10432549583666832,null,1.8683572709329854E-5]
[17500,0.10466,{"$f":"Cockpit!F$8","v":-41.842196549240526},17.5,{"$f":"Pice-(Pice-p0)*EXP(-D177*_Kon1*Cockpit!$C$3)+_Kon2*D177","v":0.10464378642006626},0.10432549583666832,null,1.6213579933740951E-5]
[17600,0.10489999999999999,{"$f":"Cockpit!F$8","v":-41.842196549240526},17.600000000000001,{"$f":"Pice-(Pice-p0)*EXP(-D178*_Kon1*Cockpit!$C$3)+_Kon2*D178","v":0.10464625641284185},0.10432549583666832,null,2.5374358715814227E-4]
[17700,0.10489999999999999,{"$f":"Cockpit!F$8","v":-41.842196549240526},17.7,{"$f":"Pice-(Pice-p0)*EXP(-D179*_Kon1*Cockpit!$C$3)+_Kon2*D179","v":0.10464872640561745},0.10432549583666832,null,2.5127359438253949E-4]
[17800,0.10489999999999999,{"$f":"Cockpit!F$8","v":-41.842196549240526},17.8,{"$f":"Pice-(Pice-p0)*EXP(-D180*_Kon1*Cockpit!$C$3)+_Kon2*D180","v":0.10465119639839304},0.10432549583666832,null,2.4880360160695059E-4]
[17900,0.10489999999999999,{"$f":"Cockpit!F$8","v":-41.842196549240526},17.899999999999999,{"$f":"Pice-(Pice-p0)*EXP(-D181*_Kon1*Cockpit!$C$3)+_Kon2*D181","v":0.10465366639116865},0.10432549583666832,null,2.4633360883134781E-4]
[18000,0.10489999999999999,{"$f":"Cockpit!F$8","v":-41.842196549240526},18,{"$f":"Pice-(Pice-p0)*EXP(-D182*_Kon1*Cockpit!$C$3)+_Kon2*D182","v":0.10465613638394423},0.10432549583666832,null,2.438636160557589E-4]
[18100,0.10489999999999999,{"$f":"Cockpit!F$8","v":-41.842196549240526},18.100000000000001,{"$f":"Pice-(Pice-p0)*EXP(-D183*_Kon1*Cockpit!$C$3)+_Kon2*D183","v":0.10465860637671984},0.10432549583666832,null,2.4139362328015612E-4]
[18200,0.10489999999999999,{"$f":"Cockpit!F$8","v":-41.842196549240526},18.2,{"$f":"Pice-(Pice-p0)*EXP(-D184*_Kon1*Cockpit!$C$3)+_Kon2*D184","v":0.10466107636949543},0.10432549583666832,null,2.3892363050456722E-4]
[18300,0.10489999999999999,{"$f":"Cockpit!F$8","v":-41.842196549240526},18.3,{"$f":"Pice-(Pice-p0)*EXP(-D185*_Kon1*Cockpit!$C$3)+_Kon2*D185","v":0.10466354636227103},0.10432549583666832,null,2.3645363772896444E-4]
[18400,0.10489999999999999,{"$f":"Cockpit!F$8","v":-41.842196549240526},18.399999999999999,{"$f":"Pice-(Pice-p0)*EXP(-D186*_Kon1*Cockpit!$C$3)+_Kon2*D186","v":0.10466601635504662},0.10432549583666832,null,2.3398364495337554E-4]
[18500,0.10489999999999999,{"$f":"Cockpit!F$8","v":-41.842196549240526},18.5,{"$f":"Pice-(Pice-p0)*EXP(-D187*_Kon1*Cockpit!$C$3)+_Kon2*D187","v":0.10466848634782222},0.10432549583666832,null,2.3151365217777276E-4]
[18600,0.10489999999999999,{"$f":"Cockpit!F$8","v":-41.842196549240526},18.600000000000001,{"$f":"Pice-(Pice-p0)*EXP(-D188*_Kon1*Cockpit!$C$3)+_Kon2*D188","v":0.10467095634059781},0.10432549583666832,null,2.2904365940218385E-4]
[18700,0.10489999999999999,{"$f":"Cockpit!F$8","v":-41.842196549240526},18.7,{"$f":"Pice-(Pice-p0)*EXP(-D189*_Kon1*Cockpit!$C$3)+_Kon2*D189","v":0.1046734263333734},0.10432549583666832,null,2.2657366662659495E-4]
[18800,0.10489999999999999,{"$f":"Cockpit!F$8","v":-41.842196549240526},18.8,{"$f":"Pice-(Pice-p0)*EXP(-D190*_Kon1*Cockpit!$C$3)+_Kon2*D190","v":0.104675896326149},0.10432549583666832,null,2.2410367385099217E-4]
[18900,0.10489999999999999,{"$f":"Cockpit!F$8","v":-41.842196549240526},18.899999999999999,{"$f":"Pice-(Pice-p0)*EXP(-D191*_Kon1*Cockpit!$C$3)+_Kon2*D191","v":0.10467836631892459},0.10432549583666832,null,2.2163368107540327E-4]
[19000,0.10489999999999999,{"$f":"Cockpit!F$8","v":-41.842196549240526},19,{"$f":"Pice-(Pice-p0)*EXP(-D192*_Kon1*Cockpit!$C$3)+_Kon2*D192","v":0.10468083631170019},0.10432549583666832,null,2.1916368829980049E-4]
[19100,0.10489999999999999,{"$f":"Cockpit!F$8","v":-41.842196549240526},19.100000000000001,{"$f":"Pice-(Pice-p0)*EXP(-D193*_Kon1*Cockpit!$C$3)+_Kon2*D193","v":0.10468330630447578},0.10432549583666832,null,2.1669369552421158E-4]
[19200,0.10466,{"$f":"Cockpit!F$8","v":-41.842196549240526},19.2,{"$f":"Pice-(Pice-p0)*EXP(-D194*_Kon1*Cockpit!$C$3)+_Kon2*D194","v":0.10468577629725138},0.10432549583666832,null,2.5776297251381419E-5]
[19300,0.10466,{"$f":"Cockpit!F$8","v":-41.842196549240526},{"$f":"A195/1000","v":19.3},{"$f":"Pice-(Pice-p0)*EXP(-D195*_Kon1*Cockpit!$C$3)+_Kon2*D195","v":0.10468824629002697},{"$f":"EXP(24.30592-6144.96/(C195+273.15))","v":0.10432549583666832},null,{"$f":"SQRT((E195-B195)^2)","v":2.8246290026970322E-5}]
[19400,0.10466,{"$f":"Cockpit!F$8","v":-41.842196549240526},19.399999999999999,{"$f":"Pice-(Pice-p0)*EXP(-D196*_Kon1*Cockpit!$C$3)+_Kon2*D196","v":0.10469071628280258},0.10432549583666832,null,3.0716282802573103E-5]
[19500,0.10466,{"$f":"Cockpit!F$8","v":-41.842196549240526},19.5,{"$f":"Pice-(Pice-p0)*EXP(-D197*_Kon1*Cockpit!$C$3)+_Kon2*D197","v":0.10469318627557817},0.10432549583666832,null,3.3186275578162006E-5]
[19600,0.10441,{"$f":"Cockpit!F$8","v":-41.842196549240526},19.600000000000001,{"$f":"Pice-(Pice-p0)*EXP(-D198*_Kon1*Cockpit!$C$3)+_Kon2*D198","v":0.10469565626835377},0.10432549583666832,null,2.8565626835376501E-4]
[19700,0.10441,{"$f":"Cockpit!F$8","v":-41.842196549240526},19.7,{"$f":"Pice-(Pice-p0)*EXP(-D199*_Kon1*Cockpit!$C$3)+_Kon2*D199","v":0.10469812626112936},0.10432549583666832,null,2.8812626112935391E-4]
[19800,0.10466,{"$f":"Cockpit!F$8","v":-41.842196549240526},19.8,{"$f":"Pice-(Pice-p0)*EXP(-D200*_Kon1*Cockpit!$C$3)+_Kon2*D200","v":0.10470059625390495},0.10432549583666832,null,4.0596253904942592E-5]
[19900,0.10466,{"$f":"Cockpit!F$8","v":-41.842196549240526},19.899999999999999,{"$f":"Pice-(Pice-p0)*EXP(-D201*_Kon1*Cockpit!$C$3)+_Kon2*D201","v":0.10470306624668055},0.10432549583666832,null,4.3066246680545373E-5]
[20000,0.10466,{"$f":"Cockpit!F$8","v":-41.842196549240526},20,{"$f":"Pice-(Pice-p0)*EXP(-D202*_Kon1*Cockpit!$C$3)+_Kon2*D202","v":0.10470553623945614},0.10432549583666832,null,4.5536239456134275E-5]
[20100,0.10466,{"$f":"Cockpit!F$8","v":-41.842196549240526},20.100000000000001,{"$f":"Pice-(Pice-p0)*EXP(-D203*_Kon1*Cockpit!$C$3)+_Kon2*D203","v":0.10470800623223174},0.10432549583666832,null,4.8006232231737056E-5]
[20200,0.10466,{"$f":"Cockpit!F$8","v":-41.842196549240526},20.2,{"$f":"Pice-(Pice-p0)*EXP(-D204*_Kon1*Cockpit!$C$3)+_Kon2*D204","v":0.10471047622500733},0.10432549583666832,null,5.0476225007325959E-5]
[20300,0.10466,{"$f":"Cockpit!F$8","v":-41.842196549240526},20.3,{"$f":"Pice-(Pice-p0)*EXP(-D205*_Kon1*Cockpit!$C$3)+_Kon2*D205","v":0.10471294621778293},0.10432549583666832,null,5.2946217782928739E-5]
[20400,0.10441,{"$f":"Cockpit!F$8","v":-41.842196549240526},20.399999999999999,{"$f":"Pice-(Pice-p0)*EXP(-D206*_Kon1*Cockpit!$C$3)+_Kon2*D206","v":0.10471541621055852},0.10432549583666832,null,3.0541621055851786E-4]
[20500,0.10441,{"$f":"Cockpit!F$8","v":-41.842196549240526},20.5,{"$f":"Pice-(Pice-p0)*EXP(-D207*_Kon1*Cockpit!$C$3)+_Kon2*D207","v":0.10471788620333412},0.10432549583666832,null,3.0788620333412065E-4]
[20600,0.10441,{"$f":"Cockpit!F$8","v":-41.842196549240526},20.6,{"$f":"Pice-(Pice-p0)*EXP(-D208*_Kon1*Cockpit!$C$3)+_Kon2*D208","v":0.10472035619610971},0.10432549583666832,null,3.1035619610970955E-4]
[20700,0.10441,{"$f":"Cockpit!F$8","v":-41.842196549240526},20.7,{"$f":"Pice-(Pice-p0)*EXP(-D209*_Kon1*Cockpit!$C$3)+_Kon2*D209","v":0.1047228261888853},0.10432549583666832,null,3.1282618888529845E-4]
[20800,0.10466,{"$f":"Cockpit!F$8","v":-41.842196549240526},20.8,{"$f":"Pice-(Pice-p0)*EXP(-D210*_Kon1*Cockpit!$C$3)+_Kon2*D210","v":0.1047252961816609},0.10432549583666832,null,6.5296181660901009E-5]
[20900,0.10466,{"$f":"Cockpit!F$8","v":-41.842196549240526},20.9,{"$f":"Pice-(Pice-p0)*EXP(-D211*_Kon1*Cockpit!$C$3)+_Kon2*D211","v":0.10472776617443649},0.10432549583666832,null,6.7766174436489912E-5]
[21000,0.10466,{"$f":"Cockpit!F$8","v":-41.842196549240526},21,{"$f":"Pice-(Pice-p0)*EXP(-D212*_Kon1*Cockpit!$C$3)+_Kon2*D212","v":0.1047302361672121},0.10432549583666832,null,7.0236167212092693E-5]
[21100,0.10466,{"$f":"Cockpit!F$8","v":-41.842196549240526},21.1,{"$f":"Pice-(Pice-p0)*EXP(-D213*_Kon1*Cockpit!$C$3)+_Kon2*D213","v":0.10473270615998768},0.10432549583666832,null,7.2706159987681596E-5]
[21200,0.10489999999999999,{"$f":"Cockpit!F$8","v":-41.842196549240526},21.2,{"$f":"Pice-(Pice-p0)*EXP(-D214*_Kon1*Cockpit!$C$3)+_Kon2*D214","v":0.10473517615276329},0.10432549583666832,null,1.6482384723670584E-4]
[21300,0.10514999999999999,{"$f":"Cockpit!F$8","v":-41.842196549240526},21.3,{"$f":"Pice-(Pice-p0)*EXP(-D215*_Kon1*Cockpit!$C$3)+_Kon2*D215","v":0.10473764614553888},0.10432549583666832,null,4.1235385446111716E-4]
[21400,0.10514999999999999,{"$f":"Cockpit!F$8","v":-41.842196549240526},21.4,{"$f":"Pice-(Pice-p0)*EXP(-D216*_Kon1*Cockpit!$C$3)+_Kon2*D216","v":0.10474011613831448},0.10432549583666832,null,4.0988386168551438E-4]
[21500,0.10514999999999999,{"$f":"Cockpit!F$8","v":-41.842196549240526},21.5,{"$f":"Pice-(Pice-p0)*EXP(-D217*_Kon1*Cockpit!$C$3)+_Kon2*D217","v":0.10474258613109007},0.10432549583666832,null,4.0741386890992548E-4]
[21600,0.10489999999999999,{"$f":"Cockpit!F$8","v":-41.842196549240526},21.6,{"$f":"Pice-(Pice-p0)*EXP(-D218*_Kon1*Cockpit!$C$3)+_Kon2*D218","v":0.10474505612386567},0.10432549583666832,null,1.5494387613432248E-4]
[21700,0.10489999999999999,{"$f":"Cockpit!F$8","v":-41.842196549240526},21.7,{"$f":"Pice-(Pice-p0)*EXP(-D219*_Kon1*Cockpit!$C$3)+_Kon2*D219","v":0.10474752611664126},0.10432549583666832,null,1.5247388335873358E-4]
[21800,0.10489999999999999,{"$f":"Cockpit!F$8","v":-41.842196549240526},21.8,{"$f":"Pice-(Pice-p0)*EXP(-D220*_Kon1*Cockpit!$C$3)+_Kon2*D220","v":0.10474999610941685},0.10432549583666832,null,1.5000389058314467E-4]
[21900,0.10489999999999999,{"$f":"Cockpit!F$8","v":-41.842196549240526},21.9,{"$f":"Pice-(Pice-p0)*EXP(-D221*_Kon1*Cockpit!$C$3)+_Kon2*D221","v":0.10475246610219245},0.10432549583666832,null,1.4753389780754189E-4]
[22000,0.10489999999999999,{"$f":"Cockpit!F$8","v":-41.842196549240526},22,{"$f":"Pice-(Pice-p0)*EXP(-D222*_Kon1*Cockpit!$C$3)+_Kon2*D222","v":0.10475493609496804},0.10432549583666832,null,1.4506390503195299E-4]
[22100,0.10489999999999999,{"$f":"Cockpit!F$8","v":-41.842196549240526},22.1,{"$f":"Pice-(Pice-p0)*EXP(-D223*_Kon1*Cockpit!$C$3)+_Kon2*D223","v":0.10475740608774364},0.10432549583666832,null,1.4259391225635021E-4]
[22200,0.10489999999999999,{"$f":"Cockpit!F$8","v":-41.842196549240526},22.2,{"$f":"Pice-(Pice-p0)*EXP(-D224*_Kon1*Cockpit!$C$3)+_Kon2*D224","v":0.10475987608051923},0.10432549583666832,null,1.4012391948076131E-4]
[22300,0.10489999999999999,{"$f":"Cockpit!F$8","v":-41.842196549240526},22.3,{"$f":"Pice-(Pice-p0)*EXP(-D225*_Kon1*Cockpit!$C$3)+_Kon2*D225","v":0.10476234607329483},0.10432549583666832,null,1.3765392670515852E-4]
[22400,0.10489999999999999,{"$f":"Cockpit!F$8","v":-41.842196549240526},22.4,{"$f":"Pice-(Pice-p0)*EXP(-D226*_Kon1*Cockpit!$C$3)+_Kon2*D226","v":0.10476481606607042},0.10432549583666832,null,1.3518393392956962E-4]
[22500,0.10489999999999999,{"$f":"Cockpit!F$8","v":-41.842196549240526},22.5,{"$f":"Pice-(Pice-p0)*EXP(-D227*_Kon1*Cockpit!$C$3)+_Kon2*D227","v":0.10476728605884603},0.10432549583666832,null,1.3271394115396684E-4]
[22600,0.10489999999999999,{"$f":"Cockpit!F$8","v":-41.842196549240526},22.6,{"$f":"Pice-(Pice-p0)*EXP(-D228*_Kon1*Cockpit!$C$3)+_Kon2*D228","v":0.10476975605162162},0.10432549583666832,null,1.3024394837837794E-4]
[22700,0.10489999999999999,{"$f":"Cockpit!F$8","v":-41.842196549240526},22.7,{"$f":"Pice-(Pice-p0)*EXP(-D229*_Kon1*Cockpit!$C$3)+_Kon2*D229","v":0.1047722260443972},0.10432549583666832,null,1.2777395560278904E-4]
[22800,0.10489999999999999,{"$f":"Cockpit!F$8","v":-41.842196549240526},22.8,{"$f":"Pice-(Pice-p0)*EXP(-D230*_Kon1*Cockpit!$C$3)+_Kon2*D230","v":0.10477469603717281},0.10432549583666832,null,1.2530396282718625E-4]
[22900,0.10489999999999999,{"$f":"Cockpit!F$8","v":-41.842196549240526},22.9,{"$f":"Pice-(Pice-p0)*EXP(-D231*_Kon1*Cockpit!$C$3)+_Kon2*D231","v":0.1047771660299484},0.10432549583666832,null,1.2283397005159735E-4]
[23000,0.10489999999999999,{"$f":"Cockpit!F$8","v":-41.842196549240526},23,{"$f":"Pice-(Pice-p0)*EXP(-D232*_Kon1*Cockpit!$C$3)+_Kon2*D232","v":0.104779636022724},0.10432549583666832,null,1.2036397727599457E-4]
[23100,0.10489999999999999,{"$f":"Cockpit!F$8","v":-41.842196549240526},23.1,{"$f":"Pice-(Pice-p0)*EXP(-D233*_Kon1*Cockpit!$C$3)+_Kon2*D233","v":0.10478210601549959},0.10432549583666832,null,1.1789398450040567E-4]
[23200,0.10466,{"$f":"Cockpit!F$8","v":-41.842196549240526},23.2,{"$f":"Pice-(Pice-p0)*EXP(-D234*_Kon1*Cockpit!$C$3)+_Kon2*D234","v":0.10478457600827519},0.10432549583666832,null,1.2457600827518733E-4]
[23300,0.10441,{"$f":"Cockpit!F$8","v":-41.842196549240526},23.3,{"$f":"Pice-(Pice-p0)*EXP(-D235*_Kon1*Cockpit!$C$3)+_Kon2*D235","v":0.10478704600105078},0.10432549583666832,null,3.7704600105077646E-4]
[23400,0.10441,{"$f":"Cockpit!F$8","v":-41.842196549240526},23.4,{"$f":"Pice-(Pice-p0)*EXP(-D236*_Kon1*Cockpit!$C$3)+_Kon2*D236","v":0.10478951599382638},0.10432549583666832,null,3.7951599382637924E-4]
[23500,0.10441,{"$f":"Cockpit!F$8","v":-41.842196549240526},23.5,{"$f":"Pice-(Pice-p0)*EXP(-D237*_Kon1*Cockpit!$C$3)+_Kon2*D237","v":0.10479198598660197},0.10432549583666832,null,3.8198598660196814E-4]
[23600,0.10466,{"$f":"Cockpit!F$8","v":-41.842196549240526},23.6,{"$f":"Pice-(Pice-p0)*EXP(-D238*_Kon1*Cockpit!$C$3)+_Kon2*D238","v":0.10479445597937757},0.10432549583666832,null,1.344559793775707E-4]
[23700,0.10466,{"$f":"Cockpit!F$8","v":-41.842196549240526},23.7,{"$f":"Pice-(Pice-p0)*EXP(-D239*_Kon1*Cockpit!$C$3)+_Kon2*D239","v":0.10479692597215316},0.10432549583666832,null,1.369259721531596E-4]
[23800,0.10489999999999999,{"$f":"Cockpit!F$8","v":-41.842196549240526},23.8,{"$f":"Pice-(Pice-p0)*EXP(-D240*_Kon1*Cockpit!$C$3)+_Kon2*D240","v":0.10479939596492875},0.10432549583666832,null,1.0060403507124172E-4]
[23900,0.10489999999999999,{"$f":"Cockpit!F$8","v":-41.842196549240526},23.9,{"$f":"Pice-(Pice-p0)*EXP(-D241*_Kon1*Cockpit!$C$3)+_Kon2*D241","v":0.10480186595770435},0.10432549583666832,null,9.8134042295638935E-5]
[24000,0.10489999999999999,{"$f":"Cockpit!F$8","v":-41.842196549240526},24,{"$f":"Pice-(Pice-p0)*EXP(-D242*_Kon1*Cockpit!$C$3)+_Kon2*D242","v":0.10480433595047994},0.10432549583666832,null,9.5664049520050032E-5]
[24100,0.10489999999999999,{"$f":"Cockpit!F$8","v":-41.842196549240526},24.1,{"$f":"Pice-(Pice-p0)*EXP(-D243*_Kon1*Cockpit!$C$3)+_Kon2*D243","v":0.10480680594325555},0.10432549583666832,null,9.3194056744447251E-5]
[24200,0.10489999999999999,{"$f":"Cockpit!F$8","v":-41.842196549240526},24.2,{"$f":"Pice-(Pice-p0)*EXP(-D244*_Kon1*Cockpit!$C$3)+_Kon2*D244","v":0.10480927593603113},0.10432549583666832,null,9.0724063968858348E-5]
[24300,0.10489999999999999,{"$f":"Cockpit!F$8","v":-41.842196549240526},24.3,{"$f":"Pice-(Pice-p0)*EXP(-D245*_Kon1*Cockpit!$C$3)+_Kon2*D245","v":0.10481174592880674},0.10432549583666832,null,8.8254071193255568E-5]
[24400,0.10489999999999999,{"$f":"Cockpit!F$8","v":-41.842196549240526},24.4,{"$f":"Pice-(Pice-p0)*EXP(-D246*_Kon1*Cockpit!$C$3)+_Kon2*D246","v":0.10481421592158233},0.10432549583666832,null,8.5784078417666665E-5]
[24500,0.10489999999999999,{"$f":"Cockpit!F$8","v":-41.842196549240526},24.5,{"$f":"Pice-(Pice-p0)*EXP(-D247*_Kon1*Cockpit!$C$3)+_Kon2*D247","v":0.10481668591435793},0.10432549583666832,null,8.3314085642063884E-5]
[24600,0.10489999999999999,{"$f":"Cockpit!F$8","v":-41.842196549240526},24.6,{"$f":"Pice-(Pice-p0)*EXP(-D248*_Kon1*Cockpit!$C$3)+_Kon2*D248","v":0.10481915590713352},0.10432549583666832,null,8.0844092866474981E-5]
[24700,0.10489999999999999,{"$f":"Cockpit!F$8","v":-41.842196549240526},24.7,{"$f":"Pice-(Pice-p0)*EXP(-D249*_Kon1*Cockpit!$C$3)+_Kon2*D249","v":0.10482162589990912},0.10432549583666832,null,7.8374100090872201E-5]
[24800,0.10489999999999999,{"$f":"Cockpit!F$8","v":-41.842196549240526},24.8,{"$f":"Pice-(Pice-p0)*EXP(-D250*_Kon1*Cockpit!$C$3)+_Kon2*D250","v":0.10482409589268471},0.10432549583666832,null,7.5904107315283298E-5]
[24900,0.10489999999999999,{"$f":"Cockpit!F$8","v":-41.842196549240526},24.9,{"$f":"Pice-(Pice-p0)*EXP(-D251*_Kon1*Cockpit!$C$3)+_Kon2*D251","v":0.1048265658854603},0.10432549583666832,null,7.3434114539694395E-5]
[25000,0.10489999999999999,{"$f":"Cockpit!F$8","v":-41.842196549240526},25,{"$f":"Pice-(Pice-p0)*EXP(-D252*_Kon1*Cockpit!$C$3)+_Kon2*D252","v":0.1048290358782359},0.10432549583666832,null,7.0964121764091614E-5]
[25100,0.10466,{"$f":"Cockpit!F$8","v":-41.842196549240526},25.1,{"$f":"Pice-(Pice-p0)*EXP(-D253*_Kon1*Cockpit!$C$3)+_Kon2*D253","v":0.10483150587101149},0.10432549583666832,null,1.7150587101148751E-4]
[25200,0.10466,{"$f":"Cockpit!F$8","v":-41.842196549240526},25.2,{"$f":"Pice-(Pice-p0)*EXP(-D254*_Kon1*Cockpit!$C$3)+_Kon2*D254","v":0.10483397586378709},0.10432549583666832,null,1.7397586378709029E-4]
[25300,0.10466,{"$f":"Cockpit!F$8","v":-41.842196549240526},25.3,{"$f":"Pice-(Pice-p0)*EXP(-D255*_Kon1*Cockpit!$C$3)+_Kon2*D255","v":0.10483644585656268},0.10432549583666832,null,1.7644585656267919E-4]
[25400,0.10466,{"$f":"Cockpit!F$8","v":-41.842196549240526},25.4,{"$f":"Pice-(Pice-p0)*EXP(-D256*_Kon1*Cockpit!$C$3)+_Kon2*D256","v":0.10483891584933829},0.10432549583666832,null,1.7891584933828197E-4]
[25500,0.10489999999999999,{"$f":"Cockpit!F$8","v":-41.842196549240526},25.5,{"$f":"Pice-(Pice-p0)*EXP(-D257*_Kon1*Cockpit!$C$3)+_Kon2*D257","v":0.10484138584211387},0.10432549583666832,null,5.8614157886119345E-5]
[25600,0.10489999999999999,{"$f":"Cockpit!F$8","v":-41.842196549240526},25.6,{"$f":"Pice-(Pice-p0)*EXP(-D258*_Kon1*Cockpit!$C$3)+_Kon2*D258","v":0.10484385583488948},0.10432549583666832,null,5.6144165110516564E-5]
[25700,0.10489999999999999,{"$f":"Cockpit!F$8","v":-41.842196549240526},{"$f":"A259/1000","v":25.7},{"$f":"Pice-(Pice-p0)*EXP(-D259*_Kon1*Cockpit!$C$3)+_Kon2*D259","v":0.10484632582766507},{"$f":"EXP(24.30592-6144.96/(C259+273.15))","v":0.10432549583666832},null,{"$f":"SQRT((E259-B259)^2)","v":5.3674172334927661E-5}]
[25800,0.10514999999999999,{"$f":"Cockpit!F$8","v":-41.842196549240526},25.8,{"$f":"Pice-(Pice-p0)*EXP(-D260*_Kon1*Cockpit!$C$3)+_Kon2*D260","v":0.10484879582044065},0.10432549583666832,null,3.0120417955933898E-4]
[25900,0.10514999999999999,{"$f":"Cockpit!F$8","v":-41.842196549240526},25.9,{"$f":"Pice-(Pice-p0)*EXP(-D261*_Kon1*Cockpit!$C$3)+_Kon2*D261","v":0.10485126581321626},0.10432549583666832,null,2.987341867837362E-4]
[26000,0.10514999999999999,{"$f":"Cockpit!F$8","v":-41.842196549240526},26,{"$f":"Pice-(Pice-p0)*EXP(-D262*_Kon1*Cockpit!$C$3)+_Kon2*D262","v":0.10485373580599185},0.10432549583666832,null,2.962641940081473E-4]
[26100,0.10489999999999999,{"$f":"Cockpit!F$8","v":-41.842196549240526},26.1,{"$f":"Pice-(Pice-p0)*EXP(-D263*_Kon1*Cockpit!$C$3)+_Kon2*D263","v":0.10485620579876745},0.10432549583666832,null,4.3794201232544294E-5]
[26200,0.10489999999999999,{"$f":"Cockpit!F$8","v":-41.842196549240526},26.2,{"$f":"Pice-(Pice-p0)*EXP(-D264*_Kon1*Cockpit!$C$3)+_Kon2*D264","v":0.10485867579154304},0.10432549583666832,null,4.1324208456955391E-5]
[26300,0.10489999999999999,{"$f":"Cockpit!F$8","v":-41.842196549240526},26.3,{"$f":"Pice-(Pice-p0)*EXP(-D265*_Kon1*Cockpit!$C$3)+_Kon2*D265","v":0.10486114578431864},0.10432549583666832,null,3.8854215681352611E-5]
[26400,0.10489999999999999,{"$f":"Cockpit!F$8","v":-41.842196549240526},26.4,{"$f":"Pice-(Pice-p0)*EXP(-D266*_Kon1*Cockpit!$C$3)+_Kon2*D266","v":0.10486361577709423},0.10432549583666832,null,3.6384222905763708E-5]
[26500,0.10489999999999999,{"$f":"Cockpit!F$8","v":-41.842196549240526},26.5,{"$f":"Pice-(Pice-p0)*EXP(-D267*_Kon1*Cockpit!$C$3)+_Kon2*D267","v":0.10486608576986983},0.10432549583666832,null,3.3914230130160927E-5]
[26600,0.10489999999999999,{"$f":"Cockpit!F$8","v":-41.842196549240526},26.6,{"$f":"Pice-(Pice-p0)*EXP(-D268*_Kon1*Cockpit!$C$3)+_Kon2*D268","v":0.10486855576264542},0.10432549583666832,null,3.1444237354572024E-5]
[26700,0.10489999999999999,{"$f":"Cockpit!F$8","v":-41.842196549240526},26.7,{"$f":"Pice-(Pice-p0)*EXP(-D269*_Kon1*Cockpit!$C$3)+_Kon2*D269","v":0.10487102575542102},0.10432549583666832,null,2.8974244578969244E-5]
[26800,0.10514999999999999,{"$f":"Cockpit!F$8","v":-41.842196549240526},26.8,{"$f":"Pice-(Pice-p0)*EXP(-D270*_Kon1*Cockpit!$C$3)+_Kon2*D270","v":0.10487349574819661},0.10432549583666832,null,2.7650425180338056E-4]
[26900,0.10514999999999999,{"$f":"Cockpit!F$8","v":-41.842196549240526},26.9,{"$f":"Pice-(Pice-p0)*EXP(-D271*_Kon1*Cockpit!$C$3)+_Kon2*D271","v":0.1048759657409722},0.10432549583666832,null,2.7403425902779166E-4]
[27000,0.10514999999999999,{"$f":"Cockpit!F$8","v":-41.842196549240526},27,{"$f":"Pice-(Pice-p0)*EXP(-D272*_Kon1*Cockpit!$C$3)+_Kon2*D272","v":0.1048784357337478},0.10432549583666832,null,2.7156426625218888E-4]
[27100,0.10514999999999999,{"$f":"Cockpit!F$8","v":-41.842196549240526},27.1,{"$f":"Pice-(Pice-p0)*EXP(-D273*_Kon1*Cockpit!$C$3)+_Kon2*D273","v":0.10488090572652339},0.10432549583666832,null,2.6909427347659998E-4]
[27200,0.10489999999999999,{"$f":"Cockpit!F$8","v":-41.842196549240526},27.2,{"$f":"Pice-(Pice-p0)*EXP(-D274*_Kon1*Cockpit!$C$3)+_Kon2*D274","v":0.104883375719299},0.10432549583666832,null,1.6624280700996974E-5]
[27300,0.10489999999999999,{"$f":"Cockpit!F$8","v":-41.842196549240526},27.3,{"$f":"Pice-(Pice-p0)*EXP(-D275*_Kon1*Cockpit!$C$3)+_Kon2*D275","v":0.10488584571207459},0.10432549583666832,null,1.4154287925408071E-5]
[27400,0.10489999999999999,{"$f":"Cockpit!F$8","v":-41.842196549240526},27.4,{"$f":"Pice-(Pice-p0)*EXP(-D276*_Kon1*Cockpit!$C$3)+_Kon2*D276","v":0.10488831570485019},0.10432549583666832,null,1.168429514980529E-5]
[27500,0.10489999999999999,{"$f":"Cockpit!F$8","v":-41.842196549240526},27.5,{"$f":"Pice-(Pice-p0)*EXP(-D277*_Kon1*Cockpit!$C$3)+_Kon2*D277","v":0.10489078569762578},0.10432549583666832,null,9.2143023742163876E-6]
[27600,0.10489999999999999,{"$f":"Cockpit!F$8","v":-41.842196549240526},27.6,{"$f":"Pice-(Pice-p0)*EXP(-D278*_Kon1*Cockpit!$C$3)+_Kon2*D278","v":0.10489325569040138},0.10432549583666832,null,6.744309598613607E-6]
[27700,0.10489999999999999,{"$f":"Cockpit!F$8","v":-41.842196549240526},27.7,{"$f":"Pice-(Pice-p0)*EXP(-D279*_Kon1*Cockpit!$C$3)+_Kon2*D279","v":0.10489572568317697},0.10432549583666832,null,4.2743168230247042E-6]
[27800,0.10489999999999999,{"$f":"Cockpit!F$8","v":-41.842196549240526},27.8,{"$f":"Pice-(Pice-p0)*EXP(-D280*_Kon1*Cockpit!$C$3)+_Kon2*D280","v":0.10489819567595257},0.10432549583666832,null,1.8043240474219235E-6]
[27900,0.10489999999999999,{"$f":"Cockpit!F$8","v":-41.842196549240526},27.9,{"$f":"Pice-(Pice-p0)*EXP(-D281*_Kon1*Cockpit!$C$3)+_Kon2*D281","v":0.10490066566872816},0.10432549583666832,null,6.6566872816697931E-7]
[28000,0.10489999999999999,{"$f":"Cockpit!F$8","v":-41.842196549240526},28,{"$f":"Pice-(Pice-p0)*EXP(-D282*_Kon1*Cockpit!$C$3)+_Kon2*D282","v":0.10490313566150375},0.10432549583666832,null,3.1356615037558822E-6]
[28100,0.10489999999999999,{"$f":"Cockpit!F$8","v":-41.842196549240526},28.1,{"$f":"Pice-(Pice-p0)*EXP(-D283*_Kon1*Cockpit!$C$3)+_Kon2*D283","v":0.10490560565427935},0.10432549583666832,null,5.6056542793586628E-6]
[28200,0.10489999999999999,{"$f":"Cockpit!F$8","v":-41.842196549240526},28.2,{"$f":"Pice-(Pice-p0)*EXP(-D284*_Kon1*Cockpit!$C$3)+_Kon2*D284","v":0.10490807564705494},0.10432549583666832,null,8.0756470549475656E-6]
[28300,0.10489999999999999,{"$f":"Cockpit!F$8","v":-41.842196549240526},28.3,{"$f":"Pice-(Pice-p0)*EXP(-D285*_Kon1*Cockpit!$C$3)+_Kon2*D285","v":0.10491054563983054},0.10432549583666832,null,1.0545639830550346E-5]
[28400,0.10514999999999999,{"$f":"Cockpit!F$8","v":-41.842196549240526},28.4,{"$f":"Pice-(Pice-p0)*EXP(-D286*_Kon1*Cockpit!$C$3)+_Kon2*D286","v":0.10491301563260613},0.10432549583666832,null,2.3698436739386097E-4]
[28500,0.10539999999999999,{"$f":"Cockpit!F$8","v":-41.842196549240526},28.5,{"$f":"Pice-(Pice-p0)*EXP(-D287*_Kon1*Cockpit!$C$3)+_Kon2*D287","v":0.10491548562538174},0.10432549583666832,null,4.8451437461825841E-4]
[28600,0.10539999999999999,{"$f":"Cockpit!F$8","v":-41.842196549240526},28.6,{"$f":"Pice-(Pice-p0)*EXP(-D288*_Kon1*Cockpit!$C$3)+_Kon2*D288","v":0.10491795561815732},0.10432549583666832,null,4.8204438184266951E-4]
[28700,0.10539999999999999,{"$f":"Cockpit!F$8","v":-41.842196549240526},28.7,{"$f":"Pice-(Pice-p0)*EXP(-D289*_Kon1*Cockpit!$C$3)+_Kon2*D289","v":0.10492042561093293},0.10432549583666832,null,4.7957438906706673E-4]
[28800,0.10539999999999999,{"$f":"Cockpit!F$8","v":-41.842196549240526},28.8,{"$f":"Pice-(Pice-p0)*EXP(-D290*_Kon1*Cockpit!$C$3)+_Kon2*D290","v":0.10492289560370852},0.10432549583666832,null,4.7710439629147783E-4]
[28900,0.10514999999999999,{"$f":"Cockpit!F$8","v":-41.842196549240526},28.9,{"$f":"Pice-(Pice-p0)*EXP(-D291*_Kon1*Cockpit!$C$3)+_Kon2*D291","v":0.1049253655964841},0.10432549583666832,null,2.246344035158887E-4]
[29000,0.10514999999999999,{"$f":"Cockpit!F$8","v":-41.842196549240526},29,{"$f":"Pice-(Pice-p0)*EXP(-D292*_Kon1*Cockpit!$C$3)+_Kon2*D292","v":0.10492783558925971},0.10432549583666832,null,2.2216441074028592E-4]
[29100,0.10489999999999999,{"$f":"Cockpit!F$8","v":-41.842196549240526},29.1,{"$f":"Pice-(Pice-p0)*EXP(-D293*_Kon1*Cockpit!$C$3)+_Kon2*D293","v":0.1049303055820353},0.10432549583666832,null,3.0305582035303202E-5]
[29200,0.10489999999999999,{"$f":"Cockpit!F$8","v":-41.842196549240526},29.2,{"$f":"Pice-(Pice-p0)*EXP(-D294*_Kon1*Cockpit!$C$3)+_Kon2*D294","v":0.1049327755748109},0.10432549583666832,null,3.2775574810905983E-5]
[29300,0.10466,{"$f":"Cockpit!F$8","v":-41.842196549240526},29.3,{"$f":"Pice-(Pice-p0)*EXP(-D295*_Kon1*Cockpit!$C$3)+_Kon2*D295","v":0.10493524556758649},0.10432549583666832,null,2.7524556758648511E-4]
[29400,0.10466,{"$f":"Cockpit!F$8","v":-41.842196549240526},29.4,{"$f":"Pice-(Pice-p0)*EXP(-D296*_Kon1*Cockpit!$C$3)+_Kon2*D296","v":0.10493771556036209},0.10432549583666832,null,2.7771556036208789E-4]
[29500,0.10466,{"$f":"Cockpit!F$8","v":-41.842196549240526},29.5,{"$f":"Pice-(Pice-p0)*EXP(-D297*_Kon1*Cockpit!$C$3)+_Kon2*D297","v":0.10494018555313768},0.10432549583666832,null,2.8018555313767679E-4]
[29600,0.10489999999999999,{"$f":"Cockpit!F$8","v":-41.842196549240526},29.6,{"$f":"Pice-(Pice-p0)*EXP(-D298*_Kon1*Cockpit!$C$3)+_Kon2*D298","v":0.10494265554591328},0.10432549583666832,null,4.265554591328935E-5]
[29700,0.10489999999999999,{"$f":"Cockpit!F$8","v":-41.842196549240526},29.7,{"$f":"Pice-(Pice-p0)*EXP(-D299*_Kon1*Cockpit!$C$3)+_Kon2*D299","v":0.10494512553868887},0.10432549583666832,null,4.5125538688878253E-5]
[29800,0.10489999999999999,{"$f":"Cockpit!F$8","v":-41.842196549240526},29.8,{"$f":"Pice-(Pice-p0)*EXP(-D300*_Kon1*Cockpit!$C$3)+_Kon2*D300","v":0.10494759553146447},0.10432549583666832,null,4.7595531464481033E-5]
[29900,0.10514999999999999,{"$f":"Cockpit!F$8","v":-41.842196549240526},29.9,{"$f":"Pice-(Pice-p0)*EXP(-D301*_Kon1*Cockpit!$C$3)+_Kon2*D301","v":0.10495006552424006},0.10432549583666832,null,1.9993447575993029E-4]
[30000,0.10514999999999999,{"$f":"Cockpit!F$8","v":-41.842196549240526},30,{"$f":"Pice-(Pice-p0)*EXP(-D302*_Kon1*Cockpit!$C$3)+_Kon2*D302","v":0.10495253551701565},0.10432549583666832,null,1.9746448298434138E-4]
[30100,0.10539999999999999,{"$f":"Cockpit!F$8","v":-41.842196549240526},30.1,{"$f":"Pice-(Pice-p0)*EXP(-D303*_Kon1*Cockpit!$C$3)+_Kon2*D303","v":0.10495500550979125},0.10432549583666832,null,4.4499449020873882E-4]
[30200,0.10539999999999999,{"$f":"Cockpit!F$8","v":-41.842196549240526},30.2,{"$f":"Pice-(Pice-p0)*EXP(-D304*_Kon1*Cockpit!$C$3)+_Kon2*D304","v":0.10495747550256684},0.10432549583666832,null,4.4252449743314992E-4]
[30300,0.10539999999999999,{"$f":"Cockpit!F$8","v":-41.842196549240526},30.3,{"$f":"Pice-(Pice-p0)*EXP(-D305*_Kon1*Cockpit!$C$3)+_Kon2*D305","v":0.10495994549534245},0.10432549583666832,null,4.4005450465754714E-4]
[30400,0.10539999999999999,{"$f":"Cockpit!F$8","v":-41.842196549240526},30.4,{"$f":"Pice-(Pice-p0)*EXP(-D306*_Kon1*Cockpit!$C$3)+_Kon2*D306","v":0.10496241548811804},0.10432549583666832,null,4.3758451188195824E-4]
[30500,0.10539999999999999,{"$f":"Cockpit!F$8","v":-41.842196549240526},30.5,{"$f":"Pice-(Pice-p0)*EXP(-D307*_Kon1*Cockpit!$C$3)+_Kon2*D307","v":0.10496488548089364},0.10432549583666832,null,4.3511451910635546E-4]
[30600,0.10539999999999999,{"$f":"Cockpit!F$8","v":-41.842196549240526},30.6,{"$f":"Pice-(Pice-p0)*EXP(-D308*_Kon1*Cockpit!$C$3)+_Kon2*D308","v":0.10496735547366923},0.10432549583666832,null,4.3264452633076655E-4]
[30700,0.10539999999999999,{"$f":"Cockpit!F$8","v":-41.842196549240526},30.7,{"$f":"Pice-(Pice-p0)*EXP(-D309*_Kon1*Cockpit!$C$3)+_Kon2*D309","v":0.10496982546644483},0.10432549583666832,null,4.3017453355516377E-4]
[30800,0.10539999999999999,{"$f":"Cockpit!F$8","v":-41.842196549240526},30.8,{"$f":"Pice-(Pice-p0)*EXP(-D310*_Kon1*Cockpit!$C$3)+_Kon2*D310","v":0.10497229545922042},0.10432549583666832,null,4.2770454077957487E-4]
[30900,0.10539999999999999,{"$f":"Cockpit!F$8","v":-41.842196549240526},30.9,{"$f":"Pice-(Pice-p0)*EXP(-D311*_Kon1*Cockpit!$C$3)+_Kon2*D311","v":0.10497476545199602},0.10432549583666832,null,4.2523454800397209E-4]
[31000,0.10539999999999999,{"$f":"Cockpit!F$8","v":-41.842196549240526},31,{"$f":"Pice-(Pice-p0)*EXP(-D312*_Kon1*Cockpit!$C$3)+_Kon2*D312","v":0.10497723544477161},0.10432549583666832,null,4.2276455522838319E-4]
[31100,0.10539999999999999,{"$f":"Cockpit!F$8","v":-41.842196549240526},31.1,{"$f":"Pice-(Pice-p0)*EXP(-D313*_Kon1*Cockpit!$C$3)+_Kon2*D313","v":0.1049797054375472},0.10432549583666832,null,4.2029456245279428E-4]
[31200,0.10539999999999999,{"$f":"Cockpit!F$8","v":-41.842196549240526},31.2,{"$f":"Pice-(Pice-p0)*EXP(-D314*_Kon1*Cockpit!$C$3)+_Kon2*D314","v":0.1049821754303228},0.10432549583666832,null,4.178245696771915E-4]
[31300,0.10539999999999999,{"$f":"Cockpit!F$8","v":-41.842196549240526},31.3,{"$f":"Pice-(Pice-p0)*EXP(-D315*_Kon1*Cockpit!$C$3)+_Kon2*D315","v":0.10498464542309839},0.10432549583666832,null,4.153545769016026E-4]
[31400,0.10539999999999999,{"$f":"Cockpit!F$8","v":-41.842196549240526},31.4,{"$f":"Pice-(Pice-p0)*EXP(-D316*_Kon1*Cockpit!$C$3)+_Kon2*D316","v":0.10498711541587399},0.10432549583666832,null,4.1288458412599982E-4]
[31500,0.10514999999999999,{"$f":"Cockpit!F$8","v":-41.842196549240526},31.5,{"$f":"Pice-(Pice-p0)*EXP(-D317*_Kon1*Cockpit!$C$3)+_Kon2*D317","v":0.10498958540864958},0.10432549583666832,null,1.604145913504107E-4]
[31600,0.10514999999999999,{"$f":"Cockpit!F$8","v":-41.842196549240526},31.6,{"$f":"Pice-(Pice-p0)*EXP(-D318*_Kon1*Cockpit!$C$3)+_Kon2*D318","v":0.10499205540142519},0.10432549583666832,null,1.5794459857480792E-4]
[31700,0.10489999999999999,{"$f":"Cockpit!F$8","v":-41.842196549240526},31.7,{"$f":"Pice-(Pice-p0)*EXP(-D319*_Kon1*Cockpit!$C$3)+_Kon2*D319","v":0.10499452539420077},0.10432549583666832,null,9.452539420078121E-5]
[31800,0.10514999999999999,{"$f":"Cockpit!F$8","v":-41.842196549240526},31.8,{"$f":"Pice-(Pice-p0)*EXP(-D320*_Kon1*Cockpit!$C$3)+_Kon2*D320","v":0.10499699538697638},0.10432549583666832,null,1.5300461302361623E-4]
[31900,0.10514999999999999,{"$f":"Cockpit!F$8","v":-41.842196549240526},31.9,{"$f":"Pice-(Pice-p0)*EXP(-D321*_Kon1*Cockpit!$C$3)+_Kon2*D321","v":0.10499946537975197},0.10432549583666832,null,1.5053462024802733E-4]
[32000,0.10514999999999999,{"$f":"Cockpit!F$8","v":-41.842196549240526},32,{"$f":"Pice-(Pice-p0)*EXP(-D322*_Kon1*Cockpit!$C$3)+_Kon2*D322","v":0.10500193537252756},0.10432549583666832,null,1.4806462747243843E-4]
[32100,0.10539999999999999,{"$f":"Cockpit!F$8","v":-41.842196549240526},{"$f":"A323/1000","v":32.1},{"$f":"Pice-(Pice-p0)*EXP(-D323*_Kon1*Cockpit!$C$3)+_Kon2*D323","v":0.10500440536530316},{"$f":"EXP(24.30592-6144.96/(C323+273.15))","v":0.10432549583666832},null,{"$f":"SQRT((E323-B323)^2)","v":3.9559463469683587E-4}]
[32200,0.10539999999999999,{"$f":"Cockpit!F$8","v":-41.842196549240526},32.200000000000003,{"$f":"Pice-(Pice-p0)*EXP(-D324*_Kon1*Cockpit!$C$3)+_Kon2*D324","v":0.10500687535807875},0.10432549583666832,null,3.9312464192124696E-4]
[32300,0.10539999999999999,{"$f":"Cockpit!F$8","v":-41.842196549240526},32.299999999999997,{"$f":"Pice-(Pice-p0)*EXP(-D325*_Kon1*Cockpit!$C$3)+_Kon2*D325","v":0.10500934535085435},0.10432549583666832,null,3.9065464914564418E-4]
[32400,0.10539999999999999,{"$f":"Cockpit!F$8","v":-41.842196549240526},32.4,{"$f":"Pice-(Pice-p0)*EXP(-D326*_Kon1*Cockpit!$C$3)+_Kon2*D326","v":0.10501181534362994},0.10432549583666832,null,3.8818465637005528E-4]
[32500,0.10539999999999999,{"$f":"Cockpit!F$8","v":-41.842196549240526},32.5,{"$f":"Pice-(Pice-p0)*EXP(-D327*_Kon1*Cockpit!$C$3)+_Kon2*D327","v":0.10501428533640554},0.10432549583666832,null,3.857146635944525E-4]
[32600,0.10539999999999999,{"$f":"Cockpit!F$8","v":-41.842196549240526},32.6,{"$f":"Pice-(Pice-p0)*EXP(-D328*_Kon1*Cockpit!$C$3)+_Kon2*D328","v":0.10501675532918113},0.10432549583666832,null,3.832446708188636E-4]
[32700,0.10539999999999999,{"$f":"Cockpit!F$8","v":-41.842196549240526},32.700000000000003,{"$f":"Pice-(Pice-p0)*EXP(-D329*_Kon1*Cockpit!$C$3)+_Kon2*D329","v":0.10501922532195673},0.10432549583666832,null,3.8077467804326082E-4]
[32800,0.10539999999999999,{"$f":"Cockpit!F$8","v":-41.842196549240526},32.799999999999997,{"$f":"Pice-(Pice-p0)*EXP(-D330*_Kon1*Cockpit!$C$3)+_Kon2*D330","v":0.10502169531473232},0.10432549583666832,null,3.7830468526767191E-4]
[32900,0.10539999999999999,{"$f":"Cockpit!F$8","v":-41.842196549240526},32.9,{"$f":"Pice-(Pice-p0)*EXP(-D331*_Kon1*Cockpit!$C$3)+_Kon2*D331","v":0.10502416530750792},0.10432549583666832,null,3.7583469249206913E-4]
[33000,0.10539999999999999,{"$f":"Cockpit!F$8","v":-41.842196549240526},33,{"$f":"Pice-(Pice-p0)*EXP(-D332*_Kon1*Cockpit!$C$3)+_Kon2*D332","v":0.10502663530028351},0.10432549583666832,null,3.7336469971648023E-4]
[33100,0.10539999999999999,{"$f":"Cockpit!F$8","v":-41.842196549240526},33.1,{"$f":"Pice-(Pice-p0)*EXP(-D333*_Kon1*Cockpit!$C$3)+_Kon2*D333","v":0.1050291052930591},0.10432549583666832,null,3.7089470694089133E-4]
[33200,0.10539999999999999,{"$f":"Cockpit!F$8","v":-41.842196549240526},33.200000000000003,{"$f":"Pice-(Pice-p0)*EXP(-D334*_Kon1*Cockpit!$C$3)+_Kon2*D334","v":0.10503157528583471},0.10432549583666832,null,3.6842471416528855E-4]
[33300,0.10514999999999999,{"$f":"Cockpit!F$8","v":-41.842196549240526},33.299999999999997,{"$f":"Pice-(Pice-p0)*EXP(-D335*_Kon1*Cockpit!$C$3)+_Kon2*D335","v":0.10503404527861029},0.10432549583666832,null,1.1595472138969942E-4]
[33400,0.10514999999999999,{"$f":"Cockpit!F$8","v":-41.842196549240526},33.4,{"$f":"Pice-(Pice-p0)*EXP(-D336*_Kon1*Cockpit!$C$3)+_Kon2*D336","v":0.1050365152713859},0.10432549583666832,null,1.1348472861409664E-4]
[33500,0.10514999999999999,{"$f":"Cockpit!F$8","v":-41.842196549240526},33.5,{"$f":"Pice-(Pice-p0)*EXP(-D337*_Kon1*Cockpit!$C$3)+_Kon2*D337","v":0.10503898526416149},0.10432549583666832,null,1.1101473583850774E-4]
[33600,0.10539999999999999,{"$f":"Cockpit!F$8","v":-41.842196549240526},33.6,{"$f":"Pice-(Pice-p0)*EXP(-D338*_Kon1*Cockpit!$C$3)+_Kon2*D338","v":0.10504145525693709},0.10432549583666832,null,3.5854474306290518E-4]
[33700,0.10539999999999999,{"$f":"Cockpit!F$8","v":-41.842196549240526},33.700000000000003,{"$f":"Pice-(Pice-p0)*EXP(-D339*_Kon1*Cockpit!$C$3)+_Kon2*D339","v":0.10504392524971268},0.10432549583666832,null,3.5607475028731628E-4]
[33800,0.10539999999999999,{"$f":"Cockpit!F$8","v":-41.842196549240526},33.799999999999997,{"$f":"Pice-(Pice-p0)*EXP(-D340*_Kon1*Cockpit!$C$3)+_Kon2*D340","v":0.10504639524248828},0.10432549583666832,null,3.536047575117135E-4]
[33900,0.10539999999999999,{"$f":"Cockpit!F$8","v":-41.842196549240526},33.9,{"$f":"Pice-(Pice-p0)*EXP(-D341*_Kon1*Cockpit!$C$3)+_Kon2*D341","v":0.10504886523526387},0.10432549583666832,null,3.5113476473612459E-4]
[34000,0.10539999999999999,{"$f":"Cockpit!F$8","v":-41.842196549240526},34,{"$f":"Pice-(Pice-p0)*EXP(-D342*_Kon1*Cockpit!$C$3)+_Kon2*D342","v":0.10505133522803947},0.10432549583666832,null,3.4866477196052181E-4]
[34100,0.10539999999999999,{"$f":"Cockpit!F$8","v":-41.842196549240526},34.1,{"$f":"Pice-(Pice-p0)*EXP(-D343*_Kon1*Cockpit!$C$3)+_Kon2*D343","v":0.10505380522081506},0.10432549583666832,null,3.4619477918493291E-4]
[34200,0.10539999999999999,{"$f":"Cockpit!F$8","v":-41.842196549240526},34.200000000000003,{"$f":"Pice-(Pice-p0)*EXP(-D344*_Kon1*Cockpit!$C$3)+_Kon2*D344","v":0.10505627521359065},0.10432549583666832,null,3.4372478640934401E-4]
[34300,0.10539999999999999,{"$f":"Cockpit!F$8","v":-41.842196549240526},34.299999999999997,{"$f":"Pice-(Pice-p0)*EXP(-D345*_Kon1*Cockpit!$C$3)+_Kon2*D345","v":0.10505874520636625},0.10432549583666832,null,3.4125479363374123E-4]
[34400,0.10539999999999999,{"$f":"Cockpit!F$8","v":-41.842196549240526},34.4,{"$f":"Pice-(Pice-p0)*EXP(-D346*_Kon1*Cockpit!$C$3)+_Kon2*D346","v":0.10506121519914184},0.10432549583666832,null,3.3878480085815232E-4]
[34500,0.10539999999999999,{"$f":"Cockpit!F$8","v":-41.842196549240526},34.5,{"$f":"Pice-(Pice-p0)*EXP(-D347*_Kon1*Cockpit!$C$3)+_Kon2*D347","v":0.10506368519191744},0.10432549583666832,null,3.3631480808254954E-4]
[34600,0.10539999999999999,{"$f":"Cockpit!F$8","v":-41.842196549240526},34.6,{"$f":"Pice-(Pice-p0)*EXP(-D348*_Kon1*Cockpit!$C$3)+_Kon2*D348","v":0.10506615518469303},0.10432549583666832,null,3.3384481530696064E-4]
[34700,0.10539999999999999,{"$f":"Cockpit!F$8","v":-41.842196549240526},34.700000000000003,{"$f":"Pice-(Pice-p0)*EXP(-D349*_Kon1*Cockpit!$C$3)+_Kon2*D349","v":0.10506862517746864},0.10432549583666832,null,3.3137482253135786E-4]
[34800,0.10539999999999999,{"$f":"Cockpit!F$8","v":-41.842196549240526},34.799999999999997,{"$f":"Pice-(Pice-p0)*EXP(-D350*_Kon1*Cockpit!$C$3)+_Kon2*D350","v":0.10507109517024422},0.10432549583666832,null,3.2890482975576896E-4]
[34900,0.10539999999999999,{"$f":"Cockpit!F$8","v":-41.842196549240526},34.9,{"$f":"Pice-(Pice-p0)*EXP(-D351*_Kon1*Cockpit!$C$3)+_Kon2*D351","v":0.10507356516301983},0.10432549583666832,null,3.2643483698016618E-4]
[35000,0.10539999999999999,{"$f":"Cockpit!F$8","v":-41.842196549240526},35,{"$f":"Pice-(Pice-p0)*EXP(-D352*_Kon1*Cockpit!$C$3)+_Kon2*D352","v":0.10507603515579542},0.10432549583666832,null,3.2396484420457727E-4]
[35100,0.10539999999999999,{"$f":"Cockpit!F$8","v":-41.842196549240526},35.1,{"$f":"Pice-(Pice-p0)*EXP(-D353*_Kon1*Cockpit!$C$3)+_Kon2*D353","v":0.10507850514857101},0.10432549583666832,null,3.2149485142898837E-4]
[35200,0.10539999999999999,{"$f":"Cockpit!F$8","v":-41.842196549240526},35.200000000000003,{"$f":"Pice-(Pice-p0)*EXP(-D354*_Kon1*Cockpit!$C$3)+_Kon2*D354","v":0.10508097514134661},0.10432549583666832,null,3.1902485865338559E-4]
[35300,0.10539999999999999,{"$f":"Cockpit!F$8","v":-41.842196549240526},35.299999999999997,{"$f":"Pice-(Pice-p0)*EXP(-D355*_Kon1*Cockpit!$C$3)+_Kon2*D355","v":0.1050834451341222},0.10432549583666832,null,3.1655486587779669E-4]
[35400,0.10539999999999999,{"$f":"Cockpit!F$8","v":-41.842196549240526},35.4,{"$f":"Pice-(Pice-p0)*EXP(-D356*_Kon1*Cockpit!$C$3)+_Kon2*D356","v":0.1050859151268978},0.10432549583666832,null,3.1408487310219391E-4]
[35500,0.10539999999999999,{"$f":"Cockpit!F$8","v":-41.842196549240526},35.5,{"$f":"Pice-(Pice-p0)*EXP(-D357*_Kon1*Cockpit!$C$3)+_Kon2*D357","v":0.10508838511967339},0.10432549583666832,null,3.11614880326605E-4]
[35600,0.10539999999999999,{"$f":"Cockpit!F$8","v":-41.842196549240526},35.6,{"$f":"Pice-(Pice-p0)*EXP(-D358*_Kon1*Cockpit!$C$3)+_Kon2*D358","v":0.10509085511244899},0.10432549583666832,null,3.0914488755100222E-4]
[35700,0.10539999999999999,{"$f":"Cockpit!F$8","v":-41.842196549240526},35.700000000000003,{"$f":"Pice-(Pice-p0)*EXP(-D359*_Kon1*Cockpit!$C$3)+_Kon2*D359","v":0.10509332510522458},0.10432549583666832,null,3.0667489477541332E-4]
[35800,0.10539999999999999,{"$f":"Cockpit!F$8","v":-41.842196549240526},35.799999999999997,{"$f":"Pice-(Pice-p0)*EXP(-D360*_Kon1*Cockpit!$C$3)+_Kon2*D360","v":0.10509579509800018},0.10432549583666832,null,3.0420490199981054E-4]
[35900,0.10514999999999999,{"$f":"Cockpit!F$8","v":-41.842196549240526},35.9,{"$f":"Pice-(Pice-p0)*EXP(-D361*_Kon1*Cockpit!$C$3)+_Kon2*D361","v":0.10509826509077577},0.10432549583666832,null,5.1734909224221415E-5]
[36000,0.10514999999999999,{"$f":"Cockpit!F$8","v":-41.842196549240526},36,{"$f":"Pice-(Pice-p0)*EXP(-D362*_Kon1*Cockpit!$C$3)+_Kon2*D362","v":0.10510073508355137},0.10432549583666832,null,4.9264916448618634E-5]
[36100,0.10514999999999999,{"$f":"Cockpit!F$8","v":-41.842196549240526},36.1,{"$f":"Pice-(Pice-p0)*EXP(-D363*_Kon1*Cockpit!$C$3)+_Kon2*D363","v":0.10510320507632696},0.10432549583666832,null,4.6794923673029731E-5]
[36200,0.10514999999999999,{"$f":"Cockpit!F$8","v":-41.842196549240526},36.200000000000003,{"$f":"Pice-(Pice-p0)*EXP(-D364*_Kon1*Cockpit!$C$3)+_Kon2*D364","v":0.10510567506910255},0.10432549583666832,null,4.4324930897440828E-5]
[36300,0.10489999999999999,{"$f":"Cockpit!F$8","v":-41.842196549240526},36.299999999999997,{"$f":"Pice-(Pice-p0)*EXP(-D365*_Kon1*Cockpit!$C$3)+_Kon2*D365","v":0.10510814506187816},0.10432549583666832,null,2.0814506187816217E-4]
[36400,0.10489999999999999,{"$f":"Cockpit!F$8","v":-41.842196549240526},36.4,{"$f":"Pice-(Pice-p0)*EXP(-D366*_Kon1*Cockpit!$C$3)+_Kon2*D366","v":0.10511061505465374},0.10432549583666832,null,2.1061505465375108E-4]
[36500,0.10466,{"$f":"Cockpit!F$8","v":-41.842196549240526},36.5,{"$f":"Pice-(Pice-p0)*EXP(-D367*_Kon1*Cockpit!$C$3)+_Kon2*D367","v":0.10511308504742935},0.10432549583666832,null,4.5308504742934408E-4]
[36600,0.10466,{"$f":"Cockpit!F$8","v":-41.842196549240526},36.6,{"$f":"Pice-(Pice-p0)*EXP(-D368*_Kon1*Cockpit!$C$3)+_Kon2*D368","v":0.10511555504020494},0.10432549583666832,null,4.5555504020493298E-4]
[36700,0.10489999999999999,{"$f":"Cockpit!F$8","v":-41.842196549240526},36.700000000000003,{"$f":"Pice-(Pice-p0)*EXP(-D369*_Kon1*Cockpit!$C$3)+_Kon2*D369","v":0.10511802503298054},0.10432549583666832,null,2.1802503298054554E-4]
[36800,0.10514999999999999,{"$f":"Cockpit!F$8","v":-41.842196549240526},36.799999999999997,{"$f":"Pice-(Pice-p0)*EXP(-D370*_Kon1*Cockpit!$C$3)+_Kon2*D370","v":0.10512049502575613},0.10432549583666832,null,2.9504974243865778E-5]
[36900,0.10564,{"$f":"Cockpit!F$8","v":-41.842196549240526},36.9,{"$f":"Pice-(Pice-p0)*EXP(-D371*_Kon1*Cockpit!$C$3)+_Kon2*D371","v":0.10512296501853173},0.10432549583666832,null,5.1703498146826732E-4]
[37000,0.10589,{"$f":"Cockpit!F$8","v":-41.842196549240526},37,{"$f":"Pice-(Pice-p0)*EXP(-D372*_Kon1*Cockpit!$C$3)+_Kon2*D372","v":0.10512543501130732},0.10432549583666832,null,7.6456498869267864E-4]
[37100,0.10589,{"$f":"Cockpit!F$8","v":-41.842196549240526},37.1,{"$f":"Pice-(Pice-p0)*EXP(-D373*_Kon1*Cockpit!$C$3)+_Kon2*D373","v":0.10512790500408292},0.10432549583666832,null,7.6209499591707586E-4]
[37200,0.10564,{"$f":"Cockpit!F$8","v":-41.842196549240526},37.200000000000003,{"$f":"Pice-(Pice-p0)*EXP(-D374*_Kon1*Cockpit!$C$3)+_Kon2*D374","v":0.10513037499685851},0.10432549583666832,null,5.0962500314148673E-4]
[37300,0.10539999999999999,{"$f":"Cockpit!F$8","v":-41.842196549240526},37.299999999999997,{"$f":"Pice-(Pice-p0)*EXP(-D375*_Kon1*Cockpit!$C$3)+_Kon2*D375","v":0.1051328449896341},0.10432549583666832,null,2.6715501036589373E-4]
[37400,0.10539999999999999,{"$f":"Cockpit!F$8","v":-41.842196549240526},37.4,{"$f":"Pice-(Pice-p0)*EXP(-D376*_Kon1*Cockpit!$C$3)+_Kon2*D376","v":0.1051353149824097},0.10432549583666832,null,2.6468501759029095E-4]
[37500,0.10539999999999999,{"$f":"Cockpit!F$8","v":-41.842196549240526},37.5,{"$f":"Pice-(Pice-p0)*EXP(-D377*_Kon1*Cockpit!$C$3)+_Kon2*D377","v":0.10513778497518529},0.10432549583666832,null,2.6221502481470205E-4]
[37600,0.10539999999999999,{"$f":"Cockpit!F$8","v":-41.842196549240526},37.6,{"$f":"Pice-(Pice-p0)*EXP(-D378*_Kon1*Cockpit!$C$3)+_Kon2*D378","v":0.10514025496796089},0.10432549583666832,null,2.5974503203909927E-4]
[37700,0.10539999999999999,{"$f":"Cockpit!F$8","v":-41.842196549240526},37.700000000000003,{"$f":"Pice-(Pice-p0)*EXP(-D379*_Kon1*Cockpit!$C$3)+_Kon2*D379","v":0.10514272496073648},0.10432549583666832,null,2.5727503926351036E-4]
[37800,0.10539999999999999,{"$f":"Cockpit!F$8","v":-41.842196549240526},37.799999999999997,{"$f":"Pice-(Pice-p0)*EXP(-D380*_Kon1*Cockpit!$C$3)+_Kon2*D380","v":0.10514519495351209},0.10432549583666832,null,2.5480504648790758E-4]
[37900,0.10514999999999999,{"$f":"Cockpit!F$8","v":-41.842196549240526},37.9,{"$f":"Pice-(Pice-p0)*EXP(-D381*_Kon1*Cockpit!$C$3)+_Kon2*D381","v":0.10514766494628768},0.10432549583666832,null,2.3350537123184578E-6]
[38000,0.10514999999999999,{"$f":"Cockpit!F$8","v":-41.842196549240526},38,{"$f":"Pice-(Pice-p0)*EXP(-D382*_Kon1*Cockpit!$C$3)+_Kon2*D382","v":0.10515013493906328},0.10432549583666832,null,1.3493906328432281E-7]
[38100,0.10514999999999999,{"$f":"Cockpit!F$8","v":-41.842196549240526},38.1,{"$f":"Pice-(Pice-p0)*EXP(-D383*_Kon1*Cockpit!$C$3)+_Kon2*D383","v":0.10515260493183887},0.10432549583666832,null,2.6049318388732257E-6]
[38200,0.10514999999999999,{"$f":"Cockpit!F$8","v":-41.842196549240526},38.200000000000003,{"$f":"Pice-(Pice-p0)*EXP(-D384*_Kon1*Cockpit!$C$3)+_Kon2*D384","v":0.10515507492461446},0.10432549583666832,null,5.0749246144621285E-6]
[38300,0.10514999999999999,{"$f":"Cockpit!F$8","v":-41.842196549240526},38.299999999999997,{"$f":"Pice-(Pice-p0)*EXP(-D385*_Kon1*Cockpit!$C$3)+_Kon2*D385","v":0.10515754491739006},0.10432549583666832,null,7.5449173900649091E-6]
[38400,0.10514999999999999,{"$f":"Cockpit!F$8","v":-41.842196549240526},38.4,{"$f":"Pice-(Pice-p0)*EXP(-D386*_Kon1*Cockpit!$C$3)+_Kon2*D386","v":0.10516001491016565},0.10432549583666832,null,1.0014910165653812E-5]
[38500,0.10514999999999999,{"$f":"Cockpit!F$8","v":-41.842196549240526},{"$f":"A387/1000","v":38.5},{"$f":"Pice-(Pice-p0)*EXP(-D387*_Kon1*Cockpit!$C$3)+_Kon2*D387","v":0.10516248490294125},{"$f":"EXP(24.30592-6144.96/(C387+273.15))","v":0.10432549583666832},null,{"$f":"SQRT((E387-B387)^2)","v":1.2484902941256593E-5}]
[38600,0.10514999999999999,{"$f":"Cockpit!F$8","v":-41.842196549240526},38.6,{"$f":"Pice-(Pice-p0)*EXP(-D388*_Kon1*Cockpit!$C$3)+_Kon2*D388","v":0.10516495489571684},0.10432549583666832,null,1.4954895716845495E-5]
[38700,0.10514999999999999,{"$f":"Cockpit!F$8","v":-41.842196549240526},38.700000000000003,{"$f":"Pice-(Pice-p0)*EXP(-D389*_Kon1*Cockpit!$C$3)+_Kon2*D389","v":0.10516742488849244},0.10432549583666832,null,1.7424888492448276E-5]
[38800,0.10514999999999999,{"$f":"Cockpit!F$8","v":-41.842196549240526},38.799999999999997,{"$f":"Pice-(Pice-p0)*EXP(-D390*_Kon1*Cockpit!$C$3)+_Kon2*D390","v":0.10516989488126803},0.10432549583666832,null,1.9894881268037179E-5]
[38900,0.10514999999999999,{"$f":"Cockpit!F$8","v":-41.842196549240526},38.9,{"$f":"Pice-(Pice-p0)*EXP(-D391*_Kon1*Cockpit!$C$3)+_Kon2*D391","v":0.10517236487404363},0.10432549583666832,null,2.236487404363996E-5]
[39000,0.10489999999999999,{"$f":"Cockpit!F$8","v":-41.842196549240526},39,{"$f":"Pice-(Pice-p0)*EXP(-D392*_Kon1*Cockpit!$C$3)+_Kon2*D392","v":0.10517483486681922},0.10432549583666832,null,2.7483486681922908E-4]
[39100,0.10489999999999999,{"$f":"Cockpit!F$8","v":-41.842196549240526},39.1,{"$f":"Pice-(Pice-p0)*EXP(-D393*_Kon1*Cockpit!$C$3)+_Kon2*D393","v":0.10517730485959483},0.10432549583666832,null,2.7730485959483187E-4]
[39200,0.10514999999999999,{"$f":"Cockpit!F$8","v":-41.842196549240526},39.200000000000003,{"$f":"Pice-(Pice-p0)*EXP(-D394*_Kon1*Cockpit!$C$3)+_Kon2*D394","v":0.10517977485237041},0.10432549583666832,null,2.9774852370420546E-5]
[39300,0.10514999999999999,{"$f":"Cockpit!F$8","v":-41.842196549240526},39.299999999999997,{"$f":"Pice-(Pice-p0)*EXP(-D395*_Kon1*Cockpit!$C$3)+_Kon2*D395","v":0.105182244845146},0.10432549583666832,null,3.2244845146009449E-5]
[39400,0.10539999999999999,{"$f":"Cockpit!F$8","v":-41.842196549240526},39.4,{"$f":"Pice-(Pice-p0)*EXP(-D396*_Kon1*Cockpit!$C$3)+_Kon2*D396","v":0.10518471483792161},0.10432549583666832,null,2.1528516207838799E-4]
[39500,0.10539999999999999,{"$f":"Cockpit!F$8","v":-41.842196549240526},39.5,{"$f":"Pice-(Pice-p0)*EXP(-D397*_Kon1*Cockpit!$C$3)+_Kon2*D397","v":0.10518718483069719},0.10432549583666832,null,2.1281516930279909E-4]
[39600,0.10539999999999999,{"$f":"Cockpit!F$8","v":-41.842196549240526},39.6,{"$f":"Pice-(Pice-p0)*EXP(-D398*_Kon1*Cockpit!$C$3)+_Kon2*D398","v":0.1051896548234728},0.10432549583666832,null,2.1034517652719631E-4]
[39700,0.10539999999999999,{"$f":"Cockpit!F$8","v":-41.842196549240526},39.700000000000003,{"$f":"Pice-(Pice-p0)*EXP(-D399*_Kon1*Cockpit!$C$3)+_Kon2*D399","v":0.10519212481624839},0.10432549583666832,null,2.0787518375160741E-4]
[39800,0.10539999999999999,{"$f":"Cockpit!F$8","v":-41.842196549240526},39.799999999999997,{"$f":"Pice-(Pice-p0)*EXP(-D400*_Kon1*Cockpit!$C$3)+_Kon2*D400","v":0.10519459480902399},0.10432549583666832,null,2.0540519097600463E-4]
[39900,0.10539999999999999,{"$f":"Cockpit!F$8","v":-41.842196549240526},39.9,{"$f":"Pice-(Pice-p0)*EXP(-D401*_Kon1*Cockpit!$C$3)+_Kon2*D401","v":0.10519706480179958},0.10432549583666832,null,2.0293519820041572E-4]
[40000,0.10539999999999999,{"$f":"Cockpit!F$8","v":-41.842196549240526},40,{"$f":"Pice-(Pice-p0)*EXP(-D402*_Kon1*Cockpit!$C$3)+_Kon2*D402","v":0.10519953479457518},0.10432549583666832,null,2.0046520542481294E-4]
[40100,0.10539999999999999,{"$f":"Cockpit!F$8","v":-41.842196549240526},40.1,{"$f":"Pice-(Pice-p0)*EXP(-D403*_Kon1*Cockpit!$C$3)+_Kon2*D403","v":0.10520200478735077},0.10432549583666832,null,1.9799521264922404E-4]
[40200,0.10539999999999999,{"$f":"Cockpit!F$8","v":-41.842196549240526},40.200000000000003,{"$f":"Pice-(Pice-p0)*EXP(-D404*_Kon1*Cockpit!$C$3)+_Kon2*D404","v":0.10520447478012637},0.10432549583666832,null,1.9552521987362126E-4]
[40300,0.10539999999999999,{"$f":"Cockpit!F$8","v":-41.842196549240526},40.299999999999997,{"$f":"Pice-(Pice-p0)*EXP(-D405*_Kon1*Cockpit!$C$3)+_Kon2*D405","v":0.10520694477290196},0.10432549583666832,null,1.9305522709803236E-4]
[40400,0.10539999999999999,{"$f":"Cockpit!F$8","v":-41.842196549240526},40.4,{"$f":"Pice-(Pice-p0)*EXP(-D406*_Kon1*Cockpit!$C$3)+_Kon2*D406","v":0.10520941476567755},0.10432549583666832,null,1.9058523432244345E-4]
[40500,0.10539999999999999,{"$f":"Cockpit!F$8","v":-41.842196549240526},40.5,{"$f":"Pice-(Pice-p0)*EXP(-D407*_Kon1*Cockpit!$C$3)+_Kon2*D407","v":0.10521188475845315},0.10432549583666832,null,1.8811524154684067E-4]
[40600,0.10514999999999999,{"$f":"Cockpit!F$8","v":-41.842196549240526},40.6,{"$f":"Pice-(Pice-p0)*EXP(-D408*_Kon1*Cockpit!$C$3)+_Kon2*D408","v":0.10521435475122874},0.10432549583666832,null,6.4354751228748452E-5]
[40700,0.10514999999999999,{"$f":"Cockpit!F$8","v":-41.842196549240526},40.700000000000003,{"$f":"Pice-(Pice-p0)*EXP(-D409*_Kon1*Cockpit!$C$3)+_Kon2*D409","v":0.10521682474400434},0.10432549583666832,null,6.6824744004351233E-5]
[40800,0.10514999999999999,{"$f":"Cockpit!F$8","v":-41.842196549240526},40.799999999999997,{"$f":"Pice-(Pice-p0)*EXP(-D410*_Kon1*Cockpit!$C$3)+_Kon2*D410","v":0.10521929473677993},0.10432549583666832,null,6.9294736779940136E-5]
[40900,0.10514999999999999,{"$f":"Cockpit!F$8","v":-41.842196549240526},40.9,{"$f":"Pice-(Pice-p0)*EXP(-D411*_Kon1*Cockpit!$C$3)+_Kon2*D411","v":0.10522176472955554},0.10432549583666832,null,7.1764729555542917E-5]
[41000,0.10514999999999999,{"$f":"Cockpit!F$8","v":-41.842196549240526},41,{"$f":"Pice-(Pice-p0)*EXP(-D412*_Kon1*Cockpit!$C$3)+_Kon2*D412","v":0.10522423472233113},0.10432549583666832,null,7.4234722331131819E-5]
[41100,0.10514999999999999,{"$f":"Cockpit!F$8","v":-41.842196549240526},41.1,{"$f":"Pice-(Pice-p0)*EXP(-D413*_Kon1*Cockpit!$C$3)+_Kon2*D413","v":0.10522670471510673},0.10432549583666832,null,7.67047151067346E-5]
[41200,0.10514999999999999,{"$f":"Cockpit!F$8","v":-41.842196549240526},41.2,{"$f":"Pice-(Pice-p0)*EXP(-D414*_Kon1*Cockpit!$C$3)+_Kon2*D414","v":0.10522917470788232},0.10432549583666832,null,7.9174707882323503E-5]
[41300,0.10514999999999999,{"$f":"Cockpit!F$8","v":-41.842196549240526},41.3,{"$f":"Pice-(Pice-p0)*EXP(-D415*_Kon1*Cockpit!$C$3)+_Kon2*D415","v":0.10523164470065791},0.10432549583666832,null,8.1644700657912406E-5]
[41400,0.10514999999999999,{"$f":"Cockpit!F$8","v":-41.842196549240526},41.4,{"$f":"Pice-(Pice-p0)*EXP(-D416*_Kon1*Cockpit!$C$3)+_Kon2*D416","v":0.10523411469343351},0.10432549583666832,null,8.4114693433515186E-5]
[41500,0.10539999999999999,{"$f":"Cockpit!F$8","v":-41.842196549240526},41.5,{"$f":"Pice-(Pice-p0)*EXP(-D417*_Kon1*Cockpit!$C$3)+_Kon2*D417","v":0.1052365846862091},0.10432549583666832,null,1.6341531379089613E-4]
[41600,0.10539999999999999,{"$f":"Cockpit!F$8","v":-41.842196549240526},41.6,{"$f":"Pice-(Pice-p0)*EXP(-D418*_Kon1*Cockpit!$C$3)+_Kon2*D418","v":0.1052390546789847},0.10432549583666832,null,1.6094532101529335E-4]
[41700,0.10539999999999999,{"$f":"Cockpit!F$8","v":-41.842196549240526},41.7,{"$f":"Pice-(Pice-p0)*EXP(-D419*_Kon1*Cockpit!$C$3)+_Kon2*D419","v":0.10524152467176029},0.10432549583666832,null,1.5847532823970445E-4]
[41800,0.10539999999999999,{"$f":"Cockpit!F$8","v":-41.842196549240526},41.8,{"$f":"Pice-(Pice-p0)*EXP(-D420*_Kon1*Cockpit!$C$3)+_Kon2*D420","v":0.10524399466453589},0.10432549583666832,null,1.5600533546410167E-4]
[41900,0.10539999999999999,{"$f":"Cockpit!F$8","v":-41.842196549240526},41.9,{"$f":"Pice-(Pice-p0)*EXP(-D421*_Kon1*Cockpit!$C$3)+_Kon2*D421","v":0.10524646465731148},0.10432549583666832,null,1.5353534268851277E-4]
[42000,0.10539999999999999,{"$f":"Cockpit!F$8","v":-41.842196549240526},42,{"$f":"Pice-(Pice-p0)*EXP(-D422*_Kon1*Cockpit!$C$3)+_Kon2*D422","v":0.10524893465008708},0.10432549583666832,null,1.5106534991290999E-4]
[42100,0.10564,{"$f":"Cockpit!F$8","v":-41.842196549240526},42.1,{"$f":"Pice-(Pice-p0)*EXP(-D423*_Kon1*Cockpit!$C$3)+_Kon2*D423","v":0.10525140464286267},0.10432549583666832,null,3.8859535713732518E-4]
[42200,0.10564,{"$f":"Cockpit!F$8","v":-41.842196549240526},42.2,{"$f":"Pice-(Pice-p0)*EXP(-D424*_Kon1*Cockpit!$C$3)+_Kon2*D424","v":0.10525387463563828},0.10432549583666832,null,3.861253643617224E-4]
[42300,0.10589,{"$f":"Cockpit!F$8","v":-41.842196549240526},42.3,{"$f":"Pice-(Pice-p0)*EXP(-D425*_Kon1*Cockpit!$C$3)+_Kon2*D425","v":0.10525634462841386},0.10432549583666832,null,6.3365537158613372E-4]
[42400,0.10589,{"$f":"Cockpit!F$8","v":-41.842196549240526},42.4,{"$f":"Pice-(Pice-p0)*EXP(-D426*_Kon1*Cockpit!$C$3)+_Kon2*D426","v":0.10525881462118945},0.10432549583666832,null,6.3118537881054482E-4]
[42500,0.10589,{"$f":"Cockpit!F$8","v":-41.842196549240526},42.5,{"$f":"Pice-(Pice-p0)*EXP(-D427*_Kon1*Cockpit!$C$3)+_Kon2*D427","v":0.10526128461396506},0.10432549583666832,null,6.2871538603494204E-4]
[42600,0.10564,{"$f":"Cockpit!F$8","v":-41.842196549240526},42.6,{"$f":"Pice-(Pice-p0)*EXP(-D428*_Kon1*Cockpit!$C$3)+_Kon2*D428","v":0.10526375460674064},0.10432549583666832,null,3.7624539325935291E-4]
[42700,0.10539999999999999,{"$f":"Cockpit!F$8","v":-41.842196549240526},42.7,{"$f":"Pice-(Pice-p0)*EXP(-D429*_Kon1*Cockpit!$C$3)+_Kon2*D429","v":0.10526622459951625},0.10432549583666832,null,1.3377540048374603E-4]
[42800,0.10539999999999999,{"$f":"Cockpit!F$8","v":-41.842196549240526},42.8,{"$f":"Pice-(Pice-p0)*EXP(-D430*_Kon1*Cockpit!$C$3)+_Kon2*D430","v":0.10526869459229184},0.10432549583666832,null,1.3130540770815713E-4]
[42900,0.10539999999999999,{"$f":"Cockpit!F$8","v":-41.842196549240526},42.9,{"$f":"Pice-(Pice-p0)*EXP(-D431*_Kon1*Cockpit!$C$3)+_Kon2*D431","v":0.10527116458506744},0.10432549583666832,null,1.2883541493255435E-4]
[43000,0.10539999999999999,{"$f":"Cockpit!F$8","v":-41.842196549240526},43,{"$f":"Pice-(Pice-p0)*EXP(-D432*_Kon1*Cockpit!$C$3)+_Kon2*D432","v":0.10527363457784303},0.10432549583666832,null,1.2636542215696545E-4]
[43100,0.10539999999999999,{"$f":"Cockpit!F$8","v":-41.842196549240526},43.1,{"$f":"Pice-(Pice-p0)*EXP(-D433*_Kon1*Cockpit!$C$3)+_Kon2*D433","v":0.10527610457061863},0.10432549583666832,null,1.2389542938136267E-4]
[43200,0.10539999999999999,{"$f":"Cockpit!F$8","v":-41.842196549240526},43.2,{"$f":"Pice-(Pice-p0)*EXP(-D434*_Kon1*Cockpit!$C$3)+_Kon2*D434","v":0.10527857456339422},0.10432549583666832,null,1.2142543660577376E-4]
[43300,0.10539999999999999,{"$f":"Cockpit!F$8","v":-41.842196549240526},43.3,{"$f":"Pice-(Pice-p0)*EXP(-D435*_Kon1*Cockpit!$C$3)+_Kon2*D435","v":0.10528104455616982},0.10432549583666832,null,1.1895544383017098E-4]
[43400,0.10539999999999999,{"$f":"Cockpit!F$8","v":-41.842196549240526},43.4,{"$f":"Pice-(Pice-p0)*EXP(-D436*_Kon1*Cockpit!$C$3)+_Kon2*D436","v":0.10528351454894541},0.10432549583666832,null,1.1648545105458208E-4]
[43500,0.10514999999999999,{"$f":"Cockpit!F$8","v":-41.842196549240526},43.5,{"$f":"Pice-(Pice-p0)*EXP(-D437*_Kon1*Cockpit!$C$3)+_Kon2*D437","v":0.105285984541721},0.10432549583666832,null,1.3598454172100705E-4]
[43600,0.10539999999999999,{"$f":"Cockpit!F$8","v":-41.842196549240526},43.6,{"$f":"Pice-(Pice-p0)*EXP(-D438*_Kon1*Cockpit!$C$3)+_Kon2*D438","v":0.1052884545344966},0.10432549583666832,null,1.115454655033904E-4]
[43700,0.10539999999999999,{"$f":"Cockpit!F$8","v":-41.842196549240526},43.7,{"$f":"Pice-(Pice-p0)*EXP(-D439*_Kon1*Cockpit!$C$3)+_Kon2*D439","v":0.10529092452727219},0.10432549583666832,null,1.0907547272780149E-4]
[43800,0.10564,{"$f":"Cockpit!F$8","v":-41.842196549240526},43.8,{"$f":"Pice-(Pice-p0)*EXP(-D440*_Kon1*Cockpit!$C$3)+_Kon2*D440","v":0.10529339452004779},0.10432549583666832,null,3.4660547995220281E-4]
[43900,0.10539999999999999,{"$f":"Cockpit!F$8","v":-41.842196549240526},43.9,{"$f":"Pice-(Pice-p0)*EXP(-D441*_Kon1*Cockpit!$C$3)+_Kon2*D441","v":0.10529586451282338},0.10432549583666832,null,1.0413548717660981E-4]
[44000,0.10539999999999999,{"$f":"Cockpit!F$8","v":-41.842196549240526},44,{"$f":"Pice-(Pice-p0)*EXP(-D442*_Kon1*Cockpit!$C$3)+_Kon2*D442","v":0.10529833450559899},0.10432549583666832,null,1.0166549440100703E-4]
[44100,0.10539999999999999,{"$f":"Cockpit!F$8","v":-41.842196549240526},44.1,{"$f":"Pice-(Pice-p0)*EXP(-D443*_Kon1*Cockpit!$C$3)+_Kon2*D443","v":0.10530080449837458},0.10432549583666832,null,9.9195501625418125E-5]
[44200,0.10539999999999999,{"$f":"Cockpit!F$8","v":-41.842196549240526},44.2,{"$f":"Pice-(Pice-p0)*EXP(-D444*_Kon1*Cockpit!$C$3)+_Kon2*D444","v":0.10530327449115018},0.10432549583666832,null,9.6725508849815345E-5]
[44300,0.10539999999999999,{"$f":"Cockpit!F$8","v":-41.842196549240526},44.3,{"$f":"Pice-(Pice-p0)*EXP(-D445*_Kon1*Cockpit!$C$3)+_Kon2*D445","v":0.10530574448392577},0.10432549583666832,null,9.4255516074226442E-5]
[44400,0.10539999999999999,{"$f":"Cockpit!F$8","v":-41.842196549240526},44.4,{"$f":"Pice-(Pice-p0)*EXP(-D446*_Kon1*Cockpit!$C$3)+_Kon2*D446","v":0.10530821447670136},0.10432549583666832,null,9.1785523298637539E-5]
[44500,0.10539999999999999,{"$f":"Cockpit!F$8","v":-41.842196549240526},44.5,{"$f":"Pice-(Pice-p0)*EXP(-D447*_Kon1*Cockpit!$C$3)+_Kon2*D447","v":0.10531068446947696},0.10432549583666832,null,8.9315530523034758E-5]
[44600,0.10539999999999999,{"$f":"Cockpit!F$8","v":-41.842196549240526},44.6,{"$f":"Pice-(Pice-p0)*EXP(-D448*_Kon1*Cockpit!$C$3)+_Kon2*D448","v":0.10531315446225255},0.10432549583666832,null,8.6845537747445856E-5]
[44700,0.10539999999999999,{"$f":"Cockpit!F$8","v":-41.842196549240526},44.7,{"$f":"Pice-(Pice-p0)*EXP(-D449*_Kon1*Cockpit!$C$3)+_Kon2*D449","v":0.10531562445502815},0.10432549583666832,null,8.4375544971843075E-5]
[44800,0.10539999999999999,{"$f":"Cockpit!F$8","v":-41.842196549240526},44.8,{"$f":"Pice-(Pice-p0)*EXP(-D450*_Kon1*Cockpit!$C$3)+_Kon2*D450","v":0.10531809444780374},0.10432549583666832,null,8.1905552196254172E-5]
[44900,0.10564,{"$f":"Cockpit!F$8","v":-41.842196549240526},{"$f":"A451/1000","v":44.9},{"$f":"Pice-(Pice-p0)*EXP(-D451*_Kon1*Cockpit!$C$3)+_Kon2*D451","v":0.10532056444057934},{"$f":"EXP(24.30592-6144.96/(C451+273.15))","v":0.10432549583666832},null,{"$f":"SQRT((E451-B451)^2)","v":3.1943555942065549E-4}]
[45000,0.10539999999999999,{"$f":"Cockpit!F$8","v":-41.842196549240526},45,{"$f":"Pice-(Pice-p0)*EXP(-D452*_Kon1*Cockpit!$C$3)+_Kon2*D452","v":0.10532303443335493},0.10432549583666832,null,7.6965566645062489E-5]
[45100,0.10539999999999999,{"$f":"Cockpit!F$8","v":-41.842196549240526},45.1,{"$f":"Pice-(Pice-p0)*EXP(-D453*_Kon1*Cockpit!$C$3)+_Kon2*D453","v":0.10532550442613053},0.10432549583666832,null,7.4495573869459708E-5]
[45200,0.10539999999999999,{"$f":"Cockpit!F$8","v":-41.842196549240526},45.2,{"$f":"Pice-(Pice-p0)*EXP(-D454*_Kon1*Cockpit!$C$3)+_Kon2*D454","v":0.10532797441890612},0.10432549583666832,null,7.2025581093870805E-5]
[45300,0.10539999999999999,{"$f":"Cockpit!F$8","v":-41.842196549240526},45.3,{"$f":"Pice-(Pice-p0)*EXP(-D455*_Kon1*Cockpit!$C$3)+_Kon2*D455","v":0.10533044441168173},0.10432549583666832,null,6.9555588318268025E-5]
[45400,0.10539999999999999,{"$f":"Cockpit!F$8","v":-41.842196549240526},45.4,{"$f":"Pice-(Pice-p0)*EXP(-D456*_Kon1*Cockpit!$C$3)+_Kon2*D456","v":0.10533291440445731},0.10432549583666832,null,6.7085595542679122E-5]
[45500,0.10514999999999999,{"$f":"Cockpit!F$8","v":-41.842196549240526},45.5,{"$f":"Pice-(Pice-p0)*EXP(-D457*_Kon1*Cockpit!$C$3)+_Kon2*D457","v":0.1053353843972329},0.10432549583666832,null,1.8538439723291E-4]
[45600,0.10514999999999999,{"$f":"Cockpit!F$8","v":-41.842196549240526},45.6,{"$f":"Pice-(Pice-p0)*EXP(-D458*_Kon1*Cockpit!$C$3)+_Kon2*D458","v":0.10533785439000851},0.10432549583666832,null,1.8785439000851278E-4]
[45700,0.10514999999999999,{"$f":"Cockpit!F$8","v":-41.842196549240526},45.7,{"$f":"Pice-(Pice-p0)*EXP(-D459*_Kon1*Cockpit!$C$3)+_Kon2*D459","v":0.1053403243827841},0.10432549583666832,null,1.9032438278410169E-4]
[45800,0.10514999999999999,{"$f":"Cockpit!F$8","v":-41.842196549240526},45.8,{"$f":"Pice-(Pice-p0)*EXP(-D460*_Kon1*Cockpit!$C$3)+_Kon2*D460","v":0.1053427943755597},0.10432549583666832,null,1.9279437555970447E-4]
[45900,0.10514999999999999,{"$f":"Cockpit!F$8","v":-41.842196549240526},45.9,{"$f":"Pice-(Pice-p0)*EXP(-D461*_Kon1*Cockpit!$C$3)+_Kon2*D461","v":0.10534526436833529},0.10432549583666832,null,1.9526436833529337E-4]
[46000,0.10514999999999999,{"$f":"Cockpit!F$8","v":-41.842196549240526},46,{"$f":"Pice-(Pice-p0)*EXP(-D462*_Kon1*Cockpit!$C$3)+_Kon2*D462","v":0.10534773436111089},0.10432549583666832,null,1.9773436111089615E-4]
[46100,0.10514999999999999,{"$f":"Cockpit!F$8","v":-41.842196549240526},46.1,{"$f":"Pice-(Pice-p0)*EXP(-D463*_Kon1*Cockpit!$C$3)+_Kon2*D463","v":0.10535020435388648},0.10432549583666832,null,2.0020435388648505E-4]
[46200,0.10514999999999999,{"$f":"Cockpit!F$8","v":-41.842196549240526},46.2,{"$f":"Pice-(Pice-p0)*EXP(-D464*_Kon1*Cockpit!$C$3)+_Kon2*D464","v":0.10535267434666208},0.10432549583666832,null,2.0267434666208783E-4]
[46300,0.10514999999999999,{"$f":"Cockpit!F$8","v":-41.842196549240526},46.3,{"$f":"Pice-(Pice-p0)*EXP(-D465*_Kon1*Cockpit!$C$3)+_Kon2*D465","v":0.10535514433943767},0.10432549583666832,null,2.0514433943767674E-4]
[46400,0.10514999999999999,{"$f":"Cockpit!F$8","v":-41.842196549240526},46.4,{"$f":"Pice-(Pice-p0)*EXP(-D466*_Kon1*Cockpit!$C$3)+_Kon2*D466","v":0.10535761433221327},0.10432549583666832,null,2.0761433221327952E-4]
[46500,0.10514999999999999,{"$f":"Cockpit!F$8","v":-41.842196549240526},46.5,{"$f":"Pice-(Pice-p0)*EXP(-D467*_Kon1*Cockpit!$C$3)+_Kon2*D467","v":0.10536008432498886},0.10432549583666832,null,2.1008432498886842E-4]
[46600,0.10514999999999999,{"$f":"Cockpit!F$8","v":-41.842196549240526},46.6,{"$f":"Pice-(Pice-p0)*EXP(-D468*_Kon1*Cockpit!$C$3)+_Kon2*D468","v":0.10536255431776445},0.10432549583666832,null,2.1255431776445732E-4]
[46700,0.10514999999999999,{"$f":"Cockpit!F$8","v":-41.842196549240526},46.7,{"$f":"Pice-(Pice-p0)*EXP(-D469*_Kon1*Cockpit!$C$3)+_Kon2*D469","v":0.10536502431054005},0.10432549583666832,null,2.150243105400601E-4]
[46800,0.10514999999999999,{"$f":"Cockpit!F$8","v":-41.842196549240526},46.8,{"$f":"Pice-(Pice-p0)*EXP(-D470*_Kon1*Cockpit!$C$3)+_Kon2*D470","v":0.10536749430331564},0.10432549583666832,null,2.1749430331564901E-4]
[46900,0.10514999999999999,{"$f":"Cockpit!F$8","v":-41.842196549240526},46.9,{"$f":"Pice-(Pice-p0)*EXP(-D471*_Kon1*Cockpit!$C$3)+_Kon2*D471","v":0.10536996429609125},0.10432549583666832,null,2.1996429609125179E-4]
[47000,0.10514999999999999,{"$f":"Cockpit!F$8","v":-41.842196549240526},47,{"$f":"Pice-(Pice-p0)*EXP(-D472*_Kon1*Cockpit!$C$3)+_Kon2*D472","v":0.10537243428886683},0.10432549583666832,null,2.2243428886684069E-4]
[47100,0.10514999999999999,{"$f":"Cockpit!F$8","v":-41.842196549240526},47.1,{"$f":"Pice-(Pice-p0)*EXP(-D473*_Kon1*Cockpit!$C$3)+_Kon2*D473","v":0.10537490428164244},0.10432549583666832,null,2.2490428164244347E-4]
[47200,0.10539999999999999,{"$f":"Cockpit!F$8","v":-41.842196549240526},47.2,{"$f":"Pice-(Pice-p0)*EXP(-D474*_Kon1*Cockpit!$C$3)+_Kon2*D474","v":0.10537737427441803},0.10432549583666832,null,2.2625725581967848E-5]
[47300,0.10539999999999999,{"$f":"Cockpit!F$8","v":-41.842196549240526},47.3,{"$f":"Pice-(Pice-p0)*EXP(-D475*_Kon1*Cockpit!$C$3)+_Kon2*D475","v":0.10537984426719363},0.10432549583666832,null,2.0155732806365068E-5]
[47400,0.10539999999999999,{"$f":"Cockpit!F$8","v":-41.842196549240526},47.4,{"$f":"Pice-(Pice-p0)*EXP(-D476*_Kon1*Cockpit!$C$3)+_Kon2*D476","v":0.10538231425996922},0.10432549583666832,null,1.7685740030776165E-5]
[47500,0.10539999999999999,{"$f":"Cockpit!F$8","v":-41.842196549240526},47.5,{"$f":"Pice-(Pice-p0)*EXP(-D477*_Kon1*Cockpit!$C$3)+_Kon2*D477","v":0.10538478425274481},0.10432549583666832,null,1.5215747255187262E-5]
[47600,0.10539999999999999,{"$f":"Cockpit!F$8","v":-41.842196549240526},47.6,{"$f":"Pice-(Pice-p0)*EXP(-D478*_Kon1*Cockpit!$C$3)+_Kon2*D478","v":0.10538725424552041},0.10432549583666832,null,1.2745754479584481E-5]
[47700,0.10539999999999999,{"$f":"Cockpit!F$8","v":-41.842196549240526},47.7,{"$f":"Pice-(Pice-p0)*EXP(-D479*_Kon1*Cockpit!$C$3)+_Kon2*D479","v":0.105389724238296},0.10432549583666832,null,1.0275761703995578E-5]
[47800,0.10539999999999999,{"$f":"Cockpit!F$8","v":-41.842196549240526},47.8,{"$f":"Pice-(Pice-p0)*EXP(-D480*_Kon1*Cockpit!$C$3)+_Kon2*D480","v":0.1053921942310716},0.10432549583666832,null,7.8057689283927978E-6]
[47900,0.10539999999999999,{"$f":"Cockpit!F$8","v":-41.842196549240526},47.9,{"$f":"Pice-(Pice-p0)*EXP(-D481*_Kon1*Cockpit!$C$3)+_Kon2*D481","v":0.10539466422384719},0.10432549583666832,null,5.3357761528038949E-6]
[48000,0.10539999999999999,{"$f":"Cockpit!F$8","v":-41.842196549240526},48,{"$f":"Pice-(Pice-p0)*EXP(-D482*_Kon1*Cockpit!$C$3)+_Kon2*D482","v":0.10539713421662279},0.10432549583666832,null,2.8657833772011143E-6]
[48100,0.10539999999999999,{"$f":"Cockpit!F$8","v":-41.842196549240526},48.1,{"$f":"Pice-(Pice-p0)*EXP(-D483*_Kon1*Cockpit!$C$3)+_Kon2*D483","v":0.10539960420939838},0.10432549583666832,null,3.9579060161221147E-7]
[48200,0.10564,{"$f":"Cockpit!F$8","v":-41.842196549240526},48.2,{"$f":"Pice-(Pice-p0)*EXP(-D484*_Kon1*Cockpit!$C$3)+_Kon2*D484","v":0.10540207420217398},0.10432549583666832,null,2.3792579782601353E-4]
[48300,0.10589,{"$f":"Cockpit!F$8","v":-41.842196549240526},48.3,{"$f":"Pice-(Pice-p0)*EXP(-D485*_Kon1*Cockpit!$C$3)+_Kon2*D485","v":0.10540454419494957},0.10432549583666832,null,4.8545580505042485E-4]
[48400,0.10589,{"$f":"Cockpit!F$8","v":-41.842196549240526},48.4,{"$f":"Pice-(Pice-p0)*EXP(-D486*_Kon1*Cockpit!$C$3)+_Kon2*D486","v":0.10540701418772518},0.10432549583666832,null,4.8298581227482207E-4]
[48500,0.10589,{"$f":"Cockpit!F$8","v":-41.842196549240526},48.5,{"$f":"Pice-(Pice-p0)*EXP(-D487*_Kon1*Cockpit!$C$3)+_Kon2*D487","v":0.10540948418050076},0.10432549583666832,null,4.8051581949923317E-4]
[48600,0.10589,{"$f":"Cockpit!F$8","v":-41.842196549240526},48.6,{"$f":"Pice-(Pice-p0)*EXP(-D488*_Kon1*Cockpit!$C$3)+_Kon2*D488","v":0.10541195417327635},0.10432549583666832,null,4.7804582672364426E-4]
[48700,0.10589,{"$f":"Cockpit!F$8","v":-41.842196549240526},48.7,{"$f":"Pice-(Pice-p0)*EXP(-D489*_Kon1*Cockpit!$C$3)+_Kon2*D489","v":0.10541442416605196},0.10432549583666832,null,4.7557583394804148E-4]
[48800,0.10589,{"$f":"Cockpit!F$8","v":-41.842196549240526},48.8,{"$f":"Pice-(Pice-p0)*EXP(-D490*_Kon1*Cockpit!$C$3)+_Kon2*D490","v":0.10541689415882755},0.10432549583666832,null,4.7310584117245258E-4]
[48900,0.10589,{"$f":"Cockpit!F$8","v":-41.842196549240526},48.9,{"$f":"Pice-(Pice-p0)*EXP(-D491*_Kon1*Cockpit!$C$3)+_Kon2*D491","v":0.10541936415160315},0.10432549583666832,null,4.706358483968498E-4]
[49000,0.10589,{"$f":"Cockpit!F$8","v":-41.842196549240526},49,{"$f":"Pice-(Pice-p0)*EXP(-D492*_Kon1*Cockpit!$C$3)+_Kon2*D492","v":0.10542183414437874},0.10432549583666832,null,4.681658556212609E-4]
[49100,0.10589,{"$f":"Cockpit!F$8","v":-41.842196549240526},49.1,{"$f":"Pice-(Pice-p0)*EXP(-D493*_Kon1*Cockpit!$C$3)+_Kon2*D493","v":0.10542430413715434},0.10432549583666832,null,4.6569586284565812E-4]
[49200,0.10589,{"$f":"Cockpit!F$8","v":-41.842196549240526},49.2,{"$f":"Pice-(Pice-p0)*EXP(-D494*_Kon1*Cockpit!$C$3)+_Kon2*D494","v":0.10542677412992993},0.10432549583666832,null,4.6322587007006921E-4]
[49300,0.10564,{"$f":"Cockpit!F$8","v":-41.842196549240526},49.3,{"$f":"Pice-(Pice-p0)*EXP(-D495*_Kon1*Cockpit!$C$3)+_Kon2*D495","v":0.10542924412270553},0.10432549583666832,null,2.1075587729446621E-4]
[49400,0.10564,{"$f":"Cockpit!F$8","v":-41.842196549240526},49.4,{"$f":"Pice-(Pice-p0)*EXP(-D496*_Kon1*Cockpit!$C$3)+_Kon2*D496","v":0.10543171411548112},0.10432549583666832,null,2.0828588451887731E-4]
[49500,0.10564,{"$f":"Cockpit!F$8","v":-41.842196549240526},49.5,{"$f":"Pice-(Pice-p0)*EXP(-D497*_Kon1*Cockpit!$C$3)+_Kon2*D497","v":0.10543418410825672},0.10432549583666832,null,2.0581589174327453E-4]
[49600,0.10564,{"$f":"Cockpit!F$8","v":-41.842196549240526},49.6,{"$f":"Pice-(Pice-p0)*EXP(-D498*_Kon1*Cockpit!$C$3)+_Kon2*D498","v":0.10543665410103231},0.10432549583666832,null,2.0334589896768562E-4]
[49700,0.10564,{"$f":"Cockpit!F$8","v":-41.842196549240526},49.7,{"$f":"Pice-(Pice-p0)*EXP(-D499*_Kon1*Cockpit!$C$3)+_Kon2*D499","v":0.1054391240938079},0.10432549583666832,null,2.0087590619209672E-4]
[49800,0.10564,{"$f":"Cockpit!F$8","v":-41.842196549240526},49.8,{"$f":"Pice-(Pice-p0)*EXP(-D500*_Kon1*Cockpit!$C$3)+_Kon2*D500","v":0.1054415940865835},0.10432549583666832,null,1.9840591341649394E-4]
[49900,0.10564,{"$f":"Cockpit!F$8","v":-41.842196549240526},49.9,{"$f":"Pice-(Pice-p0)*EXP(-D501*_Kon1*Cockpit!$C$3)+_Kon2*D501","v":0.10544406407935909},0.10432549583666832,null,1.9593592064090504E-4]
[50000,0.10564,{"$f":"Cockpit!F$8","v":-41.842196549240526},50,{"$f":"Pice-(Pice-p0)*EXP(-D502*_Kon1*Cockpit!$C$3)+_Kon2*D502","v":0.1054465340721347},0.10432549583666832,null,1.9346592786530226E-4]
[50100,0.10564,{"$f":"Cockpit!F$8","v":-41.842196549240526},50.1,{"$f":"Pice-(Pice-p0)*EXP(-D503*_Kon1*Cockpit!$C$3)+_Kon2*D503","v":0.10544900406491028},0.10432549583666832,null,1.9099593508971335E-4]
[50200,0.10539999999999999,{"$f":"Cockpit!F$8","v":-41.842196549240526},50.2,{"$f":"Pice-(Pice-p0)*EXP(-D504*_Kon1*Cockpit!$C$3)+_Kon2*D504","v":0.10545147405768589},0.10432549583666832,null,5.1474057685893526E-5]
[50300,0.10539999999999999,{"$f":"Cockpit!F$8","v":-41.842196549240526},50.3,{"$f":"Pice-(Pice-p0)*EXP(-D505*_Kon1*Cockpit!$C$3)+_Kon2*D505","v":0.10545394405046148},0.10432549583666832,null,5.3944050461482429E-5]
[50400,0.10539999999999999,{"$f":"Cockpit!F$8","v":-41.842196549240526},50.4,{"$f":"Pice-(Pice-p0)*EXP(-D506*_Kon1*Cockpit!$C$3)+_Kon2*D506","v":0.10545641404323708},0.10432549583666832,null,5.641404323708521E-5]
[50500,0.10564,{"$f":"Cockpit!F$8","v":-41.842196549240526},50.5,{"$f":"Pice-(Pice-p0)*EXP(-D507*_Kon1*Cockpit!$C$3)+_Kon2*D507","v":0.10545888403601267},0.10432549583666832,null,1.8111596398732999E-4]
[50600,0.10564,{"$f":"Cockpit!F$8","v":-41.842196549240526},50.6,{"$f":"Pice-(Pice-p0)*EXP(-D508*_Kon1*Cockpit!$C$3)+_Kon2*D508","v":0.10546135402878826},0.10432549583666832,null,1.7864597121174108E-4]
[50700,0.10539999999999999,{"$f":"Cockpit!F$8","v":-41.842196549240526},50.7,{"$f":"Pice-(Pice-p0)*EXP(-D509*_Kon1*Cockpit!$C$3)+_Kon2*D509","v":0.10546382402156386},0.10432549583666832,null,6.3824021563865796E-5]
[50800,0.10539999999999999,{"$f":"Cockpit!F$8","v":-41.842196549240526},50.8,{"$f":"Pice-(Pice-p0)*EXP(-D510*_Kon1*Cockpit!$C$3)+_Kon2*D510","v":0.10546629401433945},0.10432549583666832,null,6.6294014339454699E-5]
[50900,0.10539999999999999,{"$f":"Cockpit!F$8","v":-41.842196549240526},50.9,{"$f":"Pice-(Pice-p0)*EXP(-D511*_Kon1*Cockpit!$C$3)+_Kon2*D511","v":0.10546876400711505},0.10432549583666832,null,6.8764007115057479E-5]
[51000,0.10564,{"$f":"Cockpit!F$8","v":-41.842196549240526},51,{"$f":"Pice-(Pice-p0)*EXP(-D512*_Kon1*Cockpit!$C$3)+_Kon2*D512","v":0.10547123399989064},0.10432549583666832,null,1.6876600010935772E-4]
[51100,0.10564,{"$f":"Cockpit!F$8","v":-41.842196549240526},51.1,{"$f":"Pice-(Pice-p0)*EXP(-D513*_Kon1*Cockpit!$C$3)+_Kon2*D513","v":0.10547370399266624},0.10432549583666832,null,1.6629600733375494E-4]
[51200,0.10564,{"$f":"Cockpit!F$8","v":-41.842196549240526},51.2,{"$f":"Pice-(Pice-p0)*EXP(-D514*_Kon1*Cockpit!$C$3)+_Kon2*D514","v":0.10547617398544183},0.10432549583666832,null,1.6382601455816603E-4]
[51300,0.10564,{"$f":"Cockpit!F$8","v":-41.842196549240526},{"$f":"A515/1000","v":51.3},{"$f":"Pice-(Pice-p0)*EXP(-D515*_Kon1*Cockpit!$C$3)+_Kon2*D515","v":0.10547864397821743},{"$f":"EXP(24.30592-6144.96/(C515+273.15))","v":0.10432549583666832},null,{"$f":"SQRT((E515-B515)^2)","v":1.6135602178256325E-4}]
[51400,0.10564,{"$f":"Cockpit!F$8","v":-41.842196549240526},51.4,{"$f":"Pice-(Pice-p0)*EXP(-D516*_Kon1*Cockpit!$C$3)+_Kon2*D516","v":0.10548111397099302},0.10432549583666832,null,1.5888602900697435E-4]
[51500,0.10564,{"$f":"Cockpit!F$8","v":-41.842196549240526},51.5,{"$f":"Pice-(Pice-p0)*EXP(-D517*_Kon1*Cockpit!$C$3)+_Kon2*D517","v":0.10548358396376863},0.10432549583666832,null,1.5641603623137157E-4]
[51600,0.10539999999999999,{"$f":"Cockpit!F$8","v":-41.842196549240526},51.6,{"$f":"Pice-(Pice-p0)*EXP(-D518*_Kon1*Cockpit!$C$3)+_Kon2*D518","v":0.10548605395654422},0.10432549583666832,null,8.6053956544221433E-5]
[51700,0.10539999999999999,{"$f":"Cockpit!F$8","v":-41.842196549240526},51.7,{"$f":"Pice-(Pice-p0)*EXP(-D519*_Kon1*Cockpit!$C$3)+_Kon2*D519","v":0.1054885239493198},0.10432549583666832,null,8.8523949319810336E-5]
[51800,0.10564,{"$f":"Cockpit!F$8","v":-41.842196549240526},51.8,{"$f":"Pice-(Pice-p0)*EXP(-D520*_Kon1*Cockpit!$C$3)+_Kon2*D520","v":0.10549099394209541},0.10432549583666832,null,1.4900605790459098E-4]
[51900,0.10564,{"$f":"Cockpit!F$8","v":-41.842196549240526},51.9,{"$f":"Pice-(Pice-p0)*EXP(-D521*_Kon1*Cockpit!$C$3)+_Kon2*D521","v":0.105493463934871},0.10432549583666832,null,1.4653606512900208E-4]
[52000,0.10564,{"$f":"Cockpit!F$8","v":-41.842196549240526},52,{"$f":"Pice-(Pice-p0)*EXP(-D522*_Kon1*Cockpit!$C$3)+_Kon2*D522","v":0.1054959339276466},0.10432549583666832,null,1.440660723533993E-4]
[52100,0.10564,{"$f":"Cockpit!F$8","v":-41.842196549240526},52.1,{"$f":"Pice-(Pice-p0)*EXP(-D523*_Kon1*Cockpit!$C$3)+_Kon2*D523","v":0.10549840392042219},0.10432549583666832,null,1.415960795778104E-4]
[52200,0.10564,{"$f":"Cockpit!F$8","v":-41.842196549240526},52.2,{"$f":"Pice-(Pice-p0)*EXP(-D524*_Kon1*Cockpit!$C$3)+_Kon2*D524","v":0.10550087391319779},0.10432549583666832,null,1.3912608680220762E-4]
[52300,0.10564,{"$f":"Cockpit!F$8","v":-41.842196549240526},52.3,{"$f":"Pice-(Pice-p0)*EXP(-D525*_Kon1*Cockpit!$C$3)+_Kon2*D525","v":0.10550334390597338},0.10432549583666832,null,1.3665609402661871E-4]
[52400,0.10539999999999999,{"$f":"Cockpit!F$8","v":-41.842196549240526},52.4,{"$f":"Pice-(Pice-p0)*EXP(-D526*_Kon1*Cockpit!$C$3)+_Kon2*D526","v":0.10550581389874898},0.10432549583666832,null,1.0581389874898817E-4]
[52500,0.10539999999999999,{"$f":"Cockpit!F$8","v":-41.842196549240526},52.5,{"$f":"Pice-(Pice-p0)*EXP(-D527*_Kon1*Cockpit!$C$3)+_Kon2*D527","v":0.10550828389152457},0.10432549583666832,null,1.0828389152457707E-4]
[52600,0.10539999999999999,{"$f":"Cockpit!F$8","v":-41.842196549240526},52.6,{"$f":"Pice-(Pice-p0)*EXP(-D528*_Kon1*Cockpit!$C$3)+_Kon2*D528","v":0.10551075388430017},0.10432549583666832,null,1.1075388430017985E-4]
[52700,0.10564,{"$f":"Cockpit!F$8","v":-41.842196549240526},52.7,{"$f":"Pice-(Pice-p0)*EXP(-D529*_Kon1*Cockpit!$C$3)+_Kon2*D529","v":0.10551322387707576},0.10432549583666832,null,1.2677612292423535E-4]
[52800,0.10564,{"$f":"Cockpit!F$8","v":-41.842196549240526},52.8,{"$f":"Pice-(Pice-p0)*EXP(-D530*_Kon1*Cockpit!$C$3)+_Kon2*D530","v":0.10551569386985135},0.10432549583666832,null,1.2430613014864644E-4]
[52900,0.10564,{"$f":"Cockpit!F$8","v":-41.842196549240526},52.9,{"$f":"Pice-(Pice-p0)*EXP(-D531*_Kon1*Cockpit!$C$3)+_Kon2*D531","v":0.10551816386262695},0.10432549583666832,null,1.2183613737304366E-4]
[53000,0.10564,{"$f":"Cockpit!F$8","v":-41.842196549240526},53,{"$f":"Pice-(Pice-p0)*EXP(-D532*_Kon1*Cockpit!$C$3)+_Kon2*D532","v":0.10552063385540254},0.10432549583666832,null,1.1936614459745476E-4]
[53100,0.10564,{"$f":"Cockpit!F$8","v":-41.842196549240526},53.1,{"$f":"Pice-(Pice-p0)*EXP(-D533*_Kon1*Cockpit!$C$3)+_Kon2*D533","v":0.10552310384817815},0.10432549583666832,null,1.1689615182185198E-4]
[53200,0.10539999999999999,{"$f":"Cockpit!F$8","v":-41.842196549240526},53.2,{"$f":"Pice-(Pice-p0)*EXP(-D534*_Kon1*Cockpit!$C$3)+_Kon2*D534","v":0.10552557384095373},0.10432549583666832,null,1.2557384095374102E-4]
[53300,0.10539999999999999,{"$f":"Cockpit!F$8","v":-41.842196549240526},53.3,{"$f":"Pice-(Pice-p0)*EXP(-D535*_Kon1*Cockpit!$C$3)+_Kon2*D535","v":0.10552804383372934},0.10432549583666832,null,1.280438337293438E-4]
[53400,0.10514999999999999,{"$f":"Cockpit!F$8","v":-41.842196549240526},53.4,{"$f":"Pice-(Pice-p0)*EXP(-D536*_Kon1*Cockpit!$C$3)+_Kon2*D536","v":0.10553051382650493},0.10432549583666832,null,3.8051382650493293E-4]
[53500,0.10539999999999999,{"$f":"Cockpit!F$8","v":-41.842196549240526},53.5,{"$f":"Pice-(Pice-p0)*EXP(-D537*_Kon1*Cockpit!$C$3)+_Kon2*D537","v":0.10553298381928053},0.10432549583666832,null,1.3298381928053549E-4]
[53600,0.10539999999999999,{"$f":"Cockpit!F$8","v":-41.842196549240526},53.6,{"$f":"Pice-(Pice-p0)*EXP(-D538*_Kon1*Cockpit!$C$3)+_Kon2*D538","v":0.10553545381205612},0.10432549583666832,null,1.3545381205612439E-4]
[53700,0.10539999999999999,{"$f":"Cockpit!F$8","v":-41.842196549240526},53.7,{"$f":"Pice-(Pice-p0)*EXP(-D539*_Kon1*Cockpit!$C$3)+_Kon2*D539","v":0.10553792380483171},0.10432549583666832,null,1.3792380483171329E-4]
[53800,0.10564,{"$f":"Cockpit!F$8","v":-41.842196549240526},53.8,{"$f":"Pice-(Pice-p0)*EXP(-D540*_Kon1*Cockpit!$C$3)+_Kon2*D540","v":0.10554039379760731},0.10432549583666832,null,9.9606202392688026E-5]
[53900,0.10564,{"$f":"Cockpit!F$8","v":-41.842196549240526},53.9,{"$f":"Pice-(Pice-p0)*EXP(-D541*_Kon1*Cockpit!$C$3)+_Kon2*D541","v":0.1055428637903829},0.10432549583666832,null,9.7136209617099123E-5]
[54000,0.10589,{"$f":"Cockpit!F$8","v":-41.842196549240526},54,{"$f":"Pice-(Pice-p0)*EXP(-D542*_Kon1*Cockpit!$C$3)+_Kon2*D542","v":0.1055453337831585},0.10432549583666832,null,3.4466621684149656E-4]
[54100,0.10589,{"$f":"Cockpit!F$8","v":-41.842196549240526},54.1,{"$f":"Pice-(Pice-p0)*EXP(-D543*_Kon1*Cockpit!$C$3)+_Kon2*D543","v":0.10554780377593409},0.10432549583666832,null,3.4219622406590766E-4]
[54200,0.10589,{"$f":"Cockpit!F$8","v":-41.842196549240526},54.2,{"$f":"Pice-(Pice-p0)*EXP(-D544*_Kon1*Cockpit!$C$3)+_Kon2*D544","v":0.10555027376870969},0.10432549583666832,null,3.3972623129030488E-4]
[54300,0.10589,{"$f":"Cockpit!F$8","v":-41.842196549240526},54.3,{"$f":"Pice-(Pice-p0)*EXP(-D545*_Kon1*Cockpit!$C$3)+_Kon2*D545","v":0.10555274376148528},0.10432549583666832,null,3.3725623851471598E-4]
[54400,0.10564,{"$f":"Cockpit!F$8","v":-41.842196549240526},54.4,{"$f":"Pice-(Pice-p0)*EXP(-D546*_Kon1*Cockpit!$C$3)+_Kon2*D546","v":0.10555521375426088},0.10432549583666832,null,8.4786245739112975E-5]
[54500,0.10564,{"$f":"Cockpit!F$8","v":-41.842196549240526},54.5,{"$f":"Pice-(Pice-p0)*EXP(-D547*_Kon1*Cockpit!$C$3)+_Kon2*D547","v":0.10555768374703647},0.10432549583666832,null,8.2316252963524073E-5]
[54600,0.10564,{"$f":"Cockpit!F$8","v":-41.842196549240526},54.6,{"$f":"Pice-(Pice-p0)*EXP(-D548*_Kon1*Cockpit!$C$3)+_Kon2*D548","v":0.10556015373981208},0.10432549583666832,null,7.9846260187921292E-5]
[54700,0.10564,{"$f":"Cockpit!F$8","v":-41.842196549240526},54.7,{"$f":"Pice-(Pice-p0)*EXP(-D549*_Kon1*Cockpit!$C$3)+_Kon2*D549","v":0.10556262373258767},0.10432549583666832,null,7.7376267412332389E-5]
[54800,0.10564,{"$f":"Cockpit!F$8","v":-41.842196549240526},54.8,{"$f":"Pice-(Pice-p0)*EXP(-D550*_Kon1*Cockpit!$C$3)+_Kon2*D550","v":0.10556509372536325},0.10432549583666832,null,7.4906274636743486E-5]
[54900,0.10564,{"$f":"Cockpit!F$8","v":-41.842196549240526},54.9,{"$f":"Pice-(Pice-p0)*EXP(-D551*_Kon1*Cockpit!$C$3)+_Kon2*D551","v":0.10556756371813886},0.10432549583666832,null,7.2436281861140706E-5]
[55000,0.10564,{"$f":"Cockpit!F$8","v":-41.842196549240526},55,{"$f":"Pice-(Pice-p0)*EXP(-D552*_Kon1*Cockpit!$C$3)+_Kon2*D552","v":0.10557003371091445},0.10432549583666832,null,6.9966289085551803E-5]
[55100,0.10564,{"$f":"Cockpit!F$8","v":-41.842196549240526},55.1,{"$f":"Pice-(Pice-p0)*EXP(-D553*_Kon1*Cockpit!$C$3)+_Kon2*D553","v":0.10557250370369005},0.10432549583666832,null,6.7496296309949022E-5]
[55200,0.10564,{"$f":"Cockpit!F$8","v":-41.842196549240526},55.2,{"$f":"Pice-(Pice-p0)*EXP(-D554*_Kon1*Cockpit!$C$3)+_Kon2*D554","v":0.10557497369646564},0.10432549583666832,null,6.5026303534360119E-5]
[55300,0.10564,{"$f":"Cockpit!F$8","v":-41.842196549240526},55.3,{"$f":"Pice-(Pice-p0)*EXP(-D555*_Kon1*Cockpit!$C$3)+_Kon2*D555","v":0.10557744368924124},0.10432549583666832,null,6.2556310758757339E-5]
[55400,0.10564,{"$f":"Cockpit!F$8","v":-41.842196549240526},55.4,{"$f":"Pice-(Pice-p0)*EXP(-D556*_Kon1*Cockpit!$C$3)+_Kon2*D556","v":0.10557991368201683},0.10432549583666832,null,6.0086317983168436E-5]
[55500,0.10564,{"$f":"Cockpit!F$8","v":-41.842196549240526},55.5,{"$f":"Pice-(Pice-p0)*EXP(-D557*_Kon1*Cockpit!$C$3)+_Kon2*D557","v":0.10558238367479243},0.10432549583666832,null,5.7616325207565655E-5]
[55600,0.10564,{"$f":"Cockpit!F$8","v":-41.842196549240526},55.6,{"$f":"Pice-(Pice-p0)*EXP(-D558*_Kon1*Cockpit!$C$3)+_Kon2*D558","v":0.10558485366756802},0.10432549583666832,null,5.5146332431976752E-5]
[55700,0.10564,{"$f":"Cockpit!F$8","v":-41.842196549240526},55.7,{"$f":"Pice-(Pice-p0)*EXP(-D559*_Kon1*Cockpit!$C$3)+_Kon2*D559","v":0.10558732366034362},0.10432549583666832,null,5.2676339656373972E-5]
[55800,0.10564,{"$f":"Cockpit!F$8","v":-41.842196549240526},55.8,{"$f":"Pice-(Pice-p0)*EXP(-D560*_Kon1*Cockpit!$C$3)+_Kon2*D560","v":0.10558979365311921},0.10432549583666832,null,5.0206346880785069E-5]
[55900,0.10564,{"$f":"Cockpit!F$8","v":-41.842196549240526},55.9,{"$f":"Pice-(Pice-p0)*EXP(-D561*_Kon1*Cockpit!$C$3)+_Kon2*D561","v":0.1055922636458948},0.10432549583666832,null,4.7736354105196166E-5]
[56000,0.10564,{"$f":"Cockpit!F$8","v":-41.842196549240526},56,{"$f":"Pice-(Pice-p0)*EXP(-D562*_Kon1*Cockpit!$C$3)+_Kon2*D562","v":0.1055947336386704},0.10432549583666832,null,4.5266361329593385E-5]
[56100,0.10564,{"$f":"Cockpit!F$8","v":-41.842196549240526},56.1,{"$f":"Pice-(Pice-p0)*EXP(-D563*_Kon1*Cockpit!$C$3)+_Kon2*D563","v":0.10559720363144599},0.10432549583666832,null,4.2796368554004482E-5]
[56200,0.10539999999999999,{"$f":"Cockpit!F$8","v":-41.842196549240526},56.2,{"$f":"Pice-(Pice-p0)*EXP(-D564*_Kon1*Cockpit!$C$3)+_Kon2*D564","v":0.1055996736242216},0.10432549583666832,null,1.996736242216024E-4]
[56300,0.10539999999999999,{"$f":"Cockpit!F$8","v":-41.842196549240526},56.3,{"$f":"Pice-(Pice-p0)*EXP(-D565*_Kon1*Cockpit!$C$3)+_Kon2*D565","v":0.10560214361699718},0.10432549583666832,null,2.021436169971913E-4]
[56400,0.10564,{"$f":"Cockpit!F$8","v":-41.842196549240526},56.4,{"$f":"Pice-(Pice-p0)*EXP(-D566*_Kon1*Cockpit!$C$3)+_Kon2*D566","v":0.10560461360977279},0.10432549583666832,null,3.5386390227210018E-5]
[56500,0.10564,{"$f":"Cockpit!F$8","v":-41.842196549240526},56.5,{"$f":"Pice-(Pice-p0)*EXP(-D567*_Kon1*Cockpit!$C$3)+_Kon2*D567","v":0.10560708360254838},0.10432549583666832,null,3.2916397451621116E-5]
[56600,0.10564,{"$f":"Cockpit!F$8","v":-41.842196549240526},56.6,{"$f":"Pice-(Pice-p0)*EXP(-D568*_Kon1*Cockpit!$C$3)+_Kon2*D568","v":0.10560955359532398},0.10432549583666832,null,3.0446404676018335E-5]
[56700,0.10564,{"$f":"Cockpit!F$8","v":-41.842196549240526},56.7,{"$f":"Pice-(Pice-p0)*EXP(-D569*_Kon1*Cockpit!$C$3)+_Kon2*D569","v":0.10561202358809957},0.10432549583666832,null,2.7976411900429432E-5]
[56800,0.10539999999999999,{"$f":"Cockpit!F$8","v":-41.842196549240526},56.8,{"$f":"Pice-(Pice-p0)*EXP(-D570*_Kon1*Cockpit!$C$3)+_Kon2*D570","v":0.10561449358087516},0.10432549583666832,null,2.1449358087516357E-4]
[56900,0.10539999999999999,{"$f":"Cockpit!F$8","v":-41.842196549240526},56.9,{"$f":"Pice-(Pice-p0)*EXP(-D571*_Kon1*Cockpit!$C$3)+_Kon2*D571","v":0.10561696357365076},0.10432549583666832,null,2.1696357365076635E-4]
[57000,0.10539999999999999,{"$f":"Cockpit!F$8","v":-41.842196549240526},57,{"$f":"Pice-(Pice-p0)*EXP(-D572*_Kon1*Cockpit!$C$3)+_Kon2*D572","v":0.10561943356642635},0.10432549583666832,null,2.1943356642635525E-4]
[57100,0.10539999999999999,{"$f":"Cockpit!F$8","v":-41.842196549240526},57.1,{"$f":"Pice-(Pice-p0)*EXP(-D573*_Kon1*Cockpit!$C$3)+_Kon2*D573","v":0.10562190355920195},0.10432549583666832,null,2.2190355920195803E-4]
[57200,0.10564,{"$f":"Cockpit!F$8","v":-41.842196549240526},57.2,{"$f":"Pice-(Pice-p0)*EXP(-D574*_Kon1*Cockpit!$C$3)+_Kon2*D574","v":0.10562437355197754},0.10432549583666832,null,1.5626448022457162E-5]
[57300,0.10564,{"$f":"Cockpit!F$8","v":-41.842196549240526},57.3,{"$f":"Pice-(Pice-p0)*EXP(-D575*_Kon1*Cockpit!$C$3)+_Kon2*D575","v":0.10562684354475314},0.10432549583666832,null,1.3156455246854382E-5]
[57400,0.10564,{"$f":"Cockpit!F$8","v":-41.842196549240526},57.4,{"$f":"Pice-(Pice-p0)*EXP(-D576*_Kon1*Cockpit!$C$3)+_Kon2*D576","v":0.10562931353752873},0.10432549583666832,null,1.0686462471265479E-5]
[57500,0.10564,{"$f":"Cockpit!F$8","v":-41.842196549240526},57.5,{"$f":"Pice-(Pice-p0)*EXP(-D577*_Kon1*Cockpit!$C$3)+_Kon2*D577","v":0.10563178353030434},0.10432549583666832,null,8.2164696956626981E-6]
[57600,0.10564,{"$f":"Cockpit!F$8","v":-41.842196549240526},57.6,{"$f":"Pice-(Pice-p0)*EXP(-D578*_Kon1*Cockpit!$C$3)+_Kon2*D578","v":0.10563425352307992},0.10432549583666832,null,5.7464769200737953E-6]
[57700,0.10564,{"$f":"Cockpit!F$8","v":-41.842196549240526},{"$f":"A579/1000","v":57.7},{"$f":"Pice-(Pice-p0)*EXP(-D579*_Kon1*Cockpit!$C$3)+_Kon2*D579","v":0.10563672351585553},{"$f":"EXP(24.30592-6144.96/(C579+273.15))","v":0.10432549583666832},null,{"$f":"SQRT((E579-B579)^2)","v":3.2764841444710147E-6}]
[57800,0.10564,{"$f":"Cockpit!F$8","v":-41.842196549240526},57.8,{"$f":"Pice-(Pice-p0)*EXP(-D580*_Kon1*Cockpit!$C$3)+_Kon2*D580","v":0.10563919350863112},0.10432549583666832,null,8.0649136888211181E-7]
[57900,0.10564,{"$f":"Cockpit!F$8","v":-41.842196549240526},57.9,{"$f":"Pice-(Pice-p0)*EXP(-D581*_Kon1*Cockpit!$C$3)+_Kon2*D581","v":0.1056416635014067},0.10432549583666832,null,1.663501406706791E-6]
[58000,0.10589,{"$f":"Cockpit!F$8","v":-41.842196549240526},58,{"$f":"Pice-(Pice-p0)*EXP(-D582*_Kon1*Cockpit!$C$3)+_Kon2*D582","v":0.10564413349418231},0.10432549583666832,null,2.4586650581769065E-4]
[58100,0.10564,{"$f":"Cockpit!F$8","v":-41.842196549240526},58.1,{"$f":"Pice-(Pice-p0)*EXP(-D583*_Kon1*Cockpit!$C$3)+_Kon2*D583","v":0.1056466034869579},0.10432549583666832,null,6.6034869578984745E-6]
[58200,0.10564,{"$f":"Cockpit!F$8","v":-41.842196549240526},58.2,{"$f":"Pice-(Pice-p0)*EXP(-D584*_Kon1*Cockpit!$C$3)+_Kon2*D584","v":0.1056490734797335},0.10432549583666832,null,9.0734797335012551E-6]
[58300,0.10564,{"$f":"Cockpit!F$8","v":-41.842196549240526},58.3,{"$f":"Pice-(Pice-p0)*EXP(-D585*_Kon1*Cockpit!$C$3)+_Kon2*D585","v":0.10565154347250909},0.10432549583666832,null,1.1543472509090158E-5]
[58400,0.10564,{"$f":"Cockpit!F$8","v":-41.842196549240526},58.4,{"$f":"Pice-(Pice-p0)*EXP(-D586*_Kon1*Cockpit!$C$3)+_Kon2*D586","v":0.10565401346528469},0.10432549583666832,null,1.4013465284692939E-5]
[58500,0.10564,{"$f":"Cockpit!F$8","v":-41.842196549240526},58.5,{"$f":"Pice-(Pice-p0)*EXP(-D587*_Kon1*Cockpit!$C$3)+_Kon2*D587","v":0.10565648345806028},0.10432549583666832,null,1.6483458060281841E-5]
[58600,0.10539999999999999,{"$f":"Cockpit!F$8","v":-41.842196549240526},58.6,{"$f":"Pice-(Pice-p0)*EXP(-D588*_Kon1*Cockpit!$C$3)+_Kon2*D588","v":0.10565895345083588},0.10432549583666832,null,2.5895345083588872E-4]
[58700,0.10539999999999999,{"$f":"Cockpit!F$8","v":-41.842196549240526},58.7,{"$f":"Pice-(Pice-p0)*EXP(-D589*_Kon1*Cockpit!$C$3)+_Kon2*D589","v":0.10566142344361147},0.10432549583666832,null,2.6142344361147762E-4]
[58800,0.10539999999999999,{"$f":"Cockpit!F$8","v":-41.842196549240526},58.8,{"$f":"Pice-(Pice-p0)*EXP(-D590*_Kon1*Cockpit!$C$3)+_Kon2*D590","v":0.10566389343638707},0.10432549583666832,null,2.638934363870804E-4]
[58900,0.10539999999999999,{"$f":"Cockpit!F$8","v":-41.842196549240526},58.9,{"$f":"Pice-(Pice-p0)*EXP(-D591*_Kon1*Cockpit!$C$3)+_Kon2*D591","v":0.10566636342916266},0.10432549583666832,null,2.6636342916266931E-4]
[59000,0.10539999999999999,{"$f":"Cockpit!F$8","v":-41.842196549240526},59,{"$f":"Pice-(Pice-p0)*EXP(-D592*_Kon1*Cockpit!$C$3)+_Kon2*D592","v":0.10566883342193825},0.10432549583666832,null,2.6883342193825821E-4]
[59100,0.10539999999999999,{"$f":"Cockpit!F$8","v":-41.842196549240526},59.1,{"$f":"Pice-(Pice-p0)*EXP(-D593*_Kon1*Cockpit!$C$3)+_Kon2*D593","v":0.10567130341471385},0.10432549583666832,null,2.7130341471386099E-4]
[59200,0.10564,{"$f":"Cockpit!F$8","v":-41.842196549240526},59.2,{"$f":"Pice-(Pice-p0)*EXP(-D594*_Kon1*Cockpit!$C$3)+_Kon2*D594","v":0.10567377340748944},0.10432549583666832,null,3.3773407489445795E-5]
[59300,0.10564,{"$f":"Cockpit!F$8","v":-41.842196549240526},59.3,{"$f":"Pice-(Pice-p0)*EXP(-D595*_Kon1*Cockpit!$C$3)+_Kon2*D595","v":0.10567624340026505},0.10432549583666832,null,3.6243400265048575E-5]
[59400,0.10564,{"$f":"Cockpit!F$8","v":-41.842196549240526},59.4,{"$f":"Pice-(Pice-p0)*EXP(-D596*_Kon1*Cockpit!$C$3)+_Kon2*D596","v":0.10567871339304064},0.10432549583666832,null,3.8713393040637478E-5]
[59500,0.10564,{"$f":"Cockpit!F$8","v":-41.842196549240526},59.5,{"$f":"Pice-(Pice-p0)*EXP(-D597*_Kon1*Cockpit!$C$3)+_Kon2*D597","v":0.10568118338581624},0.10432549583666832,null,4.1183385816240259E-5]
[59600,0.10564,{"$f":"Cockpit!F$8","v":-41.842196549240526},59.6,{"$f":"Pice-(Pice-p0)*EXP(-D598*_Kon1*Cockpit!$C$3)+_Kon2*D598","v":0.10568365337859183},0.10432549583666832,null,4.3653378591829162E-5]
[59700,0.10539999999999999,{"$f":"Cockpit!F$8","v":-41.842196549240526},59.7,{"$f":"Pice-(Pice-p0)*EXP(-D599*_Kon1*Cockpit!$C$3)+_Kon2*D599","v":0.10568612337136743},0.10432549583666832,null,2.8612337136743604E-4]
[59800,0.10539999999999999,{"$f":"Cockpit!F$8","v":-41.842196549240526},59.8,{"$f":"Pice-(Pice-p0)*EXP(-D600*_Kon1*Cockpit!$C$3)+_Kon2*D600","v":0.10568859336414302},0.10432549583666832,null,2.8859336414302494E-4]
[59900,0.10564,{"$f":"Cockpit!F$8","v":-41.842196549240526},59.9,{"$f":"Pice-(Pice-p0)*EXP(-D601*_Kon1*Cockpit!$C$3)+_Kon2*D601","v":0.10569106335691861},0.10432549583666832,null,5.1063356918609748E-5]
[60000,0.10564,{"$f":"Cockpit!F$8","v":-41.842196549240526},60,{"$f":"Pice-(Pice-p0)*EXP(-D602*_Kon1*Cockpit!$C$3)+_Kon2*D602","v":0.10569353334969421},0.10432549583666832,null,5.3533349694212529E-5]
[60100,0.10564,{"$f":"Cockpit!F$8","v":-41.842196549240526},60.1,{"$f":"Pice-(Pice-p0)*EXP(-D603*_Kon1*Cockpit!$C$3)+_Kon2*D603","v":0.1056960033424698},0.10432549583666832,null,5.6003342469801431E-5]
[60200,0.10564,{"$f":"Cockpit!F$8","v":-41.842196549240526},60.2,{"$f":"Pice-(Pice-p0)*EXP(-D604*_Kon1*Cockpit!$C$3)+_Kon2*D604","v":0.1056984733352454},0.10432549583666832,null,5.8473335245404212E-5]
[60300,0.10564,{"$f":"Cockpit!F$8","v":-41.842196549240526},60.3,{"$f":"Pice-(Pice-p0)*EXP(-D605*_Kon1*Cockpit!$C$3)+_Kon2*D605","v":0.10570094332802099},0.10432549583666832,null,6.0943328020993115E-5]
[60400,0.10564,{"$f":"Cockpit!F$8","v":-41.842196549240526},60.4,{"$f":"Pice-(Pice-p0)*EXP(-D606*_Kon1*Cockpit!$C$3)+_Kon2*D606","v":0.10570341332079659},0.10432549583666832,null,6.3413320796595896E-5]
[60500,0.10564,{"$f":"Cockpit!F$8","v":-41.842196549240526},60.5,{"$f":"Pice-(Pice-p0)*EXP(-D607*_Kon1*Cockpit!$C$3)+_Kon2*D607","v":0.10570588331357218},0.10432549583666832,null,6.5883313572184798E-5]
[60600,0.10564,{"$f":"Cockpit!F$8","v":-41.842196549240526},60.6,{"$f":"Pice-(Pice-p0)*EXP(-D608*_Kon1*Cockpit!$C$3)+_Kon2*D608","v":0.10570835330634779},0.10432549583666832,null,6.8353306347787579E-5]
[60700,0.10564,{"$f":"Cockpit!F$8","v":-41.842196549240526},60.7,{"$f":"Pice-(Pice-p0)*EXP(-D609*_Kon1*Cockpit!$C$3)+_Kon2*D609","v":0.10571082329912337},0.10432549583666832,null,7.0823299123376482E-5]
[60800,0.10564,{"$f":"Cockpit!F$8","v":-41.842196549240526},60.8,{"$f":"Pice-(Pice-p0)*EXP(-D610*_Kon1*Cockpit!$C$3)+_Kon2*D610","v":0.10571329329189898},0.10432549583666832,null,7.3293291898979263E-5]
[60900,0.10564,{"$f":"Cockpit!F$8","v":-41.842196549240526},60.9,{"$f":"Pice-(Pice-p0)*EXP(-D611*_Kon1*Cockpit!$C$3)+_Kon2*D611","v":0.10571576328467457},0.10432549583666832,null,7.5763284674568165E-5]
[61000,0.10564,{"$f":"Cockpit!F$8","v":-41.842196549240526},61,{"$f":"Pice-(Pice-p0)*EXP(-D612*_Kon1*Cockpit!$C$3)+_Kon2*D612","v":0.10571823327745015},0.10432549583666832,null,7.8233277450157068E-5]
[61100,0.10564,{"$f":"Cockpit!F$8","v":-41.842196549240526},61.1,{"$f":"Pice-(Pice-p0)*EXP(-D613*_Kon1*Cockpit!$C$3)+_Kon2*D613","v":0.10572070327022576},0.10432549583666832,null,8.0703270225759849E-5]
[61200,0.10564,{"$f":"Cockpit!F$8","v":-41.842196549240526},61.2,{"$f":"Pice-(Pice-p0)*EXP(-D614*_Kon1*Cockpit!$C$3)+_Kon2*D614","v":0.10572317326300135},0.10432549583666832,null,8.3173263001348752E-5]
[61300,0.10564,{"$f":"Cockpit!F$8","v":-41.842196549240526},61.3,{"$f":"Pice-(Pice-p0)*EXP(-D615*_Kon1*Cockpit!$C$3)+_Kon2*D615","v":0.10572564325577695},0.10432549583666832,null,8.5643255776951532E-5]
[61400,0.10564,{"$f":"Cockpit!F$8","v":-41.842196549240526},61.4,{"$f":"Pice-(Pice-p0)*EXP(-D616*_Kon1*Cockpit!$C$3)+_Kon2*D616","v":0.10572811324855254},0.10432549583666832,null,8.8113248552540435E-5]
[61500,0.10564,{"$f":"Cockpit!F$8","v":-41.842196549240526},61.5,{"$f":"Pice-(Pice-p0)*EXP(-D617*_Kon1*Cockpit!$C$3)+_Kon2*D617","v":0.10573058324132814},0.10432549583666832,null,9.0583241328143216E-5]
[61600,0.10564,{"$f":"Cockpit!F$8","v":-41.842196549240526},61.6,{"$f":"Pice-(Pice-p0)*EXP(-D618*_Kon1*Cockpit!$C$3)+_Kon2*D618","v":0.10573305323410373},0.10432549583666832,null,9.3053234103732119E-5]
[61700,0.10564,{"$f":"Cockpit!F$8","v":-41.842196549240526},61.7,{"$f":"Pice-(Pice-p0)*EXP(-D619*_Kon1*Cockpit!$C$3)+_Kon2*D619","v":0.10573552322687933},0.10432549583666832,null,9.5523226879334899E-5]
[61800,0.10589,{"$f":"Cockpit!F$8","v":-41.842196549240526},61.8,{"$f":"Pice-(Pice-p0)*EXP(-D620*_Kon1*Cockpit!$C$3)+_Kon2*D620","v":0.10573799321965492},0.10432549583666832,null,1.5200678034507642E-4]
[61900,0.10613,{"$f":"Cockpit!F$8","v":-41.842196549240526},61.9,{"$f":"Pice-(Pice-p0)*EXP(-D621*_Kon1*Cockpit!$C$3)+_Kon2*D621","v":0.10574046321243052},0.10432549583666832,null,3.8953678756947774E-4]
[62000,0.10613,{"$f":"Cockpit!F$8","v":-41.842196549240526},62,{"$f":"Pice-(Pice-p0)*EXP(-D622*_Kon1*Cockpit!$C$3)+_Kon2*D622","v":0.10574293320520611},0.10432549583666832,null,3.8706679479388884E-4]
[62100,0.10613,{"$f":"Cockpit!F$8","v":-41.842196549240526},62.1,{"$f":"Pice-(Pice-p0)*EXP(-D623*_Kon1*Cockpit!$C$3)+_Kon2*D623","v":0.1057454031979817},0.10432549583666832,null,3.8459680201829993E-4]
[62200,0.10613,{"$f":"Cockpit!F$8","v":-41.842196549240526},62.2,{"$f":"Pice-(Pice-p0)*EXP(-D624*_Kon1*Cockpit!$C$3)+_Kon2*D624","v":0.1057478731907573},0.10432549583666832,null,3.8212680924269715E-4]
[62300,0.10613,{"$f":"Cockpit!F$8","v":-41.842196549240526},62.3,{"$f":"Pice-(Pice-p0)*EXP(-D625*_Kon1*Cockpit!$C$3)+_Kon2*D625","v":0.10575034318353289},0.10432549583666832,null,3.7965681646710825E-4]
[62400,0.10613,{"$f":"Cockpit!F$8","v":-41.842196549240526},62.4,{"$f":"Pice-(Pice-p0)*EXP(-D626*_Kon1*Cockpit!$C$3)+_Kon2*D626","v":0.1057528131763085},0.10432549583666832,null,3.7718682369150547E-4]
[62500,0.10613,{"$f":"Cockpit!F$8","v":-41.842196549240526},62.5,{"$f":"Pice-(Pice-p0)*EXP(-D627*_Kon1*Cockpit!$C$3)+_Kon2*D627","v":0.10575528316908409},0.10432549583666832,null,3.7471683091591657E-4]
[62600,0.10613,{"$f":"Cockpit!F$8","v":-41.842196549240526},62.6,{"$f":"Pice-(Pice-p0)*EXP(-D628*_Kon1*Cockpit!$C$3)+_Kon2*D628","v":0.10575775316185969},0.10432549583666832,null,3.7224683814031378E-4]
[62700,0.10589,{"$f":"Cockpit!F$8","v":-41.842196549240526},62.7,{"$f":"Pice-(Pice-p0)*EXP(-D629*_Kon1*Cockpit!$C$3)+_Kon2*D629","v":0.10576022315463528},0.10432549583666832,null,1.2977684536472078E-4]
[62800,0.10589,{"$f":"Cockpit!F$8","v":-41.842196549240526},62.8,{"$f":"Pice-(Pice-p0)*EXP(-D630*_Kon1*Cockpit!$C$3)+_Kon2*D630","v":0.10576269314741088},0.10432549583666832,null,1.27306852589118E-4]
[62900,0.10589,{"$f":"Cockpit!F$8","v":-41.842196549240526},62.9,{"$f":"Pice-(Pice-p0)*EXP(-D631*_Kon1*Cockpit!$C$3)+_Kon2*D631","v":0.10576516314018647},0.10432549583666832,null,1.248368598135291E-4]
[63000,0.10589,{"$f":"Cockpit!F$8","v":-41.842196549240526},63,{"$f":"Pice-(Pice-p0)*EXP(-D632*_Kon1*Cockpit!$C$3)+_Kon2*D632","v":0.10576763313296206},0.10432549583666832,null,1.223668670379402E-4]
[63100,0.10589,{"$f":"Cockpit!F$8","v":-41.842196549240526},63.1,{"$f":"Pice-(Pice-p0)*EXP(-D633*_Kon1*Cockpit!$C$3)+_Kon2*D633","v":0.10577010312573766},0.10432549583666832,null,1.1989687426233742E-4]
[63200,0.10589,{"$f":"Cockpit!F$8","v":-41.842196549240526},63.2,{"$f":"Pice-(Pice-p0)*EXP(-D634*_Kon1*Cockpit!$C$3)+_Kon2*D634","v":0.10577257311851325},0.10432549583666832,null,1.1742688148674851E-4]
[63300,0.10589,{"$f":"Cockpit!F$8","v":-41.842196549240526},63.3,{"$f":"Pice-(Pice-p0)*EXP(-D635*_Kon1*Cockpit!$C$3)+_Kon2*D635","v":0.10577504311128885},0.10432549583666832,null,1.1495688871114573E-4]
[63400,0.10589,{"$f":"Cockpit!F$8","v":-41.842196549240526},63.4,{"$f":"Pice-(Pice-p0)*EXP(-D636*_Kon1*Cockpit!$C$3)+_Kon2*D636","v":0.10577751310406444},0.10432549583666832,null,1.1248689593555683E-4]
[63500,0.10613,{"$f":"Cockpit!F$8","v":-41.842196549240526},63.5,{"$f":"Pice-(Pice-p0)*EXP(-D637*_Kon1*Cockpit!$C$3)+_Kon2*D637","v":0.10577998309684004},0.10432549583666832,null,3.5001690315995815E-4]
[63600,0.10589,{"$f":"Cockpit!F$8","v":-41.842196549240526},63.6,{"$f":"Pice-(Pice-p0)*EXP(-D638*_Kon1*Cockpit!$C$3)+_Kon2*D638","v":0.10578245308961563},0.10432549583666832,null,1.0754691038436515E-4]
[63700,0.10589,{"$f":"Cockpit!F$8","v":-41.842196549240526},63.7,{"$f":"Pice-(Pice-p0)*EXP(-D639*_Kon1*Cockpit!$C$3)+_Kon2*D639","v":0.10578492308239124},0.10432549583666832,null,1.0507691760876237E-4]
[63800,0.10613,{"$f":"Cockpit!F$8","v":-41.842196549240526},63.8,{"$f":"Pice-(Pice-p0)*EXP(-D640*_Kon1*Cockpit!$C$3)+_Kon2*D640","v":0.10578739307516682},0.10432549583666832,null,3.4260692483317756E-4]
[63900,0.10613,{"$f":"Cockpit!F$8","v":-41.842196549240526},63.9,{"$f":"Pice-(Pice-p0)*EXP(-D641*_Kon1*Cockpit!$C$3)+_Kon2*D641","v":0.10578986306794243},0.10432549583666832,null,3.4013693205757478E-4]
[64000,0.10613,{"$f":"Cockpit!F$8","v":-41.842196549240526},64,{"$f":"Pice-(Pice-p0)*EXP(-D642*_Kon1*Cockpit!$C$3)+_Kon2*D642","v":0.10579233306071802},0.10432549583666832,null,3.3766693928198588E-4]
[64100,0.10589,{"$f":"Cockpit!F$8","v":-41.842196549240526},{"$f":"A643/1000","v":64.099999999999994},{"$f":"Pice-(Pice-p0)*EXP(-D643*_Kon1*Cockpit!$C$3)+_Kon2*D643","v":0.10579480305349361},{"$f":"EXP(24.30592-6144.96/(C643+273.15))","v":0.10432549583666832},null,{"$f":"SQRT((E643-B643)^2)","v":9.5196946506392877E-5}]
[64200,0.10589,{"$f":"Cockpit!F$8","v":-41.842196549240526},64.2,{"$f":"Pice-(Pice-p0)*EXP(-D644*_Kon1*Cockpit!$C$3)+_Kon2*D644","v":0.10579727304626921},0.10432549583666832,null,9.2726953730790096E-5]
[64300,0.10564,{"$f":"Cockpit!F$8","v":-41.842196549240526},64.3,{"$f":"Pice-(Pice-p0)*EXP(-D645*_Kon1*Cockpit!$C$3)+_Kon2*D645","v":0.1057997430390448},0.10432549583666832,null,1.5974303904479903E-4]
[64400,0.10564,{"$f":"Cockpit!F$8","v":-41.842196549240526},64.400000000000006,{"$f":"Pice-(Pice-p0)*EXP(-D646*_Kon1*Cockpit!$C$3)+_Kon2*D646","v":0.1058022130318204},0.10432549583666832,null,1.6221303182040181E-4]
[64500,0.10564,{"$f":"Cockpit!F$8","v":-41.842196549240526},64.5,{"$f":"Pice-(Pice-p0)*EXP(-D647*_Kon1*Cockpit!$C$3)+_Kon2*D647","v":0.10580468302459599},0.10432549583666832,null,1.6468302459599071E-4]
[64600,0.10564,{"$f":"Cockpit!F$8","v":-41.842196549240526},64.599999999999994,{"$f":"Pice-(Pice-p0)*EXP(-D648*_Kon1*Cockpit!$C$3)+_Kon2*D648","v":0.10580715301737159},0.10432549583666832,null,1.6715301737159349E-4]
[64700,0.10564,{"$f":"Cockpit!F$8","v":-41.842196549240526},64.7,{"$f":"Pice-(Pice-p0)*EXP(-D649*_Kon1*Cockpit!$C$3)+_Kon2*D649","v":0.10580962301014718},0.10432549583666832,null,1.696230101471824E-4]
[64800,0.10564,{"$f":"Cockpit!F$8","v":-41.842196549240526},64.8,{"$f":"Pice-(Pice-p0)*EXP(-D650*_Kon1*Cockpit!$C$3)+_Kon2*D650","v":0.10581209300292278},0.10432549583666832,null,1.7209300292278518E-4]
[64900,0.10564,{"$f":"Cockpit!F$8","v":-41.842196549240526},64.900000000000006,{"$f":"Pice-(Pice-p0)*EXP(-D651*_Kon1*Cockpit!$C$3)+_Kon2*D651","v":0.10581456299569837},0.10432549583666832,null,1.7456299569837408E-4]
[65000,0.10564,{"$f":"Cockpit!F$8","v":-41.842196549240526},65,{"$f":"Pice-(Pice-p0)*EXP(-D652*_Kon1*Cockpit!$C$3)+_Kon2*D652","v":0.10581703298847397},0.10432549583666832,null,1.7703298847397686E-4]
[65100,0.10564,{"$f":"Cockpit!F$8","v":-41.842196549240526},65.099999999999994,{"$f":"Pice-(Pice-p0)*EXP(-D653*_Kon1*Cockpit!$C$3)+_Kon2*D653","v":0.10581950298124956},0.10432549583666832,null,1.7950298124956576E-4]
[65200,0.10589,{"$f":"Cockpit!F$8","v":-41.842196549240526},65.2,{"$f":"Pice-(Pice-p0)*EXP(-D654*_Kon1*Cockpit!$C$3)+_Kon2*D654","v":0.10582197297402515},0.10432549583666832,null,6.8027025974845556E-5]
[65300,0.10589,{"$f":"Cockpit!F$8","v":-41.842196549240526},65.3,{"$f":"Pice-(Pice-p0)*EXP(-D655*_Kon1*Cockpit!$C$3)+_Kon2*D655","v":0.10582444296680076},0.10432549583666832,null,6.5557033199242776E-5]
[65400,0.10589,{"$f":"Cockpit!F$8","v":-41.842196549240526},65.400000000000006,{"$f":"Pice-(Pice-p0)*EXP(-D656*_Kon1*Cockpit!$C$3)+_Kon2*D656","v":0.10582691295957634},0.10432549583666832,null,6.3087040423653873E-5]
[65500,0.10589,{"$f":"Cockpit!F$8","v":-41.842196549240526},65.5,{"$f":"Pice-(Pice-p0)*EXP(-D657*_Kon1*Cockpit!$C$3)+_Kon2*D657","v":0.10582938295235195},0.10432549583666832,null,6.0617047648051092E-5]
[65600,0.10589,{"$f":"Cockpit!F$8","v":-41.842196549240526},65.599999999999994,{"$f":"Pice-(Pice-p0)*EXP(-D658*_Kon1*Cockpit!$C$3)+_Kon2*D658","v":0.10583185294512754},0.10432549583666832,null,5.8147054872462189E-5]
[65700,0.10589,{"$f":"Cockpit!F$8","v":-41.842196549240526},65.7,{"$f":"Pice-(Pice-p0)*EXP(-D659*_Kon1*Cockpit!$C$3)+_Kon2*D659","v":0.10583432293790314},0.10432549583666832,null,5.5677062096859409E-5]
[65800,0.10589,{"$f":"Cockpit!F$8","v":-41.842196549240526},65.8,{"$f":"Pice-(Pice-p0)*EXP(-D660*_Kon1*Cockpit!$C$3)+_Kon2*D660","v":0.10583679293067873},0.10432549583666832,null,5.3207069321270506E-5]
[65900,0.10589,{"$f":"Cockpit!F$8","v":-41.842196549240526},65.900000000000006,{"$f":"Pice-(Pice-p0)*EXP(-D661*_Kon1*Cockpit!$C$3)+_Kon2*D661","v":0.10583926292345433},0.10432549583666832,null,5.0737076545667725E-5]
[66000,0.10589,{"$f":"Cockpit!F$8","v":-41.842196549240526},66,{"$f":"Pice-(Pice-p0)*EXP(-D662*_Kon1*Cockpit!$C$3)+_Kon2*D662","v":0.10584173291622992},0.10432549583666832,null,4.8267083770078822E-5]
[66100,0.10589,{"$f":"Cockpit!F$8","v":-41.842196549240526},66.099999999999994,{"$f":"Pice-(Pice-p0)*EXP(-D663*_Kon1*Cockpit!$C$3)+_Kon2*D663","v":0.10584420290900551},0.10432549583666832,null,4.579709099448992E-5]
[66200,0.10564,{"$f":"Cockpit!F$8","v":-41.842196549240526},66.2,{"$f":"Pice-(Pice-p0)*EXP(-D664*_Kon1*Cockpit!$C$3)+_Kon2*D664","v":0.10584667290178111},0.10432549583666832,null,2.0667290178111308E-4]
[66300,0.10564,{"$f":"Cockpit!F$8","v":-41.842196549240526},66.3,{"$f":"Pice-(Pice-p0)*EXP(-D665*_Kon1*Cockpit!$C$3)+_Kon2*D665","v":0.1058491428945567},0.10432549583666832,null,2.0914289455670199E-4]
[66400,0.10564,{"$f":"Cockpit!F$8","v":-41.842196549240526},66.400000000000006,{"$f":"Pice-(Pice-p0)*EXP(-D666*_Kon1*Cockpit!$C$3)+_Kon2*D666","v":0.1058516128873323},0.10432549583666832,null,2.1161288733230477E-4]
[66500,0.10564,{"$f":"Cockpit!F$8","v":-41.842196549240526},66.5,{"$f":"Pice-(Pice-p0)*EXP(-D667*_Kon1*Cockpit!$C$3)+_Kon2*D667","v":0.10585408288010789},0.10432549583666832,null,2.1408288010789367E-4]
[66600,0.10564,{"$f":"Cockpit!F$8","v":-41.842196549240526},66.599999999999994,{"$f":"Pice-(Pice-p0)*EXP(-D668*_Kon1*Cockpit!$C$3)+_Kon2*D668","v":0.10585655287288349},0.10432549583666832,null,2.1655287288349645E-4]
[66700,0.10564,{"$f":"Cockpit!F$8","v":-41.842196549240526},66.7,{"$f":"Pice-(Pice-p0)*EXP(-D669*_Kon1*Cockpit!$C$3)+_Kon2*D669","v":0.10585902286565908},0.10432549583666832,null,2.1902286565908535E-4]
[66800,0.10564,{"$f":"Cockpit!F$8","v":-41.842196549240526},66.8,{"$f":"Pice-(Pice-p0)*EXP(-D670*_Kon1*Cockpit!$C$3)+_Kon2*D670","v":0.10586149285843469},0.10432549583666832,null,2.2149285843468813E-4]
[66900,0.10589,{"$f":"Cockpit!F$8","v":-41.842196549240526},66.900000000000006,{"$f":"Pice-(Pice-p0)*EXP(-D671*_Kon1*Cockpit!$C$3)+_Kon2*D671","v":0.10586396285121027},0.10432549583666832,null,2.6037148789723186E-5]
[67000,0.10589,{"$f":"Cockpit!F$8","v":-41.842196549240526},67,{"$f":"Pice-(Pice-p0)*EXP(-D672*_Kon1*Cockpit!$C$3)+_Kon2*D672","v":0.10586643284398588},0.10432549583666832,null,2.3567156014120405E-5]
[67100,0.10589,{"$f":"Cockpit!F$8","v":-41.842196549240526},67.099999999999994,{"$f":"Pice-(Pice-p0)*EXP(-D673*_Kon1*Cockpit!$C$3)+_Kon2*D673","v":0.10586890283676147},0.10432549583666832,null,2.1097163238531502E-5]
[67200,0.10589,{"$f":"Cockpit!F$8","v":-41.842196549240526},67.2,{"$f":"Pice-(Pice-p0)*EXP(-D674*_Kon1*Cockpit!$C$3)+_Kon2*D674","v":0.10587137282953706},0.10432549583666832,null,1.8627170462942599E-5]
[67300,0.10564,{"$f":"Cockpit!F$8","v":-41.842196549240526},67.3,{"$f":"Pice-(Pice-p0)*EXP(-D675*_Kon1*Cockpit!$C$3)+_Kon2*D675","v":0.10587384282231266},0.10432549583666832,null,2.338428223126604E-4]
[67400,0.10564,{"$f":"Cockpit!F$8","v":-41.842196549240526},67.400000000000006,{"$f":"Pice-(Pice-p0)*EXP(-D676*_Kon1*Cockpit!$C$3)+_Kon2*D676","v":0.10587631281508825},0.10432549583666832,null,2.3631281508824931E-4]
[67500,0.10539999999999999,{"$f":"Cockpit!F$8","v":-41.842196549240526},67.5,{"$f":"Pice-(Pice-p0)*EXP(-D677*_Kon1*Cockpit!$C$3)+_Kon2*D677","v":0.10587878280786385},0.10432549583666832,null,4.7878280786385619E-4]
[67600,0.10539999999999999,{"$f":"Cockpit!F$8","v":-41.842196549240526},67.599999999999994,{"$f":"Pice-(Pice-p0)*EXP(-D678*_Kon1*Cockpit!$C$3)+_Kon2*D678","v":0.10588125280063944},0.10432549583666832,null,4.8125280063944509E-4]
[67700,0.10539999999999999,{"$f":"Cockpit!F$8","v":-41.842196549240526},67.7,{"$f":"Pice-(Pice-p0)*EXP(-D679*_Kon1*Cockpit!$C$3)+_Kon2*D679","v":0.10588372279341504},0.10432549583666832,null,4.8372279341504787E-4]
[67800,0.10539999999999999,{"$f":"Cockpit!F$8","v":-41.842196549240526},67.8,{"$f":"Pice-(Pice-p0)*EXP(-D680*_Kon1*Cockpit!$C$3)+_Kon2*D680","v":0.10588619278619063},0.10432549583666832,null,4.8619278619063677E-4]
[67900,0.10539999999999999,{"$f":"Cockpit!F$8","v":-41.842196549240526},67.900000000000006,{"$f":"Pice-(Pice-p0)*EXP(-D681*_Kon1*Cockpit!$C$3)+_Kon2*D681","v":0.10588866277896623},0.10432549583666832,null,4.8866277896623955E-4]
[68000,0.10539999999999999,{"$f":"Cockpit!F$8","v":-41.842196549240526},68,{"$f":"Pice-(Pice-p0)*EXP(-D682*_Kon1*Cockpit!$C$3)+_Kon2*D682","v":0.10589113277174182},0.10432549583666832,null,4.9113277174182846E-4]
[68100,0.10589,{"$f":"Cockpit!F$8","v":-41.842196549240526},68.099999999999994,{"$f":"Pice-(Pice-p0)*EXP(-D683*_Kon1*Cockpit!$C$3)+_Kon2*D683","v":0.10589360276451741},0.10432549583666832,null,3.6027645174130374E-6]
[68200,0.10589,{"$f":"Cockpit!F$8","v":-41.842196549240526},68.2,{"$f":"Pice-(Pice-p0)*EXP(-D684*_Kon1*Cockpit!$C$3)+_Kon2*D684","v":0.10589607275729301},0.10432549583666832,null,6.072757293015818E-6]
[68300,0.10589,{"$f":"Cockpit!F$8","v":-41.842196549240526},68.3,{"$f":"Pice-(Pice-p0)*EXP(-D685*_Kon1*Cockpit!$C$3)+_Kon2*D685","v":0.1058985427500686},0.10432549583666832,null,8.5427500686047209E-6]
[68400,0.10589,{"$f":"Cockpit!F$8","v":-41.842196549240526},68.400000000000006,{"$f":"Pice-(Pice-p0)*EXP(-D686*_Kon1*Cockpit!$C$3)+_Kon2*D686","v":0.10590101274284421},0.10432549583666832,null,1.1012742844207501E-5]
[68500,0.10564,{"$f":"Cockpit!F$8","v":-41.842196549240526},68.5,{"$f":"Pice-(Pice-p0)*EXP(-D687*_Kon1*Cockpit!$C$3)+_Kon2*D687","v":0.10590348273561979},0.10432549583666832,null,2.6348273561979663E-4]
[68600,0.10564,{"$f":"Cockpit!F$8","v":-41.842196549240526},68.599999999999994,{"$f":"Pice-(Pice-p0)*EXP(-D688*_Kon1*Cockpit!$C$3)+_Kon2*D688","v":0.1059059527283954},0.10432549583666832,null,2.6595272839539941E-4]
[68700,0.10564,{"$f":"Cockpit!F$8","v":-41.842196549240526},68.7,{"$f":"Pice-(Pice-p0)*EXP(-D689*_Kon1*Cockpit!$C$3)+_Kon2*D689","v":0.10590842272117099},0.10432549583666832,null,2.6842272117098831E-4]
[68800,0.10564,{"$f":"Cockpit!F$8","v":-41.842196549240526},68.8,{"$f":"Pice-(Pice-p0)*EXP(-D690*_Kon1*Cockpit!$C$3)+_Kon2*D690","v":0.10591089271394659},0.10432549583666832,null,2.7089271394659109E-4]
[68900,0.10564,{"$f":"Cockpit!F$8","v":-41.842196549240526},68.900000000000006,{"$f":"Pice-(Pice-p0)*EXP(-D691*_Kon1*Cockpit!$C$3)+_Kon2*D691","v":0.10591336270672218},0.10432549583666832,null,2.7336270672217999E-4]
[69000,0.10589,{"$f":"Cockpit!F$8","v":-41.842196549240526},69,{"$f":"Pice-(Pice-p0)*EXP(-D692*_Kon1*Cockpit!$C$3)+_Kon2*D692","v":0.10591583269949778},0.10432549583666832,null,2.5832699497782552E-5]
[69100,0.10589,{"$f":"Cockpit!F$8","v":-41.842196549240526},69.099999999999994,{"$f":"Pice-(Pice-p0)*EXP(-D693*_Kon1*Cockpit!$C$3)+_Kon2*D693","v":0.10591830269227337},0.10432549583666832,null,2.8302692273371455E-5]
[69200,0.10589,{"$f":"Cockpit!F$8","v":-41.842196549240526},69.2,{"$f":"Pice-(Pice-p0)*EXP(-D694*_Kon1*Cockpit!$C$3)+_Kon2*D694","v":0.10592077268504896},0.10432549583666832,null,3.0772685048960358E-5]
[69300,0.10589,{"$f":"Cockpit!F$8","v":-41.842196549240526},69.3,{"$f":"Pice-(Pice-p0)*EXP(-D695*_Kon1*Cockpit!$C$3)+_Kon2*D695","v":0.10592324267782456},0.10432549583666832,null,3.3242677824563138E-5]
[69400,0.10589,{"$f":"Cockpit!F$8","v":-41.842196549240526},69.400000000000006,{"$f":"Pice-(Pice-p0)*EXP(-D696*_Kon1*Cockpit!$C$3)+_Kon2*D696","v":0.10592571267060015},0.10432549583666832,null,3.5712670600152041E-5]
[69500,0.10589,{"$f":"Cockpit!F$8","v":-41.842196549240526},69.5,{"$f":"Pice-(Pice-p0)*EXP(-D697*_Kon1*Cockpit!$C$3)+_Kon2*D697","v":0.10592818266337575},0.10432549583666832,null,3.8182663375754822E-5]
[69600,0.10589,{"$f":"Cockpit!F$8","v":-41.842196549240526},69.599999999999994,{"$f":"Pice-(Pice-p0)*EXP(-D698*_Kon1*Cockpit!$C$3)+_Kon2*D698","v":0.10593065265615134},0.10432549583666832,null,4.0652656151343725E-5]
[69700,0.10589,{"$f":"Cockpit!F$8","v":-41.842196549240526},69.7,{"$f":"Pice-(Pice-p0)*EXP(-D699*_Kon1*Cockpit!$C$3)+_Kon2*D699","v":0.10593312264892694},0.10432549583666832,null,4.3122648926946505E-5]
[69800,0.10613,{"$f":"Cockpit!F$8","v":-41.842196549240526},69.8,{"$f":"Pice-(Pice-p0)*EXP(-D700*_Kon1*Cockpit!$C$3)+_Kon2*D700","v":0.10593559264170253},0.10432549583666832,null,1.9440735829746869E-4]
[69900,0.10613,{"$f":"Cockpit!F$8","v":-41.842196549240526},69.900000000000006,{"$f":"Pice-(Pice-p0)*EXP(-D701*_Kon1*Cockpit!$C$3)+_Kon2*D701","v":0.10593806263447814},0.10432549583666832,null,1.9193736552186591E-4]
[70000,0.10613,{"$f":"Cockpit!F$8","v":-41.842196549240526},70,{"$f":"Pice-(Pice-p0)*EXP(-D702*_Kon1*Cockpit!$C$3)+_Kon2*D702","v":0.10594053262725373},0.10432549583666832,null,1.8946737274627701E-4]
[70100,0.10613,{"$f":"Cockpit!F$8","v":-41.842196549240526},70.099999999999994,{"$f":"Pice-(Pice-p0)*EXP(-D703*_Kon1*Cockpit!$C$3)+_Kon2*D703","v":0.10594300262002933},0.10432549583666832,null,1.8699737997067423E-4]
[70200,0.10613,{"$f":"Cockpit!F$8","v":-41.842196549240526},70.2,{"$f":"Pice-(Pice-p0)*EXP(-D704*_Kon1*Cockpit!$C$3)+_Kon2*D704","v":0.10594547261280492},0.10432549583666832,null,1.8452738719508532E-4]
[70300,0.10613,{"$f":"Cockpit!F$8","v":-41.842196549240526},70.3,{"$f":"Pice-(Pice-p0)*EXP(-D705*_Kon1*Cockpit!$C$3)+_Kon2*D705","v":0.10594794260558051},0.10432549583666832,null,1.8205739441949642E-4]
[70400,0.10613,{"$f":"Cockpit!F$8","v":-41.842196549240526},70.400000000000006,{"$f":"Pice-(Pice-p0)*EXP(-D706*_Kon1*Cockpit!$C$3)+_Kon2*D706","v":0.10595041259835611},0.10432549583666832,null,1.7958740164389364E-4]
[70500,0.10613,{"$f":"Cockpit!F$8","v":-41.842196549240526},{"$f":"A707/1000","v":70.5},{"$f":"Pice-(Pice-p0)*EXP(-D707*_Kon1*Cockpit!$C$3)+_Kon2*D707","v":0.1059528825911317},{"$f":"EXP(24.30592-6144.96/(C707+273.15))","v":0.10432549583666832},null,{"$f":"SQRT((E707-B707)^2)","v":1.7711740886830474E-4}]
[70600,0.10613,{"$f":"Cockpit!F$8","v":-41.842196549240526},70.599999999999994,{"$f":"Pice-(Pice-p0)*EXP(-D708*_Kon1*Cockpit!$C$3)+_Kon2*D708","v":0.1059553525839073},0.10432549583666832,null,1.7464741609270196E-4]
[70700,0.10613,{"$f":"Cockpit!F$8","v":-41.842196549240526},70.7,{"$f":"Pice-(Pice-p0)*EXP(-D709*_Kon1*Cockpit!$C$3)+_Kon2*D709","v":0.10595782257668289},0.10432549583666832,null,1.7217742331711305E-4]
[70800,0.10589,{"$f":"Cockpit!F$8","v":-41.842196549240526},70.8,{"$f":"Pice-(Pice-p0)*EXP(-D710*_Kon1*Cockpit!$C$3)+_Kon2*D710","v":0.10596029256945849},0.10432549583666832,null,7.0292569458493825E-5]
[70900,0.10589,{"$f":"Cockpit!F$8","v":-41.842196549240526},70.900000000000006,{"$f":"Pice-(Pice-p0)*EXP(-D711*_Kon1*Cockpit!$C$3)+_Kon2*D711","v":0.10596276256223408},0.10432549583666832,null,7.2762562234082728E-5]
[71000,0.10589,{"$f":"Cockpit!F$8","v":-41.842196549240526},71,{"$f":"Pice-(Pice-p0)*EXP(-D712*_Kon1*Cockpit!$C$3)+_Kon2*D712","v":0.10596523255500968},0.10432549583666832,null,7.5232555009685509E-5]
[71100,0.10589,{"$f":"Cockpit!F$8","v":-41.842196549240526},71.099999999999994,{"$f":"Pice-(Pice-p0)*EXP(-D713*_Kon1*Cockpit!$C$3)+_Kon2*D713","v":0.10596770254778527},0.10432549583666832,null,7.7702547785274412E-5]
[71200,0.10613,{"$f":"Cockpit!F$8","v":-41.842196549240526},71.2,{"$f":"Pice-(Pice-p0)*EXP(-D714*_Kon1*Cockpit!$C$3)+_Kon2*D714","v":0.10597017254056088},0.10432549583666832,null,1.5982745943912691E-4]
[71300,0.10613,{"$f":"Cockpit!F$8","v":-41.842196549240526},71.3,{"$f":"Pice-(Pice-p0)*EXP(-D715*_Kon1*Cockpit!$C$3)+_Kon2*D715","v":0.10597264253333646},0.10432549583666832,null,1.57357466663538E-4]
[71400,0.10613,{"$f":"Cockpit!F$8","v":-41.842196549240526},71.400000000000006,{"$f":"Pice-(Pice-p0)*EXP(-D716*_Kon1*Cockpit!$C$3)+_Kon2*D716","v":0.10597511252611205},0.10432549583666832,null,1.548874738879491E-4]
[71500,0.10613,{"$f":"Cockpit!F$8","v":-41.842196549240526},71.5,{"$f":"Pice-(Pice-p0)*EXP(-D717*_Kon1*Cockpit!$C$3)+_Kon2*D717","v":0.10597758251888766},0.10432549583666832,null,1.5241748111234632E-4]
[71600,0.10613,{"$f":"Cockpit!F$8","v":-41.842196549240526},71.599999999999994,{"$f":"Pice-(Pice-p0)*EXP(-D718*_Kon1*Cockpit!$C$3)+_Kon2*D718","v":0.10598005251166324},0.10432549583666832,null,1.4994748833675742E-4]
[71700,0.10613,{"$f":"Cockpit!F$8","v":-41.842196549240526},71.7,{"$f":"Pice-(Pice-p0)*EXP(-D719*_Kon1*Cockpit!$C$3)+_Kon2*D719","v":0.10598252250443885},0.10432549583666832,null,1.4747749556115464E-4]
[71800,0.10613,{"$f":"Cockpit!F$8","v":-41.842196549240526},71.8,{"$f":"Pice-(Pice-p0)*EXP(-D720*_Kon1*Cockpit!$C$3)+_Kon2*D720","v":0.10598499249721444},0.10432549583666832,null,1.4500750278556573E-4]
[71900,0.10638,{"$f":"Cockpit!F$8","v":-41.842196549240526},71.900000000000006,{"$f":"Pice-(Pice-p0)*EXP(-D721*_Kon1*Cockpit!$C$3)+_Kon2*D721","v":0.10598746248999004},0.10432549583666832,null,3.9253751000996318E-4]
[72000,0.10638,{"$f":"Cockpit!F$8","v":-41.842196549240526},72,{"$f":"Pice-(Pice-p0)*EXP(-D722*_Kon1*Cockpit!$C$3)+_Kon2*D722","v":0.10598993248276563},0.10432549583666832,null,3.9006751723437427E-4]
[72100,0.10613,{"$f":"Cockpit!F$8","v":-41.842196549240526},72.099999999999994,{"$f":"Pice-(Pice-p0)*EXP(-D723*_Kon1*Cockpit!$C$3)+_Kon2*D723","v":0.10599240247554123},0.10432549583666832,null,1.3759752445877127E-4]
[72200,0.10613,{"$f":"Cockpit!F$8","v":-41.842196549240526},72.2,{"$f":"Pice-(Pice-p0)*EXP(-D724*_Kon1*Cockpit!$C$3)+_Kon2*D724","v":0.10599487246831682},0.10432549583666832,null,1.3512753168318237E-4]
[72300,0.10613,{"$f":"Cockpit!F$8","v":-41.842196549240526},72.3,{"$f":"Pice-(Pice-p0)*EXP(-D725*_Kon1*Cockpit!$C$3)+_Kon2*D725","v":0.10599734246109241},0.10432549583666832,null,1.3265753890759346E-4]
[72400,0.10613,{"$f":"Cockpit!F$8","v":-41.842196549240526},72.400000000000006,{"$f":"Pice-(Pice-p0)*EXP(-D726*_Kon1*Cockpit!$C$3)+_Kon2*D726","v":0.10599981245386801},0.10432549583666832,null,1.3018754613199068E-4]
[72500,0.10613,{"$f":"Cockpit!F$8","v":-41.842196549240526},72.5,{"$f":"Pice-(Pice-p0)*EXP(-D727*_Kon1*Cockpit!$C$3)+_Kon2*D727","v":0.1060022824466436},0.10432549583666832,null,1.2771755335640178E-4]
[72600,0.10589,{"$f":"Cockpit!F$8","v":-41.842196549240526},72.599999999999994,{"$f":"Pice-(Pice-p0)*EXP(-D728*_Kon1*Cockpit!$C$3)+_Kon2*D728","v":0.1060047524394192},0.10432549583666832,null,1.147524394192051E-4]
[72700,0.10589,{"$f":"Cockpit!F$8","v":-41.842196549240526},72.7,{"$f":"Pice-(Pice-p0)*EXP(-D729*_Kon1*Cockpit!$C$3)+_Kon2*D729","v":0.10600722243219479},0.10432549583666832,null,1.17222432194794E-4]
[72800,0.10589,{"$f":"Cockpit!F$8","v":-41.842196549240526},72.8,{"$f":"Pice-(Pice-p0)*EXP(-D730*_Kon1*Cockpit!$C$3)+_Kon2*D730","v":0.10600969242497039},0.10432549583666832,null,1.1969242497039678E-4]
[72900,0.10589,{"$f":"Cockpit!F$8","v":-41.842196549240526},72.900000000000006,{"$f":"Pice-(Pice-p0)*EXP(-D731*_Kon1*Cockpit!$C$3)+_Kon2*D731","v":0.10601216241774598},0.10432549583666832,null,1.2216241774598569E-4]
[73000,0.10589,{"$f":"Cockpit!F$8","v":-41.842196549240526},73,{"$f":"Pice-(Pice-p0)*EXP(-D732*_Kon1*Cockpit!$C$3)+_Kon2*D732","v":0.10601463241052159},0.10432549583666832,null,1.2463241052158847E-4]
[73100,0.10564,{"$f":"Cockpit!F$8","v":-41.842196549240526},73.099999999999994,{"$f":"Pice-(Pice-p0)*EXP(-D733*_Kon1*Cockpit!$C$3)+_Kon2*D733","v":0.10601710240329718},0.10432549583666832,null,3.7710240329717759E-4]
[73200,0.10564,{"$f":"Cockpit!F$8","v":-41.842196549240526},73.2,{"$f":"Pice-(Pice-p0)*EXP(-D734*_Kon1*Cockpit!$C$3)+_Kon2*D734","v":0.10601957239607278},0.10432549583666832,null,3.7957239607278037E-4]
[73300,0.10564,{"$f":"Cockpit!F$8","v":-41.842196549240526},73.3,{"$f":"Pice-(Pice-p0)*EXP(-D735*_Kon1*Cockpit!$C$3)+_Kon2*D735","v":0.10602204238884837},0.10432549583666832,null,3.8204238884836927E-4]
[73400,0.10564,{"$f":"Cockpit!F$8","v":-41.842196549240526},73.400000000000006,{"$f":"Pice-(Pice-p0)*EXP(-D736*_Kon1*Cockpit!$C$3)+_Kon2*D736","v":0.10602451238162396},0.10432549583666832,null,3.8451238162395818E-4]
[73500,0.10589,{"$f":"Cockpit!F$8","v":-41.842196549240526},73.5,{"$f":"Pice-(Pice-p0)*EXP(-D737*_Kon1*Cockpit!$C$3)+_Kon2*D737","v":0.10602698237439956},0.10432549583666832,null,1.3698237439956074E-4]
[73600,0.10589,{"$f":"Cockpit!F$8","v":-41.842196549240526},73.599999999999994,{"$f":"Pice-(Pice-p0)*EXP(-D738*_Kon1*Cockpit!$C$3)+_Kon2*D738","v":0.10602945236717515},0.10432549583666832,null,1.3945236717514964E-4]
[73700,0.10613,{"$f":"Cockpit!F$8","v":-41.842196549240526},73.7,{"$f":"Pice-(Pice-p0)*EXP(-D739*_Kon1*Cockpit!$C$3)+_Kon2*D739","v":0.10603192235995075},0.10432549583666832,null,9.807764004925168E-5]
[73800,0.10613,{"$f":"Cockpit!F$8","v":-41.842196549240526},73.8,{"$f":"Pice-(Pice-p0)*EXP(-D740*_Kon1*Cockpit!$C$3)+_Kon2*D740","v":0.10603439235272634},0.10432549583666832,null,9.5607647273662777E-5]
[73900,0.10613,{"$f":"Cockpit!F$8","v":-41.842196549240526},73.900000000000006,{"$f":"Pice-(Pice-p0)*EXP(-D741*_Kon1*Cockpit!$C$3)+_Kon2*D741","v":0.10603686234550194},0.10432549583666832,null,9.3137654498059996E-5]
[74000,0.10613,{"$f":"Cockpit!F$8","v":-41.842196549240526},74,{"$f":"Pice-(Pice-p0)*EXP(-D742*_Kon1*Cockpit!$C$3)+_Kon2*D742","v":0.10603933233827753},0.10432549583666832,null,9.0667661722471093E-5]
[74100,0.10613,{"$f":"Cockpit!F$8","v":-41.842196549240526},74.099999999999994,{"$f":"Pice-(Pice-p0)*EXP(-D743*_Kon1*Cockpit!$C$3)+_Kon2*D743","v":0.10604180233105313},0.10432549583666832,null,8.8197668946868313E-5]
[74200,0.10613,{"$f":"Cockpit!F$8","v":-41.842196549240526},74.2,{"$f":"Pice-(Pice-p0)*EXP(-D744*_Kon1*Cockpit!$C$3)+_Kon2*D744","v":0.10604427232382872},0.10432549583666832,null,8.572767617127941E-5]
[74300,0.10613,{"$f":"Cockpit!F$8","v":-41.842196549240526},74.3,{"$f":"Pice-(Pice-p0)*EXP(-D745*_Kon1*Cockpit!$C$3)+_Kon2*D745","v":0.10604674231660431},0.10432549583666832,null,8.3257683395690507E-5]
[74400,0.10613,{"$f":"Cockpit!F$8","v":-41.842196549240526},74.400000000000006,{"$f":"Pice-(Pice-p0)*EXP(-D746*_Kon1*Cockpit!$C$3)+_Kon2*D746","v":0.10604921230937991},0.10432549583666832,null,8.0787690620087727E-5]
[74500,0.10613,{"$f":"Cockpit!F$8","v":-41.842196549240526},74.5,{"$f":"Pice-(Pice-p0)*EXP(-D747*_Kon1*Cockpit!$C$3)+_Kon2*D747","v":0.1060516823021555},0.10432549583666832,null,7.8317697844498824E-5]
[74600,0.10638,{"$f":"Cockpit!F$8","v":-41.842196549240526},74.599999999999994,{"$f":"Pice-(Pice-p0)*EXP(-D748*_Kon1*Cockpit!$C$3)+_Kon2*D748","v":0.10605415229493111},0.10432549583666832,null,3.2584770506889627E-4]
[74700,0.10613,{"$f":"Cockpit!F$8","v":-41.842196549240526},74.7,{"$f":"Pice-(Pice-p0)*EXP(-D749*_Kon1*Cockpit!$C$3)+_Kon2*D749","v":0.10605662228770669},0.10432549583666832,null,7.337771229330714E-5]
[74800,0.10613,{"$f":"Cockpit!F$8","v":-41.842196549240526},74.8,{"$f":"Pice-(Pice-p0)*EXP(-D750*_Kon1*Cockpit!$C$3)+_Kon2*D750","v":0.1060590922804823},0.10432549583666832,null,7.090771951770436E-5]
[74900,0.10613,{"$f":"Cockpit!F$8","v":-41.842196549240526},74.900000000000006,{"$f":"Pice-(Pice-p0)*EXP(-D751*_Kon1*Cockpit!$C$3)+_Kon2*D751","v":0.10606156227325789},0.10432549583666832,null,6.8437726742115457E-5]
[75000,0.10613,{"$f":"Cockpit!F$8","v":-41.842196549240526},75,{"$f":"Pice-(Pice-p0)*EXP(-D752*_Kon1*Cockpit!$C$3)+_Kon2*D752","v":0.10606403226603349},0.10432549583666832,null,6.5967733966512676E-5]
[75100,0.10613,{"$f":"Cockpit!F$8","v":-41.842196549240526},75.099999999999994,{"$f":"Pice-(Pice-p0)*EXP(-D753*_Kon1*Cockpit!$C$3)+_Kon2*D753","v":0.10606650225880908},0.10432549583666832,null,6.3497741190923773E-5]
[75200,0.10613,{"$f":"Cockpit!F$8","v":-41.842196549240526},75.2,{"$f":"Pice-(Pice-p0)*EXP(-D754*_Kon1*Cockpit!$C$3)+_Kon2*D754","v":0.10606897225158468},0.10432549583666832,null,6.1027748415320993E-5]
[75300,0.10613,{"$f":"Cockpit!F$8","v":-41.842196549240526},75.3,{"$f":"Pice-(Pice-p0)*EXP(-D755*_Kon1*Cockpit!$C$3)+_Kon2*D755","v":0.10607144224436027},0.10432549583666832,null,5.855775563973209E-5]
[75400,0.10613,{"$f":"Cockpit!F$8","v":-41.842196549240526},75.400000000000006,{"$f":"Pice-(Pice-p0)*EXP(-D756*_Kon1*Cockpit!$C$3)+_Kon2*D756","v":0.10607391223713586},0.10432549583666832,null,5.6087762864143187E-5]
[75500,0.10589,{"$f":"Cockpit!F$8","v":-41.842196549240526},75.5,{"$f":"Pice-(Pice-p0)*EXP(-D757*_Kon1*Cockpit!$C$3)+_Kon2*D757","v":0.10607638222991146},0.10432549583666832,null,1.8638222991146369E-4]
[75600,0.10589,{"$f":"Cockpit!F$8","v":-41.842196549240526},75.599999999999994,{"$f":"Pice-(Pice-p0)*EXP(-D758*_Kon1*Cockpit!$C$3)+_Kon2*D758","v":0.10607885222268705},0.10432549583666832,null,1.888522226870526E-4]
[75700,0.10589,{"$f":"Cockpit!F$8","v":-41.842196549240526},75.7,{"$f":"Pice-(Pice-p0)*EXP(-D759*_Kon1*Cockpit!$C$3)+_Kon2*D759","v":0.10608132221546265},0.10432549583666832,null,1.9132221546265538E-4]
[75800,0.10613,{"$f":"Cockpit!F$8","v":-41.842196549240526},75.8,{"$f":"Pice-(Pice-p0)*EXP(-D760*_Kon1*Cockpit!$C$3)+_Kon2*D760","v":0.10608379220823824},0.10432549583666832,null,4.620779176175982E-5]
[75900,0.10613,{"$f":"Cockpit!F$8","v":-41.842196549240526},75.900000000000006,{"$f":"Pice-(Pice-p0)*EXP(-D761*_Kon1*Cockpit!$C$3)+_Kon2*D761","v":0.10608626220101385},0.10432549583666832,null,4.3737798986157039E-5]
[76000,0.10613,{"$f":"Cockpit!F$8","v":-41.842196549240526},76,{"$f":"Pice-(Pice-p0)*EXP(-D762*_Kon1*Cockpit!$C$3)+_Kon2*D762","v":0.10608873219378943},0.10432549583666832,null,4.1267806210568136E-5]
[76100,0.10613,{"$f":"Cockpit!F$8","v":-41.842196549240526},76.099999999999994,{"$f":"Pice-(Pice-p0)*EXP(-D763*_Kon1*Cockpit!$C$3)+_Kon2*D763","v":0.10609120218656504},0.10432549583666832,null,3.8797813434965356E-5]
[76200,0.10613,{"$f":"Cockpit!F$8","v":-41.842196549240526},76.2,{"$f":"Pice-(Pice-p0)*EXP(-D764*_Kon1*Cockpit!$C$3)+_Kon2*D764","v":0.10609367217934063},0.10432549583666832,null,3.6327820659376453E-5]
[76300,0.10613,{"$f":"Cockpit!F$8","v":-41.842196549240526},76.3,{"$f":"Pice-(Pice-p0)*EXP(-D765*_Kon1*Cockpit!$C$3)+_Kon2*D765","v":0.10609614217211623},0.10432549583666832,null,3.3857827883773672E-5]
[76400,0.10613,{"$f":"Cockpit!F$8","v":-41.842196549240526},76.400000000000006,{"$f":"Pice-(Pice-p0)*EXP(-D766*_Kon1*Cockpit!$C$3)+_Kon2*D766","v":0.10609861216489182},0.10432549583666832,null,3.138783510818477E-5]
[76500,0.10613,{"$f":"Cockpit!F$8","v":-41.842196549240526},76.5,{"$f":"Pice-(Pice-p0)*EXP(-D767*_Kon1*Cockpit!$C$3)+_Kon2*D767","v":0.10610108215766741},0.10432549583666832,null,2.8917842332595867E-5]
[76600,0.10638,{"$f":"Cockpit!F$8","v":-41.842196549240526},76.599999999999994,{"$f":"Pice-(Pice-p0)*EXP(-D768*_Kon1*Cockpit!$C$3)+_Kon2*D768","v":0.10610355215044301},0.10432549583666832,null,2.7644784955699331E-4]
[76700,0.10638,{"$f":"Cockpit!F$8","v":-41.842196549240526},76.7,{"$f":"Pice-(Pice-p0)*EXP(-D769*_Kon1*Cockpit!$C$3)+_Kon2*D769","v":0.1061060221432186},0.10432549583666832,null,2.7397785678140441E-4]
[76800,0.10638,{"$f":"Cockpit!F$8","v":-41.842196549240526},76.8,{"$f":"Pice-(Pice-p0)*EXP(-D770*_Kon1*Cockpit!$C$3)+_Kon2*D770","v":0.1061084921359942},0.10432549583666832,null,2.7150786400580162E-4]
[76900,0.10638,{"$f":"Cockpit!F$8","v":-41.842196549240526},{"$f":"A771/1000","v":76.900000000000006},{"$f":"Pice-(Pice-p0)*EXP(-D771*_Kon1*Cockpit!$C$3)+_Kon2*D771","v":0.10611096212876979},{"$f":"EXP(24.30592-6144.96/(C771+273.15))","v":0.10432549583666832},null,{"$f":"SQRT((E771-B771)^2)","v":2.6903787123021272E-4}]
[77000,0.10638,{"$f":"Cockpit!F$8","v":-41.842196549240526},77,{"$f":"Pice-(Pice-p0)*EXP(-D772*_Kon1*Cockpit!$C$3)+_Kon2*D772","v":0.10611343212154539},0.10432549583666832,null,2.6656787845460994E-4]
[77100,0.10638,{"$f":"Cockpit!F$8","v":-41.842196549240526},77.099999999999994,{"$f":"Pice-(Pice-p0)*EXP(-D773*_Kon1*Cockpit!$C$3)+_Kon2*D773","v":0.10611590211432098},0.10432549583666832,null,2.6409788567902104E-4]
[77200,0.10613,{"$f":"Cockpit!F$8","v":-41.842196549240526},77.2,{"$f":"Pice-(Pice-p0)*EXP(-D774*_Kon1*Cockpit!$C$3)+_Kon2*D774","v":0.10611837210709658},0.10432549583666832,null,1.1627892903418036E-5]
[77300,0.10613,{"$f":"Cockpit!F$8","v":-41.842196549240526},77.3,{"$f":"Pice-(Pice-p0)*EXP(-D775*_Kon1*Cockpit!$C$3)+_Kon2*D775","v":0.10612084209987217},0.10432549583666832,null,9.1579001278291328E-6]
[77400,0.10613,{"$f":"Cockpit!F$8","v":-41.842196549240526},77.400000000000006,{"$f":"Pice-(Pice-p0)*EXP(-D776*_Kon1*Cockpit!$C$3)+_Kon2*D776","v":0.10612331209264778},0.10432549583666832,null,6.6879073522263521E-6]
[77500,0.10613,{"$f":"Cockpit!F$8","v":-41.842196549240526},77.5,{"$f":"Pice-(Pice-p0)*EXP(-D777*_Kon1*Cockpit!$C$3)+_Kon2*D777","v":0.10612578208542336},0.10432549583666832,null,4.2179145766374493E-6]
[77600,0.10613,{"$f":"Cockpit!F$8","v":-41.842196549240526},77.599999999999994,{"$f":"Pice-(Pice-p0)*EXP(-D778*_Kon1*Cockpit!$C$3)+_Kon2*D778","v":0.10612825207819895},0.10432549583666832,null,1.7479218010485464E-6]
[77700,0.10613,{"$f":"Cockpit!F$8","v":-41.842196549240526},77.7,{"$f":"Pice-(Pice-p0)*EXP(-D779*_Kon1*Cockpit!$C$3)+_Kon2*D779","v":0.10613072207097456},0.10432549583666832,null,7.2207097455423419E-7]
[77800,0.10613,{"$f":"Cockpit!F$8","v":-41.842196549240526},77.8,{"$f":"Pice-(Pice-p0)*EXP(-D780*_Kon1*Cockpit!$C$3)+_Kon2*D780","v":0.10613319206375015},0.10432549583666832,null,3.192063750143137E-6]
[77900,0.10589,{"$f":"Cockpit!F$8","v":-41.842196549240526},77.900000000000006,{"$f":"Pice-(Pice-p0)*EXP(-D781*_Kon1*Cockpit!$C$3)+_Kon2*D781","v":0.10613566205652575},0.10432549583666832,null,2.4566205652575002E-4]
[78000,0.10564,{"$f":"Cockpit!F$8","v":-41.842196549240526},78,{"$f":"Pice-(Pice-p0)*EXP(-D782*_Kon1*Cockpit!$C$3)+_Kon2*D782","v":0.10613813204930134},0.10432549583666832,null,4.9813204930133914E-4]
[78100,0.10564,{"$f":"Cockpit!F$8","v":-41.842196549240526},78.099999999999994,{"$f":"Pice-(Pice-p0)*EXP(-D783*_Kon1*Cockpit!$C$3)+_Kon2*D783","v":0.10614060204207694},0.10432549583666832,null,5.0060204207694192E-4]
[78200,0.10564,{"$f":"Cockpit!F$8","v":-41.842196549240526},78.2,{"$f":"Pice-(Pice-p0)*EXP(-D784*_Kon1*Cockpit!$C$3)+_Kon2*D784","v":0.10614307203485253},0.10432549583666832,null,5.0307203485253082E-4]
[78300,0.10564,{"$f":"Cockpit!F$8","v":-41.842196549240526},78.3,{"$f":"Pice-(Pice-p0)*EXP(-D785*_Kon1*Cockpit!$C$3)+_Kon2*D785","v":0.10614554202762813},0.10432549583666832,null,5.0554202762813361E-4]
[78400,0.10564,{"$f":"Cockpit!F$8","v":-41.842196549240526},78.400000000000006,{"$f":"Pice-(Pice-p0)*EXP(-D786*_Kon1*Cockpit!$C$3)+_Kon2*D786","v":0.10614801202040372},0.10432549583666832,null,5.0801202040372251E-4]
[78500,0.10564,{"$f":"Cockpit!F$8","v":-41.842196549240526},78.5,{"$f":"Pice-(Pice-p0)*EXP(-D787*_Kon1*Cockpit!$C$3)+_Kon2*D787","v":0.10615048201317931},0.10432549583666832,null,5.1048201317931141E-4]
[78600,0.10589,{"$f":"Cockpit!F$8","v":-41.842196549240526},78.599999999999994,{"$f":"Pice-(Pice-p0)*EXP(-D788*_Kon1*Cockpit!$C$3)+_Kon2*D788","v":0.10615295200595491},0.10432549583666832,null,2.6295200595491397E-4]
[78700,0.10589,{"$f":"Cockpit!F$8","v":-41.842196549240526},78.7,{"$f":"Pice-(Pice-p0)*EXP(-D789*_Kon1*Cockpit!$C$3)+_Kon2*D789","v":0.1061554219987305},0.10432549583666832,null,2.6542199873050287E-4]
[78800,0.10589,{"$f":"Cockpit!F$8","v":-41.842196549240526},78.8,{"$f":"Pice-(Pice-p0)*EXP(-D790*_Kon1*Cockpit!$C$3)+_Kon2*D790","v":0.1061578919915061},0.10432549583666832,null,2.6789199150610565E-4]
[78900,0.10589,{"$f":"Cockpit!F$8","v":-41.842196549240526},78.900000000000006,{"$f":"Pice-(Pice-p0)*EXP(-D791*_Kon1*Cockpit!$C$3)+_Kon2*D791","v":0.10616036198428169},0.10432549583666832,null,2.7036198428169456E-4]
[79000,0.10589,{"$f":"Cockpit!F$8","v":-41.842196549240526},79,{"$f":"Pice-(Pice-p0)*EXP(-D792*_Kon1*Cockpit!$C$3)+_Kon2*D792","v":0.1061628319770573},0.10432549583666832,null,2.7283197705729734E-4]
[79100,0.10589,{"$f":"Cockpit!F$8","v":-41.842196549240526},79.099999999999994,{"$f":"Pice-(Pice-p0)*EXP(-D793*_Kon1*Cockpit!$C$3)+_Kon2*D793","v":0.10616530196983288},0.10432549583666832,null,2.7530196983288624E-4]
[79200,0.10589,{"$f":"Cockpit!F$8","v":-41.842196549240526},79.2,{"$f":"Pice-(Pice-p0)*EXP(-D794*_Kon1*Cockpit!$C$3)+_Kon2*D794","v":0.10616777196260849},0.10432549583666832,null,2.7777196260848902E-4]
[79300,0.10589,{"$f":"Cockpit!F$8","v":-41.842196549240526},79.3,{"$f":"Pice-(Pice-p0)*EXP(-D795*_Kon1*Cockpit!$C$3)+_Kon2*D795","v":0.10617024195538408},0.10432549583666832,null,2.8024195538407792E-4]
[79400,0.10564,{"$f":"Cockpit!F$8","v":-41.842196549240526},79.400000000000006,{"$f":"Pice-(Pice-p0)*EXP(-D796*_Kon1*Cockpit!$C$3)+_Kon2*D796","v":0.10617271194815968},0.10432549583666832,null,5.3271194815968093E-4]
[79500,0.10589,{"$f":"Cockpit!F$8","v":-41.842196549240526},79.5,{"$f":"Pice-(Pice-p0)*EXP(-D797*_Kon1*Cockpit!$C$3)+_Kon2*D797","v":0.10617518194093527},0.10432549583666832,null,2.8518194093526961E-4]
[79600,0.10589,{"$f":"Cockpit!F$8","v":-41.842196549240526},79.599999999999994,{"$f":"Pice-(Pice-p0)*EXP(-D798*_Kon1*Cockpit!$C$3)+_Kon2*D798","v":0.10617765193371086},0.10432549583666832,null,2.8765193371085851E-4]
[79700,0.10613,{"$f":"Cockpit!F$8","v":-41.842196549240526},79.7,{"$f":"Pice-(Pice-p0)*EXP(-D799*_Kon1*Cockpit!$C$3)+_Kon2*D799","v":0.10618012192648646},0.10432549583666832,null,5.0121926486457191E-5]
[79800,0.10589,{"$f":"Cockpit!F$8","v":-41.842196549240526},79.8,{"$f":"Pice-(Pice-p0)*EXP(-D800*_Kon1*Cockpit!$C$3)+_Kon2*D800","v":0.10618259191926205},0.10432549583666832,null,2.9259191926205019E-4]
[79900,0.10589,{"$f":"Cockpit!F$8","v":-41.842196549240526},79.900000000000006,{"$f":"Pice-(Pice-p0)*EXP(-D801*_Kon1*Cockpit!$C$3)+_Kon2*D801","v":0.10618506191203765},0.10432549583666832,null,2.9506191203765297E-4]
[80000,0.10589,{"$f":"Cockpit!F$8","v":-41.842196549240526},80,{"$f":"Pice-(Pice-p0)*EXP(-D802*_Kon1*Cockpit!$C$3)+_Kon2*D802","v":0.10618753190481324},0.10432549583666832,null,2.9753190481324188E-4]
[80100,0.10589,{"$f":"Cockpit!F$8","v":-41.842196549240526},80.099999999999994,{"$f":"Pice-(Pice-p0)*EXP(-D803*_Kon1*Cockpit!$C$3)+_Kon2*D803","v":0.10619000189758884},0.10432549583666832,null,3.0000189758884466E-4]
[80200,0.10589,{"$f":"Cockpit!F$8","v":-41.842196549240526},80.2,{"$f":"Pice-(Pice-p0)*EXP(-D804*_Kon1*Cockpit!$C$3)+_Kon2*D804","v":0.10619247189036443},0.10432549583666832,null,3.0247189036443356E-4]
[80300,0.10589,{"$f":"Cockpit!F$8","v":-41.842196549240526},80.3,{"$f":"Pice-(Pice-p0)*EXP(-D805*_Kon1*Cockpit!$C$3)+_Kon2*D805","v":0.10619494188314003},0.10432549583666832,null,3.0494188314003634E-4]
[80400,0.10613,{"$f":"Cockpit!F$8","v":-41.842196549240526},80.400000000000006,{"$f":"Pice-(Pice-p0)*EXP(-D806*_Kon1*Cockpit!$C$3)+_Kon2*D806","v":0.10619741187591562},0.10432549583666832,null,6.7411875915621144E-5]
[80500,0.10589,{"$f":"Cockpit!F$8","v":-41.842196549240526},80.5,{"$f":"Pice-(Pice-p0)*EXP(-D807*_Kon1*Cockpit!$C$3)+_Kon2*D807","v":0.10619988186869123},0.10432549583666832,null,3.0988186869122802E-4]
[80600,0.10589,{"$f":"Cockpit!F$8","v":-41.842196549240526},80.599999999999994,{"$f":"Pice-(Pice-p0)*EXP(-D808*_Kon1*Cockpit!$C$3)+_Kon2*D808","v":0.10620235186146681},0.10432549583666832,null,3.1235186146681693E-4]
[80700,0.10589,{"$f":"Cockpit!F$8","v":-41.842196549240526},80.7,{"$f":"Pice-(Pice-p0)*EXP(-D809*_Kon1*Cockpit!$C$3)+_Kon2*D809","v":0.1062048218542424},0.10432549583666832,null,3.1482185424240583E-4]
[80800,0.10589,{"$f":"Cockpit!F$8","v":-41.842196549240526},80.8,{"$f":"Pice-(Pice-p0)*EXP(-D810*_Kon1*Cockpit!$C$3)+_Kon2*D810","v":0.10620729184701801},0.10432549583666832,null,3.1729184701800861E-4]
[80900,0.10613,{"$f":"Cockpit!F$8","v":-41.842196549240526},80.900000000000006,{"$f":"Pice-(Pice-p0)*EXP(-D811*_Kon1*Cockpit!$C$3)+_Kon2*D811","v":0.1062097618397936},0.10432549583666832,null,7.9761839793593414E-5]
[81000,0.10613,{"$f":"Cockpit!F$8","v":-41.842196549240526},81,{"$f":"Pice-(Pice-p0)*EXP(-D812*_Kon1*Cockpit!$C$3)+_Kon2*D812","v":0.1062122318325692},0.10432549583666832,null,8.2231832569196195E-5]
[81100,0.10613,{"$f":"Cockpit!F$8","v":-41.842196549240526},81.099999999999994,{"$f":"Pice-(Pice-p0)*EXP(-D813*_Kon1*Cockpit!$C$3)+_Kon2*D813","v":0.10621470182534479},0.10432549583666832,null,8.4701825344785098E-5]
[81200,0.10613,{"$f":"Cockpit!F$8","v":-41.842196549240526},81.2,{"$f":"Pice-(Pice-p0)*EXP(-D814*_Kon1*Cockpit!$C$3)+_Kon2*D814","v":0.10621717181812039},0.10432549583666832,null,8.7171818120387878E-5]
[81300,0.10613,{"$f":"Cockpit!F$8","v":-41.842196549240526},81.3,{"$f":"Pice-(Pice-p0)*EXP(-D815*_Kon1*Cockpit!$C$3)+_Kon2*D815","v":0.10621964181089598},0.10432549583666832,null,8.9641810895976781E-5]
[81400,0.10613,{"$f":"Cockpit!F$8","v":-41.842196549240526},81.400000000000006,{"$f":"Pice-(Pice-p0)*EXP(-D816*_Kon1*Cockpit!$C$3)+_Kon2*D816","v":0.10622211180367158},0.10432549583666832,null,9.2111803671579562E-5]
[81500,0.10613,{"$f":"Cockpit!F$8","v":-41.842196549240526},81.5,{"$f":"Pice-(Pice-p0)*EXP(-D817*_Kon1*Cockpit!$C$3)+_Kon2*D817","v":0.10622458179644717},0.10432549583666832,null,9.4581796447168465E-5]
[81600,0.10613,{"$f":"Cockpit!F$8","v":-41.842196549240526},81.599999999999994,{"$f":"Pice-(Pice-p0)*EXP(-D818*_Kon1*Cockpit!$C$3)+_Kon2*D818","v":0.10622705178922276},0.10432549583666832,null,9.7051789222757368E-5]
[81700,0.10613,{"$f":"Cockpit!F$8","v":-41.842196549240526},81.7,{"$f":"Pice-(Pice-p0)*EXP(-D819*_Kon1*Cockpit!$C$3)+_Kon2*D819","v":0.10622952178199836},0.10432549583666832,null,9.9521781998360148E-5]
[81800,0.10613,{"$f":"Cockpit!F$8","v":-41.842196549240526},81.8,{"$f":"Pice-(Pice-p0)*EXP(-D820*_Kon1*Cockpit!$C$3)+_Kon2*D820","v":0.10623199177477395},0.10432549583666832,null,1.0199177477394905E-4]
[81900,0.10613,{"$f":"Cockpit!F$8","v":-41.842196549240526},81.900000000000006,{"$f":"Pice-(Pice-p0)*EXP(-D821*_Kon1*Cockpit!$C$3)+_Kon2*D821","v":0.10623446176754955},0.10432549583666832,null,1.0446176754955183E-4]
[82000,0.10613,{"$f":"Cockpit!F$8","v":-41.842196549240526},82,{"$f":"Pice-(Pice-p0)*EXP(-D822*_Kon1*Cockpit!$C$3)+_Kon2*D822","v":0.10623693176032514},0.10432549583666832,null,1.0693176032514073E-4]
[82100,0.10613,{"$f":"Cockpit!F$8","v":-41.842196549240526},82.1,{"$f":"Pice-(Pice-p0)*EXP(-D823*_Kon1*Cockpit!$C$3)+_Kon2*D823","v":0.10623940175310075},0.10432549583666832,null,1.0940175310074352E-4]
[82200,0.10613,{"$f":"Cockpit!F$8","v":-41.842196549240526},82.2,{"$f":"Pice-(Pice-p0)*EXP(-D824*_Kon1*Cockpit!$C$3)+_Kon2*D824","v":0.10624187174587633},0.10432549583666832,null,1.1187174587633242E-4]
[82300,0.10613,{"$f":"Cockpit!F$8","v":-41.842196549240526},82.3,{"$f":"Pice-(Pice-p0)*EXP(-D825*_Kon1*Cockpit!$C$3)+_Kon2*D825","v":0.10624434173865194},0.10432549583666832,null,1.143417386519352E-4]
[82400,0.10613,{"$f":"Cockpit!F$8","v":-41.842196549240526},82.4,{"$f":"Pice-(Pice-p0)*EXP(-D826*_Kon1*Cockpit!$C$3)+_Kon2*D826","v":0.10624681173142753},0.10432549583666832,null,1.168117314275241E-4]
[82500,0.10613,{"$f":"Cockpit!F$8","v":-41.842196549240526},82.5,{"$f":"Pice-(Pice-p0)*EXP(-D827*_Kon1*Cockpit!$C$3)+_Kon2*D827","v":0.10624928172420313},0.10432549583666832,null,1.1928172420312688E-4]
[82600,0.10613,{"$f":"Cockpit!F$8","v":-41.842196549240526},82.6,{"$f":"Pice-(Pice-p0)*EXP(-D828*_Kon1*Cockpit!$C$3)+_Kon2*D828","v":0.10625175171697872},0.10432549583666832,null,1.2175171697871578E-4]
[82700,0.10613,{"$f":"Cockpit!F$8","v":-41.842196549240526},82.7,{"$f":"Pice-(Pice-p0)*EXP(-D829*_Kon1*Cockpit!$C$3)+_Kon2*D829","v":0.10625422170975431},0.10432549583666832,null,1.2422170975430469E-4]
[82800,0.10613,{"$f":"Cockpit!F$8","v":-41.842196549240526},82.8,{"$f":"Pice-(Pice-p0)*EXP(-D830*_Kon1*Cockpit!$C$3)+_Kon2*D830","v":0.10625669170252991},0.10432549583666832,null,1.2669170252990747E-4]
[82900,0.10613,{"$f":"Cockpit!F$8","v":-41.842196549240526},82.9,{"$f":"Pice-(Pice-p0)*EXP(-D831*_Kon1*Cockpit!$C$3)+_Kon2*D831","v":0.1062591616953055},0.10432549583666832,null,1.2916169530549637E-4]
[83000,0.10613,{"$f":"Cockpit!F$8","v":-41.842196549240526},83,{"$f":"Pice-(Pice-p0)*EXP(-D832*_Kon1*Cockpit!$C$3)+_Kon2*D832","v":0.1062616316880811},0.10432549583666832,null,1.3163168808109915E-4]
[83100,0.10613,{"$f":"Cockpit!F$8","v":-41.842196549240526},83.1,{"$f":"Pice-(Pice-p0)*EXP(-D833*_Kon1*Cockpit!$C$3)+_Kon2*D833","v":0.10626410168085669},0.10432549583666832,null,1.3410168085668805E-4]
[83200,0.10613,{"$f":"Cockpit!F$8","v":-41.842196549240526},83.2,{"$f":"Pice-(Pice-p0)*EXP(-D834*_Kon1*Cockpit!$C$3)+_Kon2*D834","v":0.10626657167363229},0.10432549583666832,null,1.3657167363229084E-4]
[83300,0.10589,{"$f":"Cockpit!F$8","v":-41.842196549240526},{"$f":"A835/1000","v":83.3},{"$f":"Pice-(Pice-p0)*EXP(-D835*_Kon1*Cockpit!$C$3)+_Kon2*D835","v":0.10626904166640788},{"$f":"EXP(24.30592-6144.96/(C835+273.15))","v":0.10432549583666832},null,{"$f":"SQRT((E835-B835)^2)","v":3.7904166640788384E-4}]
[83400,0.10589,{"$f":"Cockpit!F$8","v":-41.842196549240526},83.4,{"$f":"Pice-(Pice-p0)*EXP(-D836*_Kon1*Cockpit!$C$3)+_Kon2*D836","v":0.10627151165918348},0.10432549583666832,null,3.8151165918348662E-4]
[83500,0.10589,{"$f":"Cockpit!F$8","v":-41.842196549240526},83.5,{"$f":"Pice-(Pice-p0)*EXP(-D837*_Kon1*Cockpit!$C$3)+_Kon2*D837","v":0.10627398165195907},0.10432549583666832,null,3.8398165195907552E-4]
[83600,0.10589,{"$f":"Cockpit!F$8","v":-41.842196549240526},83.6,{"$f":"Pice-(Pice-p0)*EXP(-D838*_Kon1*Cockpit!$C$3)+_Kon2*D838","v":0.10627645164473466},0.10432549583666832,null,3.8645164473466442E-4]
[83700,0.10564,{"$f":"Cockpit!F$8","v":-41.842196549240526},83.7,{"$f":"Pice-(Pice-p0)*EXP(-D839*_Kon1*Cockpit!$C$3)+_Kon2*D839","v":0.10627892163751027},0.10432549583666832,null,6.3892163751026743E-4]
[83800,0.10589,{"$f":"Cockpit!F$8","v":-41.842196549240526},83.8,{"$f":"Pice-(Pice-p0)*EXP(-D840*_Kon1*Cockpit!$C$3)+_Kon2*D840","v":0.10628139163028585},0.10432549583666832,null,3.9139163028585611E-4]
[83900,0.10589,{"$f":"Cockpit!F$8","v":-41.842196549240526},83.9,{"$f":"Pice-(Pice-p0)*EXP(-D841*_Kon1*Cockpit!$C$3)+_Kon2*D841","v":0.10628386162306146},0.10432549583666832,null,3.9386162306145889E-4]
[84000,0.10613,{"$f":"Cockpit!F$8","v":-41.842196549240526},84,{"$f":"Pice-(Pice-p0)*EXP(-D842*_Kon1*Cockpit!$C$3)+_Kon2*D842","v":0.10628633161583705},0.10432549583666832,null,1.5633161583704369E-4]
[84100,0.10613,{"$f":"Cockpit!F$8","v":-41.842196549240526},84.1,{"$f":"Pice-(Pice-p0)*EXP(-D843*_Kon1*Cockpit!$C$3)+_Kon2*D843","v":0.10628880160861265},0.10432549583666832,null,1.5880160861264647E-4]
[84200,0.10613,{"$f":"Cockpit!F$8","v":-41.842196549240526},84.2,{"$f":"Pice-(Pice-p0)*EXP(-D844*_Kon1*Cockpit!$C$3)+_Kon2*D844","v":0.10629127160138824},0.10432549583666832,null,1.6127160138823537E-4]
[84300,0.10638,{"$f":"Cockpit!F$8","v":-41.842196549240526},84.3,{"$f":"Pice-(Pice-p0)*EXP(-D845*_Kon1*Cockpit!$C$3)+_Kon2*D845","v":0.10629374159416384},0.10432549583666832,null,8.6258405836162066E-5]
[84400,0.10638,{"$f":"Cockpit!F$8","v":-41.842196549240526},84.4,{"$f":"Pice-(Pice-p0)*EXP(-D846*_Kon1*Cockpit!$C$3)+_Kon2*D846","v":0.10629621158693943},0.10432549583666832,null,8.3788413060573164E-5]
[84500,0.10638,{"$f":"Cockpit!F$8","v":-41.842196549240526},84.5,{"$f":"Pice-(Pice-p0)*EXP(-D847*_Kon1*Cockpit!$C$3)+_Kon2*D847","v":0.10629868157971503},0.10432549583666832,null,8.1318420284970383E-5]
[84600,0.10638,{"$f":"Cockpit!F$8","v":-41.842196549240526},84.6,{"$f":"Pice-(Pice-p0)*EXP(-D848*_Kon1*Cockpit!$C$3)+_Kon2*D848","v":0.10630115157249062},0.10432549583666832,null,7.884842750938148E-5]
[84700,0.10638,{"$f":"Cockpit!F$8","v":-41.842196549240526},84.7,{"$f":"Pice-(Pice-p0)*EXP(-D849*_Kon1*Cockpit!$C$3)+_Kon2*D849","v":0.10630362156526621},0.10432549583666832,null,7.6378434733792577E-5]
[84800,0.10638,{"$f":"Cockpit!F$8","v":-41.842196549240526},84.8,{"$f":"Pice-(Pice-p0)*EXP(-D850*_Kon1*Cockpit!$C$3)+_Kon2*D850","v":0.10630609155804181},0.10432549583666832,null,7.3908441958189797E-5]
[84900,0.10638,{"$f":"Cockpit!F$8","v":-41.842196549240526},84.9,{"$f":"Pice-(Pice-p0)*EXP(-D851*_Kon1*Cockpit!$C$3)+_Kon2*D851","v":0.1063085615508174},0.10432549583666832,null,7.1438449182600894E-5]
[85000,0.10638,{"$f":"Cockpit!F$8","v":-41.842196549240526},85,{"$f":"Pice-(Pice-p0)*EXP(-D852*_Kon1*Cockpit!$C$3)+_Kon2*D852","v":0.106311031543593},0.10432549583666832,null,6.8968456406998113E-5]
[85100,0.10638,{"$f":"Cockpit!F$8","v":-41.842196549240526},85.1,{"$f":"Pice-(Pice-p0)*EXP(-D853*_Kon1*Cockpit!$C$3)+_Kon2*D853","v":0.10631350153636859},0.10432549583666832,null,6.649846363140921E-5]
[85200,0.10638,{"$f":"Cockpit!F$8","v":-41.842196549240526},85.2,{"$f":"Pice-(Pice-p0)*EXP(-D854*_Kon1*Cockpit!$C$3)+_Kon2*D854","v":0.1063159715291442},0.10432549583666832,null,6.402847085580643E-5]
[85300,0.10638,{"$f":"Cockpit!F$8","v":-41.842196549240526},85.3,{"$f":"Pice-(Pice-p0)*EXP(-D855*_Kon1*Cockpit!$C$3)+_Kon2*D855","v":0.10631844152191978},0.10432549583666832,null,6.1558478080217527E-5]
[85400,0.10638,{"$f":"Cockpit!F$8","v":-41.842196549240526},85.4,{"$f":"Pice-(Pice-p0)*EXP(-D856*_Kon1*Cockpit!$C$3)+_Kon2*D856","v":0.10632091151469539},0.10432549583666832,null,5.9088485304614746E-5]
[85500,0.10638,{"$f":"Cockpit!F$8","v":-41.842196549240526},85.5,{"$f":"Pice-(Pice-p0)*EXP(-D857*_Kon1*Cockpit!$C$3)+_Kon2*D857","v":0.10632338150747098},0.10432549583666832,null,5.6618492529025843E-5]
[85600,0.10638,{"$f":"Cockpit!F$8","v":-41.842196549240526},85.6,{"$f":"Pice-(Pice-p0)*EXP(-D858*_Kon1*Cockpit!$C$3)+_Kon2*D858","v":0.10632585150024657},0.10432549583666832,null,5.4148499753436941E-5]
[85700,0.10638,{"$f":"Cockpit!F$8","v":-41.842196549240526},85.7,{"$f":"Pice-(Pice-p0)*EXP(-D859*_Kon1*Cockpit!$C$3)+_Kon2*D859","v":0.10632832149302217},0.10432549583666832,null,5.167850697783416E-5]
[85800,0.10638,{"$f":"Cockpit!F$8","v":-41.842196549240526},85.8,{"$f":"Pice-(Pice-p0)*EXP(-D860*_Kon1*Cockpit!$C$3)+_Kon2*D860","v":0.10633079148579776},0.10432549583666832,null,4.9208514202245257E-5]
[85900,0.10638,{"$f":"Cockpit!F$8","v":-41.842196549240526},85.9,{"$f":"Pice-(Pice-p0)*EXP(-D861*_Kon1*Cockpit!$C$3)+_Kon2*D861","v":0.10633326147857336},0.10432549583666832,null,4.6738521426642476E-5]
[86000,0.10613,{"$f":"Cockpit!F$8","v":-41.842196549240526},86,{"$f":"Pice-(Pice-p0)*EXP(-D862*_Kon1*Cockpit!$C$3)+_Kon2*D862","v":0.10633573147134895},0.10432549583666832,null,2.0573147134894665E-4]
[86100,0.10613,{"$f":"Cockpit!F$8","v":-41.842196549240526},86.1,{"$f":"Pice-(Pice-p0)*EXP(-D863*_Kon1*Cockpit!$C$3)+_Kon2*D863","v":0.10633820146412455},0.10432549583666832,null,2.0820146412454943E-4]
[86200,0.10613,{"$f":"Cockpit!F$8","v":-41.842196549240526},86.2,{"$f":"Pice-(Pice-p0)*EXP(-D864*_Kon1*Cockpit!$C$3)+_Kon2*D864","v":0.10634067145690014},0.10432549583666832,null,2.1067145690013833E-4]
[86300,0.10613,{"$f":"Cockpit!F$8","v":-41.842196549240526},86.3,{"$f":"Pice-(Pice-p0)*EXP(-D865*_Kon1*Cockpit!$C$3)+_Kon2*D865","v":0.10634314144967574},0.10432549583666832,null,2.1314144967574111E-4]
[86400,0.10613,{"$f":"Cockpit!F$8","v":-41.842196549240526},86.4,{"$f":"Pice-(Pice-p0)*EXP(-D866*_Kon1*Cockpit!$C$3)+_Kon2*D866","v":0.10634561144245133},0.10432549583666832,null,2.1561144245133002E-4]
[86500,0.10613,{"$f":"Cockpit!F$8","v":-41.842196549240526},86.5,{"$f":"Pice-(Pice-p0)*EXP(-D867*_Kon1*Cockpit!$C$3)+_Kon2*D867","v":0.10634808143522693},0.10432549583666832,null,2.180814352269328E-4]
[86600,0.10613,{"$f":"Cockpit!F$8","v":-41.842196549240526},86.6,{"$f":"Pice-(Pice-p0)*EXP(-D868*_Kon1*Cockpit!$C$3)+_Kon2*D868","v":0.10635055142800252},0.10432549583666832,null,2.205514280025217E-4]
[86700,0.10638,{"$f":"Cockpit!F$8","v":-41.842196549240526},86.7,{"$f":"Pice-(Pice-p0)*EXP(-D869*_Kon1*Cockpit!$C$3)+_Kon2*D869","v":0.10635302142077813},0.10432549583666832,null,2.6978579221875743E-5]
[86800,0.10638,{"$f":"Cockpit!F$8","v":-41.842196549240526},86.8,{"$f":"Pice-(Pice-p0)*EXP(-D870*_Kon1*Cockpit!$C$3)+_Kon2*D870","v":0.10635549141355372},0.10432549583666832,null,2.450858644628684E-5]
[86900,0.10638,{"$f":"Cockpit!F$8","v":-41.842196549240526},86.9,{"$f":"Pice-(Pice-p0)*EXP(-D871*_Kon1*Cockpit!$C$3)+_Kon2*D871","v":0.1063579614063293},0.10432549583666832,null,2.2038593670697937E-5]
[87000,0.10638,{"$f":"Cockpit!F$8","v":-41.842196549240526},87,{"$f":"Pice-(Pice-p0)*EXP(-D872*_Kon1*Cockpit!$C$3)+_Kon2*D872","v":0.10636043139910491},0.10432549583666832,null,1.9568600895095156E-5]
[87100,0.10638,{"$f":"Cockpit!F$8","v":-41.842196549240526},87.1,{"$f":"Pice-(Pice-p0)*EXP(-D873*_Kon1*Cockpit!$C$3)+_Kon2*D873","v":0.1063629013918805},0.10432549583666832,null,1.7098608119506253E-5]
[87200,0.10638,{"$f":"Cockpit!F$8","v":-41.842196549240526},87.2,{"$f":"Pice-(Pice-p0)*EXP(-D874*_Kon1*Cockpit!$C$3)+_Kon2*D874","v":0.1063653713846561},0.10432549583666832,null,1.4628615343903473E-5]
[87300,0.10638,{"$f":"Cockpit!F$8","v":-41.842196549240526},87.3,{"$f":"Pice-(Pice-p0)*EXP(-D875*_Kon1*Cockpit!$C$3)+_Kon2*D875","v":0.10636784137743169},0.10432549583666832,null,1.215862256831457E-5]
[87400,0.10662000000000001,{"$f":"Cockpit!F$8","v":-41.842196549240526},87.4,{"$f":"Pice-(Pice-p0)*EXP(-D876*_Kon1*Cockpit!$C$3)+_Kon2*D876","v":0.10637031137020729},0.10432549583666832,null,2.4968862979271589E-4]
[87500,0.10662000000000001,{"$f":"Cockpit!F$8","v":-41.842196549240526},87.5,{"$f":"Pice-(Pice-p0)*EXP(-D877*_Kon1*Cockpit!$C$3)+_Kon2*D877","v":0.10637278136298288},0.10432549583666832,null,2.4721863701712699E-4]
[87600,0.10662000000000001,{"$f":"Cockpit!F$8","v":-41.842196549240526},87.6,{"$f":"Pice-(Pice-p0)*EXP(-D878*_Kon1*Cockpit!$C$3)+_Kon2*D878","v":0.10637525135575848},0.10432549583666832,null,2.447486442415242E-4]
[87700,0.10662000000000001,{"$f":"Cockpit!F$8","v":-41.842196549240526},87.7,{"$f":"Pice-(Pice-p0)*EXP(-D879*_Kon1*Cockpit!$C$3)+_Kon2*D879","v":0.10637772134853407},0.10432549583666832,null,2.422786514659353E-4]
[87800,0.10638,{"$f":"Cockpit!F$8","v":-41.842196549240526},87.8,{"$f":"Pice-(Pice-p0)*EXP(-D880*_Kon1*Cockpit!$C$3)+_Kon2*D880","v":0.10638019134130966},0.10432549583666832,null,1.9134130965769991E-7]
[87900,0.10638,{"$f":"Cockpit!F$8","v":-41.842196549240526},87.9,{"$f":"Pice-(Pice-p0)*EXP(-D881*_Kon1*Cockpit!$C$3)+_Kon2*D881","v":0.10638266133408526},0.10432549583666832,null,2.6613340852604805E-6]
[88000,0.10613,{"$f":"Cockpit!F$8","v":-41.842196549240526},88,{"$f":"Pice-(Pice-p0)*EXP(-D882*_Kon1*Cockpit!$C$3)+_Kon2*D882","v":0.10638513132686085},0.10432549583666832,null,2.5513132686084961E-4]
[88100,0.10613,{"$f":"Cockpit!F$8","v":-41.842196549240526},88.1,{"$f":"Pice-(Pice-p0)*EXP(-D883*_Kon1*Cockpit!$C$3)+_Kon2*D883","v":0.10638760131963645},0.10432549583666832,null,2.5760131963645239E-4]
[88200,0.10613,{"$f":"Cockpit!F$8","v":-41.842196549240526},88.2,{"$f":"Pice-(Pice-p0)*EXP(-D884*_Kon1*Cockpit!$C$3)+_Kon2*D884","v":0.10639007131241204},0.10432549583666832,null,2.6007131241204129E-4]
[88300,0.10613,{"$f":"Cockpit!F$8","v":-41.842196549240526},88.3,{"$f":"Pice-(Pice-p0)*EXP(-D885*_Kon1*Cockpit!$C$3)+_Kon2*D885","v":0.10639254130518765},0.10432549583666832,null,2.6254130518764407E-4]
[88400,0.10613,{"$f":"Cockpit!F$8","v":-41.842196549240526},88.4,{"$f":"Pice-(Pice-p0)*EXP(-D886*_Kon1*Cockpit!$C$3)+_Kon2*D886","v":0.10639501129796324},0.10432549583666832,null,2.6501129796323297E-4]
[88500,0.10613,{"$f":"Cockpit!F$8","v":-41.842196549240526},88.5,{"$f":"Pice-(Pice-p0)*EXP(-D887*_Kon1*Cockpit!$C$3)+_Kon2*D887","v":0.10639748129073884},0.10432549583666832,null,2.6748129073883575E-4]
[88600,0.10613,{"$f":"Cockpit!F$8","v":-41.842196549240526},88.6,{"$f":"Pice-(Pice-p0)*EXP(-D888*_Kon1*Cockpit!$C$3)+_Kon2*D888","v":0.10639995128351443},0.10432549583666832,null,2.6995128351442466E-4]
[88700,0.10613,{"$f":"Cockpit!F$8","v":-41.842196549240526},88.7,{"$f":"Pice-(Pice-p0)*EXP(-D889*_Kon1*Cockpit!$C$3)+_Kon2*D889","v":0.10640242127629003},0.10432549583666832,null,2.7242127629002744E-4]
[88800,0.10613,{"$f":"Cockpit!F$8","v":-41.842196549240526},88.8,{"$f":"Pice-(Pice-p0)*EXP(-D890*_Kon1*Cockpit!$C$3)+_Kon2*D890","v":0.10640489126906562},0.10432549583666832,null,2.7489126906561634E-4]
[88900,0.10613,{"$f":"Cockpit!F$8","v":-41.842196549240526},88.9,{"$f":"Pice-(Pice-p0)*EXP(-D891*_Kon1*Cockpit!$C$3)+_Kon2*D891","v":0.10640736126184121},0.10432549583666832,null,2.7736126184120524E-4]
[89000,0.10613,{"$f":"Cockpit!F$8","v":-41.842196549240526},89,{"$f":"Pice-(Pice-p0)*EXP(-D892*_Kon1*Cockpit!$C$3)+_Kon2*D892","v":0.10640983125461681},0.10432549583666832,null,2.7983125461680802E-4]
[89100,0.10613,{"$f":"Cockpit!F$8","v":-41.842196549240526},89.1,{"$f":"Pice-(Pice-p0)*EXP(-D893*_Kon1*Cockpit!$C$3)+_Kon2*D893","v":0.1064123012473924},0.10432549583666832,null,2.8230124739239693E-4]
[89200,0.10613,{"$f":"Cockpit!F$8","v":-41.842196549240526},89.2,{"$f":"Pice-(Pice-p0)*EXP(-D894*_Kon1*Cockpit!$C$3)+_Kon2*D894","v":0.106414771240168},0.10432549583666832,null,2.8477124016799971E-4]
[89300,0.10613,{"$f":"Cockpit!F$8","v":-41.842196549240526},89.3,{"$f":"Pice-(Pice-p0)*EXP(-D895*_Kon1*Cockpit!$C$3)+_Kon2*D895","v":0.10641724123294359},0.10432549583666832,null,2.8724123294358861E-4]
[89400,0.10613,{"$f":"Cockpit!F$8","v":-41.842196549240526},89.4,{"$f":"Pice-(Pice-p0)*EXP(-D896*_Kon1*Cockpit!$C$3)+_Kon2*D896","v":0.10641971122571919},0.10432549583666832,null,2.8971122571919139E-4]
[89500,0.10589,{"$f":"Cockpit!F$8","v":-41.842196549240526},89.5,{"$f":"Pice-(Pice-p0)*EXP(-D897*_Kon1*Cockpit!$C$3)+_Kon2*D897","v":0.10642218121849478},0.10432549583666832,null,5.3218121849478439E-4]
[89600,0.10589,{"$f":"Cockpit!F$8","v":-41.842196549240526},89.6,{"$f":"Pice-(Pice-p0)*EXP(-D898*_Kon1*Cockpit!$C$3)+_Kon2*D898","v":0.10642465121127039},0.10432549583666832,null,5.3465121127038717E-4]
[89700,0.10613,{"$f":"Cockpit!F$8","v":-41.842196549240526},{"$f":"A899/1000","v":89.7},{"$f":"Pice-(Pice-p0)*EXP(-D899*_Kon1*Cockpit!$C$3)+_Kon2*D899","v":0.10642712120404597},{"$f":"EXP(24.30592-6144.96/(C899+273.15))","v":0.10432549583666832},null,{"$f":"SQRT((E899-B899)^2)","v":2.9712120404597198E-4}]
[89800,0.10613,{"$f":"Cockpit!F$8","v":-41.842196549240526},89.8,{"$f":"Pice-(Pice-p0)*EXP(-D900*_Kon1*Cockpit!$C$3)+_Kon2*D900","v":0.10642959119682156},0.10432549583666832,null,2.9959119682156088E-4]
[89900,0.10613,{"$f":"Cockpit!F$8","v":-41.842196549240526},89.9,{"$f":"Pice-(Pice-p0)*EXP(-D901*_Kon1*Cockpit!$C$3)+_Kon2*D901","v":0.10643206118959717},0.10432549583666832,null,3.0206118959716366E-4]
[90000,0.10613,{"$f":"Cockpit!F$8","v":-41.842196549240526},90,{"$f":"Pice-(Pice-p0)*EXP(-D902*_Kon1*Cockpit!$C$3)+_Kon2*D902","v":0.10643453118237275},0.10432549583666832,null,3.0453118237275256E-4]
[90100,0.10613,{"$f":"Cockpit!F$8","v":-41.842196549240526},90.1,{"$f":"Pice-(Pice-p0)*EXP(-D903*_Kon1*Cockpit!$C$3)+_Kon2*D903","v":0.10643700117514836},0.10432549583666832,null,3.0700117514835534E-4]
[90200,0.10613,{"$f":"Cockpit!F$8","v":-41.842196549240526},90.2,{"$f":"Pice-(Pice-p0)*EXP(-D904*_Kon1*Cockpit!$C$3)+_Kon2*D904","v":0.10643947116792395},0.10432549583666832,null,3.0947116792394425E-4]

{"sheet":"Example 01","index":3,"n_rows":29,"n_cols":2,"rows_kept":29,"cut":false,"hidden":false,"merged":[]}
[null,"pCh 06:36"]
["00:00:00",7.9000000000000001E-2]
["00:00:01",0.121]
["00:00:02",0.20300000000000001]
["00:00:03",0.22800000000000001]
["00:00:04",0.23899999999999999]
["00:00:05",0.24399999999999999]
["00:00:06",0.247]
["00:00:07",0.249]
["00:00:08",0.251]
["00:00:09",0.253]
["00:00:10",0.254]
["00:00:11",0.255]
["00:00:12",0.25700000000000001]
["00:00:13",0.25800000000000001]
["00:00:14",0.25900000000000001]
["00:00:15",0.26]
["00:00:16",0.26100000000000001]
["00:00:17",0.26200000000000001]
["00:00:18",0.26300000000000001]
["00:00:19",0.26400000000000001]
["00:00:20",0.26500000000000001]
["00:00:21",0.26600000000000001]
["00:00:22",0.26700000000000002]
["00:00:23",0.26800000000000002]
["00:00:24",0.26900000000000002]
["00:00:25",0.27]
["00:00:26",0.09]
["00:00:27",8.5000000000000006E-2]

{"sheet":"Example 02","index":4,"n_rows":28,"n_cols":2,"rows_kept":28,"cut":false,"hidden":false,"merged":[]}
[null,"pCh 06:41"]
["00:00:00",8.1000000000000003E-2]
["00:00:01",0.184]
["00:00:02",0.224]
["00:00:03",0.23899999999999999]
["00:00:04",0.246]
["00:00:05",0.25]
["00:00:06",0.253]
["00:00:07",0.255]
["00:00:08",0.25700000000000001]
["00:00:09",0.25900000000000001]
["00:00:10",0.26]
["00:00:11",0.26100000000000001]
["00:00:12",0.26300000000000001]
["00:00:13",0.26400000000000001]
["00:00:14",0.26500000000000001]
["00:00:15",0.26600000000000001]
["00:00:16",0.26800000000000002]
["00:00:17",0.26900000000000002]
["00:00:18",0.27]
["00:00:19",0.27100000000000002]
["00:00:20",0.27200000000000002]
["00:00:21",0.27300000000000002]
["00:00:22",0.27500000000000002]
["00:00:23",0.27600000000000002]
["00:00:24",0.27700000000000002]
["00:00:25",9.1999999999999998E-2]
["00:00:26",8.3000000000000004E-2]

{"sheet":"Example 03","index":5,"n_rows":28,"n_cols":2,"rows_kept":28,"cut":false,"hidden":false,"merged":[]}
[null,"pCh 10:02"]
["00:00:00",7.8E-2]
["00:00:01",0.16]
["00:00:02",0.222]
["00:00:03",0.24199999999999999]
["00:00:04",0.251]
["00:00:05",0.25600000000000001]
["00:00:06",0.26]
["00:00:07",0.26300000000000001]
["00:00:08",0.26500000000000001]
["00:00:09",0.26800000000000002]
["00:00:10",0.27]
["00:00:11",0.27300000000000002]
["00:00:12",0.27500000000000002]
["00:00:13",0.27700000000000002]
["00:00:14",0.27900000000000003]
["00:00:15",0.28100000000000003]
["00:00:16",0.28299999999999997]
["00:00:17",0.28599999999999998]
["00:00:18",0.28799999999999998]
["00:00:19",0.28999999999999998]
["00:00:20",0.29199999999999998]
["00:00:21",0.29399999999999998]
["00:00:22",0.29599999999999999]
["00:00:23",0.29899999999999999]
["00:00:24",0.3]
["00:00:25",0.104]
["00:00:26",8.5000000000000006E-2]

{"sheet":"Example 04","index":6,"n_rows":28,"n_cols":2,"rows_kept":28,"cut":false,"hidden":false,"merged":[]}
[null,"pCh 12:01"]
[0,7.5999999999999998E-2]
[1.1574069503694773E-5,0.11]
[2.314814628334716E-5,0.20100000000000001]
[3.4722223062999547E-5,0.22700000000000001]
[4.6296292566694319E-5,0.23699999999999999]
[5.7870369346346706E-5,0.24299999999999999]
[6.9444438850041479E-5,0.247]
[8.1018515629693866E-5,0.25]
[9.2592592409346253E-5,0.253]
[1.0416666191304103E-4,0.25600000000000001]
[1.1574073869269341E-4,0.25900000000000001]
[1.273148154723458E-4,0.26100000000000001]
[1.3888888497604057E-4,0.26400000000000001]
[1.5046296175569296E-4,0.26700000000000002]
[1.6203703125938773E-4,0.27]
[1.7361110803904012E-4,0.27200000000000002]
[1.8518518481869251E-4,0.27500000000000002]
[1.9675925432238728E-4,0.27800000000000002]
[2.0833333110203966E-4,0.28100000000000003]
[2.1990740788169205E-4,0.28299999999999997]
[2.3148147738538682E-4,0.28599999999999998]
[2.4305555416503921E-4,0.28899999999999998]
[2.546296309446916E-4,0.29099999999999998]
[2.6620370044838637E-4,0.29399999999999998]
[2.7777777722803876E-4,0.29699999999999999]
[2.8935184673173353E-4,0.29899999999999999]
[3.0092592351138592E-4,8.6999999999999994E-2]

{"sheet":"Example 05","index":7,"n_rows":28,"n_cols":2,"rows_kept":28,"cut":false,"hidden":false,"merged":[]}
[null,"pCh 15:00"]
[0,7.9000000000000001E-2]
[1.1574069503694773E-5,0.16500000000000001]
[2.314814628334716E-5,0.20100000000000001]
[3.4722215787041932E-5,0.215]
[4.6296292566694319E-5,0.223]
[5.7870369346346706E-5,0.22900000000000001]
[6.9444438850041479E-5,0.23400000000000001]
[8.1018515629693866E-5,0.23799999999999999]
[9.2592592409346253E-5,0.24199999999999999]
[1.0416666191304103E-4,0.247]
[1.1574073869269341E-4,0.251]
[1.2731480819638819E-4,0.254]
[1.3888888497604057E-4,0.25800000000000001]
[1.5046296175569296E-4,0.26200000000000001]
[1.6203703125938773E-4,0.26600000000000001]
[1.7361110803904012E-4,0.27]
[1.8518518481869251E-4,0.27]
[1.9675925432238728E-4,0.27400000000000002]
[2.0833333110203966E-4,0.27900000000000003]
[2.1990740788169205E-4,0.28299999999999997]
[2.3148147738538682E-4,0.28699999999999998]
[2.4305555416503921E-4,0.29099999999999998]
[2.5462962366873398E-4,0.29499999999999998]
[2.6620370044838637E-4,0.29899999999999999]
[2.7777777722803876E-4,0.30299999999999999]
[2.8935184673173353E-4,0.307]
[3.0092592351138592E-4,9.1999999999999998E-2]

{"sheet":"Example 06","index":8,"n_rows":29,"n_cols":2,"rows_kept":29,"cut":false,"hidden":false,"merged":[]}
[null,"pCh 18:00"]
[0,7.6999999999999999E-2]
[1.1574076779652387E-5,9.2999999999999999E-2]
[2.3148153559304774E-5,0.13400000000000001]
[3.4722223062999547E-5,0.156]
[4.6296299842651933E-5,0.16900000000000001]
[5.787037662230432E-5,0.18]
[6.9444446125999093E-5,0.189]
[8.101852290565148E-5,0.19600000000000001]
[9.2592592409346253E-5,0.20399999999999999]
[1.0416666918899864E-4,0.21199999999999999]
[1.1574074596865103E-4,0.219]
[1.273148154723458E-4,0.22700000000000001]
[1.3888889225199819E-4,0.23499999999999999]
[1.5046296903165057E-4,0.24199999999999999]
[1.6203703853534535E-4,0.25]
[1.7361111531499773E-4,0.25800000000000001]
[1.8518519209465012E-4,0.26500000000000001]
[1.9675926159834489E-4,0.27400000000000002]
[2.0833333837799728E-4,0.28199999999999997]
[2.1990740788169205E-4,0.28999999999999998]
[2.3148148466134444E-4,0.29799999999999999]
[2.4305556144099683E-4,0.307]
[2.546296309446916E-4,0.316]
[2.6620370772434399E-4,0.32400000000000001]
[2.7777778450399637E-4,0.33300000000000002]
[2.8935185400769114E-4,0.34200000000000003]
[3.0092593078734353E-4,0.107]
[3.125000002910383E-4,8.7999999999999995E-2]

{"sheet":"Example 07","index":9,"n_rows":28,"n_cols":2,"rows_kept":28,"cut":false,"hidden":false,"merged":[]}
[null,"pCh 19:52"]
[0,5.8000000000000003E-2]
[1.1574069503694773E-5,5.8000000000000003E-2]
[2.314814628334716E-5,6.9000000000000006E-2]
[3.4722215787041932E-5,0.08]
[4.6296292566694319E-5,0.09]
[5.7870369346346706E-5,9.8000000000000004E-2]
[6.9444438850041479E-5,0.106]
[8.1018515629693866E-5,0.113]
[9.2592592409346253E-5,0.11799999999999999]
[1.0416666191304103E-4,0.124]
[1.1574073869269341E-4,0.13]
[1.2731480819638819E-4,0.13500000000000001]
[1.3888888497604057E-4,0.14099999999999999]
[1.5046296175569296E-4,0.14599999999999999]
[1.6203703125938773E-4,0.152]
[1.7361110803904012E-4,0.16]
[1.8518518481869251E-4,0.16500000000000001]
[1.9675925432238728E-4,0.17]
[2.0833333110203966E-4,0.17499999999999999]
[2.1990740788169205E-4,0.18099999999999999]
[2.3148147738538682E-4,0.186]
[2.4305555416503921E-4,0.191]
[2.5462962366873398E-4,0.19700000000000001]
[2.6620370044838637E-4,0.20200000000000001]
[2.7777777722803876E-4,0.20799999999999999]
[2.8935184673173353E-4,0.20599999999999999]
[3.0092592351138592E-4,9.1999999999999998E-2]

{"sheet":"16040701_MTM_0071","index":10,"n_rows":922,"n_cols":3,"rows_kept":922,"cut":false,"hidden":false,"merged":[]}
["[1] // Info"]
["Date","2064-04-08"]
["Time","09:33:31"]
[]
["[2] // Start Values"]
["Ts",-0.01,"Temperatur der Stellfläche [°C]"]
["P0",0.1,"Kammerdruck zum Testbeginn  [mBar]"]
[]
["[3] // Constant Values:"]
["N",61,"Anzahl der Vials"]
["Ap",3.14,"innere Querschnittsfläche des Vials[cm²]"]
["Av",2.8,"äußerer Querschnittsfläche des Vials[cm²]"]
["Vc",56,"Kammervolumen[l]"]
["M0",3,"Produktmasse zu Beginn der Sublimation [g]"]
["Dp",1,"Produktdichte [g/ml]"]
["Ep",0.97,"Produktporosität [dimensionslos]"]
["Hs",660,"Sublimationsenthalpie [torr * l / mol]"]
[]
["[4] // Measurement Values"]
[0,0.1027]
[100,0.1027]
[200,0.1027]
[300,0.1027]
[400,0.1027]
[500,0.10294]
[600,0.10294]
[700,0.10319]
[800,0.10342999999999999]
[900,0.10342999999999999]
[1000,0.10342999999999999]
[1100,0.10342999999999999]
[1200,0.10342999999999999]
[1300,0.10319]
[1400,0.10319]
[1500,0.10319]
[1600,0.10319]
[1700,0.10319]
[1800,0.10319]
[1900,0.10342999999999999]
[2000,0.10342999999999999]
[2100,0.10342999999999999]
[2200,0.10342999999999999]
[2300,0.10367999999999999]
[2400,0.10367999999999999]
[2500,0.10367999999999999]
[2600,0.10367999999999999]
[2700,0.10367999999999999]
[2800,0.10342999999999999]
[2900,0.10342999999999999]
[3000,0.10367999999999999]
[3100,0.10367999999999999]
[3200,0.10367999999999999]
[3300,0.10342999999999999]
[3400,0.10342999999999999]
[3500,0.10342999999999999]
[3600,0.10342999999999999]
[3700,0.10342999999999999]
[3800,0.10342999999999999]
[3900,0.10342999999999999]
[4000,0.10342999999999999]
[4100,0.10342999999999999]
[4200,0.10342999999999999]
[4300,0.10342999999999999]
[4400,0.10342999999999999]
[4500,0.10342999999999999]
[4600,0.10342999999999999]
[4700,0.10342999999999999]
[4800,0.10342999999999999]
[4900,0.10342999999999999]
[5000,0.10342999999999999]
[5100,0.10342999999999999]
[5200,0.10342999999999999]
[5300,0.10342999999999999]
[5400,0.10342999999999999]
[5500,0.10367999999999999]
[5600,0.10367999999999999]
[5700,0.10367999999999999]
[5800,0.10367999999999999]
[5900,0.10367999999999999]
[6000,0.10367999999999999]
[6100,0.10367999999999999]
[6200,0.10367999999999999]
[6300,0.10367999999999999]
[6400,0.10392]
[6500,0.10392]
[6600,0.10392]
[6700,0.10392]
[6800,0.10392]
[6900,0.10417]
[7000,0.10417]
[7100,0.10392]
[7200,0.10392]
[7300,0.10367999999999999]
[7400,0.10367999999999999]
[7500,0.10367999999999999]
[7600,0.10367999999999999]
[7700,0.10367999999999999]
[7800,0.10392]
[7900,0.10392]
[8000,0.10392]
[8100,0.10417]
[8200,0.10417]
[8300,0.10417]
[8400,0.10417]
[8500,0.10417]
[8600,0.10417]
[8700,0.10417]
[8800,0.10417]
[8900,0.10417]
[9000,0.10417]
[9100,0.10417]
[9200,0.10417]
[9300,0.10417]
[9400,0.10441]
[9500,0.10441]
[9600,0.10441]
[9700,0.10466]
[9800,0.10466]
[9900,0.10466]
[10000,0.10441]
[10100,0.10417]
[10200,0.10417]
[10300,0.10417]
[10400,0.10417]
[10500,0.10417]
[10600,0.10417]
[10700,0.10417]
[10800,0.10417]
[10900,0.10417]
[11000,0.10441]
[11100,0.10441]
[11200,0.10441]
[11300,0.10441]
[11400,0.10441]
[11500,0.10466]
[11600,0.10466]
[11700,0.10466]
[11800,0.10466]
[11900,0.10466]
[12000,0.10466]
[12100,0.10441]
[12200,0.10441]
[12300,0.10466]
[12400,0.10466]
[12500,0.10441]
[12600,0.10441]
[12700,0.10441]
[12800,0.10441]
[12900,0.10466]
[13000,0.10466]
[13100,0.10466]
[13200,0.10441]
[13300,0.10441]
[13400,0.10441]
[13500,0.10417]
[13600,0.10441]
[13700,0.10441]
[13800,0.10441]
[13900,0.10441]
[14000,0.10441]
[14100,0.10441]
[14200,0.10441]
[14300,0.10441]
[14400,0.10441]
[14500,0.10441]
[14600,0.10441]
[14700,0.10441]
[14800,0.10441]
[14900,0.10441]
[15000,0.10441]
[15100,0.10441]
[15200,0.10441]
[15300,0.10441]
[15400,0.10441]
[15500,0.10441]
[15600,0.10441]
[15700,0.10441]
[15800,0.10441]
[15900,0.10441]
[16000,0.10441]
[16100,0.10441]
[16200,0.10441]
[16300,0.10441]
[16400,0.10441]
[16500,0.10441]
[16600,0.10441]
[16700,0.10466]
[16800,0.10466]
[16900,0.10466]
[17000,0.10466]
[17100,0.10466]
[17200,0.10466]
[17300,0.10466]
[17400,0.10466]
[17500,0.10466]
[17600,0.10489999999999999]
[17700,0.10489999999999999]
[17800,0.10489999999999999]
[17900,0.10489999999999999]
[18000,0.10489999999999999]
[18100,0.10489999999999999]
[18200,0.10489999999999999]
[18300,0.10489999999999999]
[18400,0.10489999999999999]
[18500,0.10489999999999999]
[18600,0.10489999999999999]
[18700,0.10489999999999999]
[18800,0.10489999999999999]
[18900,0.10489999999999999]
[19000,0.10489999999999999]
[19100,0.10489999999999999]
[19200,0.10466]
[19300,0.10466]
[19400,0.10466]
[19500,0.10466]
[19600,0.10441]
[19700,0.10441]
[19800,0.10466]
[19900,0.10466]
[20000,0.10466]
[20100,0.10466]
[20200,0.10466]
[20300,0.10466]
[20400,0.10441]
[20500,0.10441]
[20600,0.10441]
[20700,0.10441]
[20800,0.10466]
[20900,0.10466]
[21000,0.10466]
[21100,0.10466]
[21200,0.10489999999999999]
[21300,0.10514999999999999]
[21400,0.10514999999999999]
[21500,0.10514999999999999]
[21600,0.10489999999999999]
[21700,0.10489999999999999]
[21800,0.10489999999999999]
[21900,0.10489999999999999]
[22000,0.10489999999999999]
[22100,0.10489999999999999]
[22200,0.10489999999999999]
[22300,0.10489999999999999]
[22400,0.10489999999999999]
[22500,0.10489999999999999]
[22600,0.10489999999999999]
[22700,0.10489999999999999]
[22800,0.10489999999999999]
[22900,0.10489999999999999]
[23000,0.10489999999999999]
[23100,0.10489999999999999]
[23200,0.10466]
[23300,0.10441]
[23400,0.10441]
[23500,0.10441]
[23600,0.10466]
[23700,0.10466]
[23800,0.10489999999999999]
[23900,0.10489999999999999]
[24000,0.10489999999999999]
[24100,0.10489999999999999]
[24200,0.10489999999999999]
[24300,0.10489999999999999]
[24400,0.10489999999999999]
[24500,0.10489999999999999]
[24600,0.10489999999999999]
[24700,0.10489999999999999]
[24800,0.10489999999999999]
[24900,0.10489999999999999]
[25000,0.10489999999999999]
[25100,0.10466]
[25200,0.10466]
[25300,0.10466]
[25400,0.10466]
[25500,0.10489999999999999]
[25600,0.10489999999999999]
[25700,0.10489999999999999]
[25800,0.10514999999999999]
[25900,0.10514999999999999]
[26000,0.10514999999999999]
[26100,0.10489999999999999]
[26200,0.10489999999999999]
[26300,0.10489999999999999]
[26400,0.10489999999999999]
[26500,0.10489999999999999]
[26600,0.10489999999999999]
[26700,0.10489999999999999]
[26800,0.10514999999999999]
[26900,0.10514999999999999]
[27000,0.10514999999999999]
[27100,0.10514999999999999]
[27200,0.10489999999999999]
[27300,0.10489999999999999]
[27400,0.10489999999999999]
[27500,0.10489999999999999]
[27600,0.10489999999999999]
[27700,0.10489999999999999]
[27800,0.10489999999999999]
[27900,0.10489999999999999]
[28000,0.10489999999999999]
[28100,0.10489999999999999]
[28200,0.10489999999999999]
[28300,0.10489999999999999]
[28400,0.10514999999999999]
[28500,0.10539999999999999]
[28600,0.10539999999999999]
[28700,0.10539999999999999]
[28800,0.10539999999999999]
[28900,0.10514999999999999]
[29000,0.10514999999999999]
[29100,0.10489999999999999]
[29200,0.10489999999999999]
[29300,0.10466]
[29400,0.10466]
[29500,0.10466]
[29600,0.10489999999999999]
[29700,0.10489999999999999]
[29800,0.10489999999999999]
[29900,0.10514999999999999]
[30000,0.10514999999999999]
[30100,0.10539999999999999]
[30200,0.10539999999999999]
[30300,0.10539999999999999]
[30400,0.10539999999999999]
[30500,0.10539999999999999]
[30600,0.10539999999999999]
[30700,0.10539999999999999]
[30800,0.10539999999999999]
[30900,0.10539999999999999]
[31000,0.10539999999999999]
[31100,0.10539999999999999]
[31200,0.10539999999999999]
[31300,0.10539999999999999]
[31400,0.10539999999999999]
[31500,0.10514999999999999]
[31600,0.10514999999999999]
[31700,0.10489999999999999]
[31800,0.10514999999999999]
[31900,0.10514999999999999]
[32000,0.10514999999999999]
[32100,0.10539999999999999]
[32200,0.10539999999999999]
[32300,0.10539999999999999]
[32400,0.10539999999999999]
[32500,0.10539999999999999]
[32600,0.10539999999999999]
[32700,0.10539999999999999]
[32800,0.10539999999999999]
[32900,0.10539999999999999]
[33000,0.10539999999999999]
[33100,0.10539999999999999]
[33200,0.10539999999999999]
[33300,0.10514999999999999]
[33400,0.10514999999999999]
[33500,0.10514999999999999]
[33600,0.10539999999999999]
[33700,0.10539999999999999]
[33800,0.10539999999999999]
[33900,0.10539999999999999]
[34000,0.10539999999999999]
[34100,0.10539999999999999]
[34200,0.10539999999999999]
[34300,0.10539999999999999]
[34400,0.10539999999999999]
[34500,0.10539999999999999]
[34600,0.10539999999999999]
[34700,0.10539999999999999]
[34800,0.10539999999999999]
[34900,0.10539999999999999]
[35000,0.10539999999999999]
[35100,0.10539999999999999]
[35200,0.10539999999999999]
[35300,0.10539999999999999]
[35400,0.10539999999999999]
[35500,0.10539999999999999]
[35600,0.10539999999999999]
[35700,0.10539999999999999]
[35800,0.10539999999999999]
[35900,0.10514999999999999]
[36000,0.10514999999999999]
[36100,0.10514999999999999]
[36200,0.10514999999999999]
[36300,0.10489999999999999]
[36400,0.10489999999999999]
[36500,0.10466]
[36600,0.10466]
[36700,0.10489999999999999]
[36800,0.10514999999999999]
[36900,0.10564]
[37000,0.10589]
[37100,0.10589]
[37200,0.10564]
[37300,0.10539999999999999]
[37400,0.10539999999999999]
[37500,0.10539999999999999]
[37600,0.10539999999999999]
[37700,0.10539999999999999]
[37800,0.10539999999999999]
[37900,0.10514999999999999]
[38000,0.10514999999999999]
[38100,0.10514999999999999]
[38200,0.10514999999999999]
[38300,0.10514999999999999]
[38400,0.10514999999999999]
[38500,0.10514999999999999]
[38600,0.10514999999999999]
[38700,0.10514999999999999]
[38800,0.10514999999999999]
[38900,0.10514999999999999]
[39000,0.10489999999999999]
[39100,0.10489999999999999]
[39200,0.10514999999999999]
[39300,0.10514999999999999]
[39400,0.10539999999999999]
[39500,0.10539999999999999]
[39600,0.10539999999999999]
[39700,0.10539999999999999]
[39800,0.10539999999999999]
[39900,0.10539999999999999]
[40000,0.10539999999999999]
[40100,0.10539999999999999]
[40200,0.10539999999999999]
[40300,0.10539999999999999]
[40400,0.10539999999999999]
[40500,0.10539999999999999]
[40600,0.10514999999999999]
[40700,0.10514999999999999]
[40800,0.10514999999999999]
[40900,0.10514999999999999]
[41000,0.10514999999999999]
[41100,0.10514999999999999]
[41200,0.10514999999999999]
[41300,0.10514999999999999]
[41400,0.10514999999999999]
[41500,0.10539999999999999]
[41600,0.10539999999999999]
[41700,0.10539999999999999]
[41800,0.10539999999999999]
[41900,0.10539999999999999]
[42000,0.10539999999999999]
[42100,0.10564]
[42200,0.10564]
[42300,0.10589]
[42400,0.10589]
[42500,0.10589]
[42600,0.10564]
[42700,0.10539999999999999]
[42800,0.10539999999999999]
[42900,0.10539999999999999]
[43000,0.10539999999999999]
[43100,0.10539999999999999]
[43200,0.10539999999999999]
[43300,0.10539999999999999]
[43400,0.10539999999999999]
[43500,0.10514999999999999]
[43600,0.10539999999999999]
[43700,0.10539999999999999]
[43800,0.10564]
[43900,0.10539999999999999]
[44000,0.10539999999999999]
[44100,0.10539999999999999]
[44200,0.10539999999999999]
[44300,0.10539999999999999]
[44400,0.10539999999999999]
[44500,0.10539999999999999]
[44600,0.10539999999999999]
[44700,0.10539999999999999]
[44800,0.10539999999999999]
[44900,0.10564]
[45000,0.10539999999999999]
[45100,0.10539999999999999]
[45200,0.10539999999999999]
[45300,0.10539999999999999]
[45400,0.10539999999999999]
[45500,0.10514999999999999]
[45600,0.10514999999999999]
[45700,0.10514999999999999]
[45800,0.10514999999999999]
[45900,0.10514999999999999]
[46000,0.10514999999999999]
[46100,0.10514999999999999]
[46200,0.10514999999999999]
[46300,0.10514999999999999]
[46400,0.10514999999999999]
[46500,0.10514999999999999]
[46600,0.10514999999999999]
[46700,0.10514999999999999]
[46800,0.10514999999999999]
[46900,0.10514999999999999]
[47000,0.10514999999999999]
[47100,0.10514999999999999]
[47200,0.10539999999999999]
[47300,0.10539999999999999]
[47400,0.10539999999999999]
[47500,0.10539999999999999]
[47600,0.10539999999999999]
[47700,0.10539999999999999]
[47800,0.10539999999999999]
[47900,0.10539999999999999]
[48000,0.10539999999999999]
[48100,0.10539999999999999]
[48200,0.10564]
[48300,0.10589]
[48400,0.10589]
[48500,0.10589]
[48600,0.10589]
[48700,0.10589]
[48800,0.10589]
[48900,0.10589]
[49000,0.10589]
[49100,0.10589]
[49200,0.10589]
[49300,0.10564]
[49400,0.10564]
[49500,0.10564]
[49600,0.10564]
[49700,0.10564]
[49800,0.10564]
[49900,0.10564]
[50000,0.10564]
[50100,0.10564]
[50200,0.10539999999999999]
[50300,0.10539999999999999]
[50400,0.10539999999999999]
[50500,0.10564]
[50600,0.10564]
[50700,0.10539999999999999]
[50800,0.10539999999999999]
[50900,0.10539999999999999]
[51000,0.10564]
[51100,0.10564]
[51200,0.10564]
[51300,0.10564]
[51400,0.10564]
[51500,0.10564]
[51600,0.10539999999999999]
[51700,0.10539999999999999]
[51800,0.10564]
[51900,0.10564]
[52000,0.10564]
[52100,0.10564]
[52200,0.10564]
[52300,0.10564]
[52400,0.10539999999999999]
[52500,0.10539999999999999]
[52600,0.10539999999999999]
[52700,0.10564]
[52800,0.10564]
[52900,0.10564]
[53000,0.10564]
[53100,0.10564]
[53200,0.10539999999999999]
[53300,0.10539999999999999]
[53400,0.10514999999999999]
[53500,0.10539999999999999]
[53600,0.10539999999999999]
[53700,0.10539999999999999]
[53800,0.10564]
[53900,0.10564]
[54000,0.10589]
[54100,0.10589]
[54200,0.10589]
[54300,0.10589]
[54400,0.10564]
[54500,0.10564]
[54600,0.10564]
[54700,0.10564]
[54800,0.10564]
[54900,0.10564]
[55000,0.10564]
[55100,0.10564]
[55200,0.10564]
[55300,0.10564]
[55400,0.10564]
[55500,0.10564]
[55600,0.10564]
[55700,0.10564]
[55800,0.10564]
[55900,0.10564]
[56000,0.10564]
[56100,0.10564]
[56200,0.10539999999999999]
[56300,0.10539999999999999]
[56400,0.10564]
[56500,0.10564]
[56600,0.10564]
[56700,0.10564]
[56800,0.10539999999999999]
[56900,0.10539999999999999]
[57000,0.10539999999999999]
[57100,0.10539999999999999]
[57200,0.10564]
[57300,0.10564]
[57400,0.10564]
[57500,0.10564]
[57600,0.10564]
[57700,0.10564]
[57800,0.10564]
[57900,0.10564]
[58000,0.10589]
[58100,0.10564]
[58200,0.10564]
[58300,0.10564]
[58400,0.10564]
[58500,0.10564]
[58600,0.10539999999999999]
[58700,0.10539999999999999]
[58800,0.10539999999999999]
[58900,0.10539999999999999]
[59000,0.10539999999999999]
[59100,0.10539999999999999]
[59200,0.10564]
[59300,0.10564]
[59400,0.10564]
[59500,0.10564]
[59600,0.10564]
[59700,0.10539999999999999]
[59800,0.10539999999999999]
[59900,0.10564]
[60000,0.10564]
[60100,0.10564]
[60200,0.10564]
[60300,0.10564]
[60400,0.10564]
[60500,0.10564]
[60600,0.10564]
[60700,0.10564]
[60800,0.10564]
[60900,0.10564]
[61000,0.10564]
[61100,0.10564]
[61200,0.10564]
[61300,0.10564]
[61400,0.10564]
[61500,0.10564]
[61600,0.10564]
[61700,0.10564]
[61800,0.10589]
[61900,0.10613]
[62000,0.10613]
[62100,0.10613]
[62200,0.10613]
[62300,0.10613]
[62400,0.10613]
[62500,0.10613]
[62600,0.10613]
[62700,0.10589]
[62800,0.10589]
[62900,0.10589]
[63000,0.10589]
[63100,0.10589]
[63200,0.10589]
[63300,0.10589]
[63400,0.10589]
[63500,0.10613]
[63600,0.10589]
[63700,0.10589]
[63800,0.10613]
[63900,0.10613]
[64000,0.10613]
[64100,0.10589]
[64200,0.10589]
[64300,0.10564]
[64400,0.10564]
[64500,0.10564]
[64600,0.10564]
[64700,0.10564]
[64800,0.10564]
[64900,0.10564]
[65000,0.10564]
[65100,0.10564]
[65200,0.10589]
[65300,0.10589]
[65400,0.10589]
[65500,0.10589]
[65600,0.10589]
[65700,0.10589]
[65800,0.10589]
[65900,0.10589]
[66000,0.10589]
[66100,0.10589]
[66200,0.10564]
[66300,0.10564]
[66400,0.10564]
[66500,0.10564]
[66600,0.10564]
[66700,0.10564]
[66800,0.10564]
[66900,0.10589]
[67000,0.10589]
[67100,0.10589]
[67200,0.10589]
[67300,0.10564]
[67400,0.10564]
[67500,0.10539999999999999]
[67600,0.10539999999999999]
[67700,0.10539999999999999]
[67800,0.10539999999999999]
[67900,0.10539999999999999]
[68000,0.10539999999999999]
[68100,0.10589]
[68200,0.10589]
[68300,0.10589]
[68400,0.10589]
[68500,0.10564]
[68600,0.10564]
[68700,0.10564]
[68800,0.10564]
[68900,0.10564]
[69000,0.10589]
[69100,0.10589]
[69200,0.10589]
[69300,0.10589]
[69400,0.10589]
[69500,0.10589]
[69600,0.10589]
[69700,0.10589]
[69800,0.10613]
[69900,0.10613]
[70000,0.10613]
[70100,0.10613]
[70200,0.10613]
[70300,0.10613]
[70400,0.10613]
[70500,0.10613]
[70600,0.10613]
[70700,0.10613]
[70800,0.10589]
[70900,0.10589]
[71000,0.10589]
[71100,0.10589]
[71200,0.10613]
[71300,0.10613]
[71400,0.10613]
[71500,0.10613]
[71600,0.10613]
[71700,0.10613]
[71800,0.10613]
[71900,0.10638]
[72000,0.10638]
[72100,0.10613]
[72200,0.10613]
[72300,0.10613]
[72400,0.10613]
[72500,0.10613]
[72600,0.10589]
[72700,0.10589]
[72800,0.10589]
[72900,0.10589]
[73000,0.10589]
[73100,0.10564]
[73200,0.10564]
[73300,0.10564]
[73400,0.10564]
[73500,0.10589]
[73600,0.10589]
[73700,0.10613]
[73800,0.10613]
[73900,0.10613]
[74000,0.10613]
[74100,0.10613]
[74200,0.10613]
[74300,0.10613]
[74400,0.10613]
[74500,0.10613]
[74600,0.10638]
[74700,0.10613]
[74800,0.10613]
[74900,0.10613]
[75000,0.10613]
[75100,0.10613]
[75200,0.10613]
[75300,0.10613]
[75400,0.10613]
[75500,0.10589]
[75600,0.10589]
[75700,0.10589]
[75800,0.10613]
[75900,0.10613]
[76000,0.10613]
[76100,0.10613]
[76200,0.10613]
[76300,0.10613]
[76400,0.10613]
[76500,0.10613]
[76600,0.10638]
[76700,0.10638]
[76800,0.10638]
[76900,0.10638]
[77000,0.10638]
[77100,0.10638]
[77200,0.10613]
[77300,0.10613]
[77400,0.10613]
[77500,0.10613]
[77600,0.10613]
[77700,0.10613]
[77800,0.10613]
[77900,0.10589]
[78000,0.10564]
[78100,0.10564]
[78200,0.10564]
[78300,0.10564]
[78400,0.10564]
[78500,0.10564]
[78600,0.10589]
[78700,0.10589]
[78800,0.10589]
[78900,0.10589]
[79000,0.10589]
[79100,0.10589]
[79200,0.10589]
[79300,0.10589]
[79400,0.10564]
[79500,0.10589]
[79600,0.10589]
[79700,0.10613]
[79800,0.10589]
[79900,0.10589]
[80000,0.10589]
[80100,0.10589]
[80200,0.10589]
[80300,0.10589]
[80400,0.10613]
[80500,0.10589]
[80600,0.10589]
[80700,0.10589]
[80800,0.10589]
[80900,0.10613]
[81000,0.10613]
[81100,0.10613]
[81200,0.10613]
[81300,0.10613]
[81400,0.10613]
[81500,0.10613]
[81600,0.10613]
[81700,0.10613]
[81800,0.10613]
[81900,0.10613]
[82000,0.10613]
[82100,0.10613]
[82200,0.10613]
[82300,0.10613]
[82400,0.10613]
[82500,0.10613]
[82600,0.10613]
[82700,0.10613]
[82800,0.10613]
[82900,0.10613]
[83000,0.10613]
[83100,0.10613]
[83200,0.10613]
[83300,0.10589]
[83400,0.10589]
[83500,0.10589]
[83600,0.10589]
[83700,0.10564]
[83800,0.10589]
[83900,0.10589]
[84000,0.10613]
[84100,0.10613]
[84200,0.10613]
[84300,0.10638]
[84400,0.10638]
[84500,0.10638]
[84600,0.10638]
[84700,0.10638]
[84800,0.10638]
[84900,0.10638]
[85000,0.10638]
[85100,0.10638]
[85200,0.10638]
[85300,0.10638]
[85400,0.10638]
[85500,0.10638]
[85600,0.10638]
[85700,0.10638]
[85800,0.10638]
[85900,0.10638]
[86000,0.10613]
[86100,0.10613]
[86200,0.10613]
[86300,0.10613]
[86400,0.10613]
[86500,0.10613]
[86600,0.10613]
[86700,0.10638]
[86800,0.10638]
[86900,0.10638]
[87000,0.10638]
[87100,0.10638]
[87200,0.10638]
[87300,0.10638]
[87400,0.10662000000000001]
[87500,0.10662000000000001]
[87600,0.10662000000000001]
[87700,0.10662000000000001]
[87800,0.10638]
[87900,0.10638]
[88000,0.10613]
[88100,0.10613]
[88200,0.10613]
[88300,0.10613]
[88400,0.10613]
[88500,0.10613]
[88600,0.10613]
[88700,0.10613]
[88800,0.10613]
[88900,0.10613]
[89000,0.10613]
[89100,0.10613]
[89200,0.10613]
[89300,0.10613]
[89400,0.10613]
[89500,0.10589]
[89600,0.10589]
[89700,0.10613]
[89800,0.10613]
[89900,0.10613]
[90000,0.10613]
[90100,0.10613]
[90200,0.10613]